Workbook

Sheet Cost Estimate Year 1 (FY 26)
B7: A | C7: B | D7: C | E7: D | F7: E | G7: F | H7: G | I7: H | J7: J | K7: K | L7: L | M7: M | N7: N | O7: O
G8: D+E | H8: B*F | I8: ∑ G by event | K8: H*J
A10: REF | B10: Description | C10: Vendor's Rates | D10: Rate Unit | E10: Vendor Estimated Units Between Start and End Points | F10: Estimated Units Between CDTFA Locations and Unloading Time | G10: Total Estimated Units | H10: Estimated Cost | I10: Total Estimated Cost | J10: Estimated of Operations | K10: Total Estimated Cost | L10: Vendor Estimated Start Point | M10: CDTFA Estimated Start Point | N10: CDTFA Estimated End Point | O10: Vendor Estimated End Point
A11: 1 | B11: Armed Security 1 | D11: per hour | F11: 11 | G11: =+E11+F11 -> 11 | H11: =+(G11)*C11 -> 0 | I11: =SUM(H11:H14) -> 0 | J11: 12 | K11: =I11*J11 -> 0 | M11: Riverside | N11: Santa Fe Springs
A12: 2 | B12: Armed Security 2 | D12: per hour | F12: 11 | G12: =+E12+F12 -> 11 | H12: =+(G12)*C12 -> 0
A13: 3 | B13: Vehicle Charge | D13: per day | H13: =+(G13)*C13 -> 0
A14: 4 | B14: Mileage | D14: per mile | F14: 50 | G14: =+E14+F14 -> 50 | H14: =+(G14)*C14 -> 0
A15: 5 | B15: Armed Security 1 | D15: per hour | F15: 11 | G15: =+E15+F15 -> 11 | H15: =+(G15)*C15 -> 0 | I15: =SUM(H15:H18) -> 0 | J15: 10 | K15: =I15*J15 -> 0 | M15: San Bernardino | N15: Santa Fe Springs
A16: 6 | B16: Armed Security 2 | D16: per hour | F16: 11 | G16: =+E16+F16 -> 11 | H16: =+(G16)*C16 -> 0
A17: 7 | B17: Vehicle Charge | D17: per day | G17: =+E17+F17 -> 0 | H17: =+(G17)*C17 -> 0
A18: 8 | B18: Mileage | D18: per mile | F18: 50 | G18: =+E18+F18 -> 50 | H18: =+(G18)*C18 -> 0
A19: 9 | B19: Armed Security 1 | D19: per hour | F19: 11 | G19: =+E19+F19 -> 11 | H19: =+(G19)*C19 -> 0 | I19: =SUM(H19:H22) -> 0 | J19: 4 | K19: =I19*J19 -> 0 | M19: San Diego | N19: Santa Fe Springs
A20: 10 | B20: Armed Security 2 | D20: per hour | F20: 11 | G20: =+E20+F20 -> 11 | H20: =+(G20)*C20 -> 0
A21: 11 | B21: Vehicle Charge | D21: per day | G21: =+E21+F21 -> 0 | H21: =+(G21)*C21 -> 0
A22: 12 | B22: Mileage | D22: per mile | F22: 50 | G22: =+E22+F22 -> 50 | H22: =+(G22)*C22 -> 0
A23: 13 | B23: Armed Security 1 | D23: per hour | F23: 8 | G23: =+E23+F23 -> 8 | H23: =+(G23)*C23 -> 0 | I23: =SUM(H23:H26) -> 0 | J23: 20 | K23: =I23*J23 -> 0 | M23: Los Angeles | N23: Santa Fe Springs
A24: 14 | B24: Armed Security 2 | D24: per hour | F24: 8 | G24: =+E24+F24 -> 8 | H24: =+(G24)*C24 -> 0
A25: 15 | B25: Vehicle Charge | D25: per day | G25: =+E25+F25 -> 0 | H25: =+(G25)*C25 -> 0
A26: 16 | B26: Mileage | D26: per mile | F26: 50 | G26: =+E26+F26 -> 50 | H26: =+(G26)*C26 -> 0
A27: 17 | B27: Armed Security 1 | D27: per hour | F27: 5 | G27: =+E27+F27 -> 5 | H27: =+(G27)*C27 -> 0 | I27: =SUM(H27:H30) -> 0 | J27: 3 | K27: =I27*J27 -> 0 | M27: Santa Fe Springs | N27: Long Beach
A28: 18 | B28: Armed Security 2 | D28: per hour | F28: 5 | G28: =+E28+F28 -> 5 | H28: =+(G28)*C28 -> 0
A29: 19 | B29: Vehicle Charge | D29: per day | G29: =+E29+F29 -> 0 | H29: =+(G29)*C29 -> 0
A30: 20 | B30: Mileage | D30: per mile | F30: 0 | G30: =+E30+F30 -> 0 | H30: =+(G30)*C30 -> 0
A31: 21 | B31: Armed Security 1 | D31: per hour | F31: 9 | G31: =+E31+F31 -> 9 | H31: =+(G31)*C31 -> 0 | I31: =SUM(H31:H34) -> 0 | J31: 6 | K31: =I31*J31 -> 0 | M31: Bakersfield | N31: Santa Fe Springs
A32: 22 | B32: Armed Security 2 | D32: per hour | F32: 9 | G32: =+E32+F32 -> 9 | H32: =+(G32)*C32 -> 0
A33: 23 | B33: Vehicle Charge | D33: per day | G33: =+E33+F33 -> 0 | H33: =+(G33)*C33 -> 0
A34: 24 | B34: Mileage | D34: per mile | F34: 50 | G34: =+E34+F34 -> 50 | H34: =+(G34)*C34 -> 0
A35: 25 | B35: Armed Security 1 | D35: per hour | F35: 9 | G35: =+E35+F35 -> 9 | H35: =+(G35)*C35 -> 0 | I35: =SUM(H35:H38) -> 0 | J35: 2 | K35: =I35*J35 -> 0 | M35: Bakersfield | N35: West Sacramento
A36: 26 | B36: Armed Security 2 | D36: per hour | F36: 9 | G36: =+E36+F36 -> 9 | H36: =+(G36)*C36 -> 0
A37: 27 | B37: Vehicle Charge | D37: per day | G37: =+E37+F37 -> 0 | H37: =+(G37)*C37 -> 0
A38: 28 | B38: Mileage | D38: per mile | F38: 50 | G38: =+E38+F38 -> 50 | H38: =+(G38)*C38 -> 0
A39: 29 | B39: Armed Security 1 | D39: per hour | F39: 9 | G39: =+E39+F39 -> 9 | H39: =+(G39)*C39 -> 0 | I39: =SUM(H39:H42) -> 0 | J39: 6 | K39: =I39*J39 -> 0 | M39: Bakersfield | N39: Central Valley
A40: 30 | B40: Armed Security 2 | D40: per hour | F40: 9 | G40: =+E40+F40 -> 9 | H40: =+(G40)*C40 -> 0
A41: 31 | B41: Vehicle Charge | D41: per day | G41: =+E41+F41 -> 0 | H41: =+(G41)*C41 -> 0
A42: 32 | B42: Mileage | D42: per mile | F42: 50 | G42: =+E42+F42 -> 50 | H42: =+(G42)*C42 -> 0
A43: 33 | B43: Armed Security 1 | D43: per hour | F43: 5 | G43: =+E43+F43 -> 5 | H43: =+(G43)*C43 -> 0 | I43: =SUM(H43:H46) -> 0 | J43: 5 | K43: =I43*J43 -> 0 | M43: Lancaster | N43: Santa Fe Springs
A44: 34 | B44: Armed Security 2 | D44: per hour | F44: 5 | G44: =+E44+F44 -> 5 | H44: =+(G44)*C44 -> 0
A45: 35 | B45: Vehicle Charge | D45: per day | G45: =+E45+F45 -> 0 | H45: =+(G45)*C45 -> 0
A46: 36 | B46: Mileage | D46: per mile | F46: 50 | G46: =+E46+F46 -> 50 | H46: =+(G46)*C46 -> 0
A47: 37 | B47: Armed Security 1 | D47: per hour | F47: 5 | G47: =+E47+F47 -> 5 | H47: =+(G47)*C47 -> 0 | I47: =SUM(H47:H50) -> 0 | J47: 5 | K47: =I47*J47 -> 0 | M47: Lancaster | N47: West Sacramento
A48: 38 | B48: Armed Security 2 | D48: per hour | F48: 5 | G48: =+E48+F48 -> 5 | H48: =+(G48)*C48 -> 0
A49: 39 | B49: Vehicle Charge | D49: per day | G49: =+E49+F49 -> 0 | H49: =+(G49)*C49 -> 0
A50: 40 | B50: Mileage | D50: per mile | F50: 50 | G50: =+E50+F50 -> 50 | H50: =+(G50)*C50 -> 0
A51: 41 | B51: Armed Security 1 | D51: per hour | F51: 9 | G51: =+E51+F51 -> 9 | H51: =+(G51)*C51 -> 0 | I51: =SUM(H51:H54) -> 0 | J51: 10 | K51: =I51*J51 -> 0 | M51: Fresno | N51: West Sacramento
A52: 42 | B52: Armed Security 2 | D52: per hour | F52: 9 | G52: =+E52+F52 -> 9 | H52: =+(G52)*C52 -> 0
A53: 43 | B53: Vehicle Charge | D53: per day | G53: =+E53+F53 -> 0 | H53: =+(G53)*C53 -> 0
A54: 44 | B54: Mileage | D54: per mile | F54: 50 | G54: =+E54+F54 -> 50 | H54: =+(G54)*C54 -> 0
A55: 45 | B55: Armed Security 1 | D55: per hour | F55: 9 | G55: =+E55+F55 -> 9 | H55: =+(G55)*C55 -> 0 | I55: =SUM(H55:H58) -> 0 | J55: 10 | K55: =I55*J55 -> 0 | M55: Fresno | N55: Central Valley
A56: 46 | B56: Armed Security 2 | D56: per hour | F56: 9 | G56: =+E56+F56 -> 9 | H56: =+(G56)*C56 -> 0
A57: 47 | B57: Vehicle Charge | D57: per day | G57: =+E57+F57 -> 0 | H57: =+(G57)*C57 -> 0
A58: 48 | B58: Mileage | D58: per mile | F58: 50 | G58: =+E58+F58 -> 50 | H58: =+(G58)*C58 -> 0
A59: 49 | B59: Armed Security 1 | D59: per hour | F59: 9 | G59: =+E59+F59 -> 9 | H59: =+(G59)*C59 -> 0 | I59: =SUM(H59:H62) -> 0 | J59: 2 | K59: =I59*J59 -> 0 | M59: San Jose | N59: West Sacramento
A60: 50 | B60: Armed Security 2 | D60: per hour | F60: 9 | G60: =+E60+F60 -> 9 | H60: =+(G60)*C60 -> 0
A61: 51 | B61: Vehicle Charge | D61: per day | G61: =+E61+F61 -> 0 | H61: =+(G61)*C61 -> 0
A62: 52 | B62: Mileage | D62: per mile | F62: 50 | G62: =+E62+F62 -> 50 | H62: =+(G62)*C62 -> 0
A63: 53 | B63: Armed Security 1 | D63: per hour | F63: 9 | G63: =+E63+F63 -> 9 | H63: =+(G63)*C63 -> 0 | I63: =SUM(H63:H66) -> 0 | J63: 2 | K63: =I63*J63 -> 0 | M63: Oakland | N63: West Sacramento
A64: 54 | B64: Armed Security 2 | D64: per hour | F64: 9 | G64: =+E64+F64 -> 9 | H64: =+(G64)*C64 -> 0
A65: 55 | B65: Vehicle Charge | D65: per day | G65: =+E65+F65 -> 0 | H65: =+(G65)*C65 -> 0
A66: 56 | B66: Mileage | D66: per mile | F66: 50 | G66: =+E66+F66 -> 50 | H66: =+(G66)*C66 -> 0
A67: 57 | B67: Armed Security 1 | D67: per hour | F67: 9 | G67: =+E67+F67 -> 9 | H67: =+(G67)*C67 -> 0 | I67: =SUM(H67:H70) -> 0 | J67: 8 | K67: =I67*J67 -> 0 | M67: Sacramento | N67: West Sacramento
A68: 58 | B68: Armed Security 2 | D68: per hour | F68: 9 | G68: =+E68+F68 -> 9 | H68: =+(G68)*C68 -> 0
A69: 59 | B69: Vehicle Charge | D69: per day | G69: =+E69+F69 -> 0 | H69: =+(G69)*C69 -> 0
A70: 60 | B70: Mileage | D70: per mile | F70: 50 | G70: =+E70+F70 -> 50 | H70: =+(G70)*C70 -> 0
A71: 61 | B71: Armed Security 1 | D71: per hour | F71: 5 | G71: =+E71+F71 -> 5 | H71: =+(G71)*C71 -> 0 | I71: =SUM(H71:H74) -> 0 | J71: 3 | K71: =I71*J71 -> 0 | M71: West Sacramento | N71: Woodland
A72: 62 | B72: Armed Security 2 | D72: per hour | F72: 5 | G72: =+E72+F72 -> 5 | H72: =+(G72)*C72 -> 0
A73: 63 | B73: Vehicle Charge | D73: per day | G73: =+E73+F73 -> 0 | H73: =+(G73)*C73 -> 0
A74: 64 | B74: Mileage | D74: per mile | F74: 0 | G74: =+E74+F74 -> 0 | H74: =+(G74)*C74 -> 0
A75: 65 | B75: Armed Security 1 | D75: per hour | F75: 5 | G75: =+E75+F75 -> 5 | H75: =+(G75)*C75 -> 0 | I75: =SUM(H75:H78) -> 0 | J75: 3 | K75: =I75*J75 -> 0 | M75: West Sacramento | N75: Crows Landing
A76: 66 | B76: Armed Security 2 | D76: per hour | F76: 5 | G76: =+E76+F76 -> 5 | H76: =+(G76)*C76 -> 0
A77: 67 | B77: Vehicle Charge | D77: per day | G77: =+E77+F77 -> 0 | H77: =+(G77)*C77 -> 0
A78: 68 | B78: Mileage | D78: per mile | F78: 0 | G78: =+E78+F78 -> 0 | H78: =+(G78)*C78 -> 0
A79: 69 | B79: Armed Security 1 | D79: per hour | F79: 9 | G79: =+E79+F79 -> 9 | H79: =+(G79)*C79 -> 0 | I79: =SUM(H79:H82) -> 0 | J79: 3 | K79: =I79*J79 -> 0 | M79: Redding | N79: West Sacramento
A80: 70 | B80: Armed Security 2 | D80: per hour | F80: 9 | G80: =+E80+F80 -> 9 | H80: =+(G80)*C80 -> 0
A81: 71 | B81: Vehicle Charge | D81: per day | G81: =+E81+F81 -> 0 | H81: =+(G81)*C81 -> 0
A82: 72 | B82: Mileage | D82: per mile | F82: 50 | G82: =+E82+F82 -> 50 | H82: =+(G82)*C82 -> 0

Sheet Est. FY 26
J4: HIDE THESE COLUMNS BEFORE SENDING OUT, AND PROTECT SHEET
B7: A | C7: B | D7: C | E7: D | F7: E | G7: F | H7: G
J8: Event Estimates
A10: REF | B10: Vendor Estimated Start Point | C10: CDTFA Start Point | D10: CDTFA End Point | E10: Vendor Estimated End Point | F10: Event Cost Estimate | G10: Estimated Number of Operations | H10: Total Cost Estimate | J10: July | K10: Aug | L10: Sept | M10: Oct | N10: Nov | O10: Dec | P10: Jan | Q10: Feb | R10: Mar | S10: Apr | T10: May | U10: Jun | V10: LA area 50% | W10: Total
A11: 1 | B11: =+'Cost Estimate Year 1 (FY 26)'!L11 -> 0 | C11: Riverside | D11: Santa Fe Springs | E11: =+'Cost Estimate Year 1 (FY 26)'!O11 -> 0 | F11: =+'Cost Estimate Year 1 (FY 26)'!I11 -> 0 | G11: 12 | H11: =+F11*G11 -> 0 | J11: 1 | K11: 1 | L11: 1 | M11: 1 | N11: 1 | O11: 1 | P11: 1 | Q11: 1 | R11: 1 | S11: 1 | T11: 1 | U11: 1 | W11: =SUM(J11:V11) -> 12
A12: 2 | B12: =+'Cost Estimate Year 1 (FY 26)'!L15 -> 0 | C12: San Bernardino | D12: Santa Fe Springs | E12: =+'Cost Estimate Year 1 (FY 26)'!O15 -> 0 | F12: =+'Cost Estimate Year 1 (FY 26)'!I15 -> 0 | G12: 10 | H12: =+F12*G12 -> 0 | J12: 2 | K12: 2 | L12: 1 | M12: 2 | N12: 2 | O12: 1 | P12: 2 | Q12: 2 | R12: 1 | S12: 2 | T12: 2 | U12: 1 | W12: =SUM(J12:V12) -> 20
A13: 3 | B13: =+'Cost Estimate Year 1 (FY 26)'!L19 -> 0 | C13: San Diego | D13: Santa Fe Springs | E13: =+'Cost Estimate Year 1 (FY 26)'!O19 -> 0 | F13: =+'Cost Estimate Year 1 (FY 26)'!I19 -> 0 | G13: 4 | H13: =+F13*G13 -> 0 | K13: 1 | M13: 1 | O13: 1 | Q13: 1 | S13: 1 | U13: 1 | W13: =SUM(J13:V13) -> 6
A14: 4 | B14: =+'Cost Estimate Year 1 (FY 26)'!L23 -> 0 | C14: Los Angeles | D14: Santa Fe Springs | E14: =+'Cost Estimate Year 1 (FY 26)'!O23 -> 0 | F14: =+'Cost Estimate Year 1 (FY 26)'!I23 -> 0 | G14: 20 | H14: =+F14*G14 -> 0 | J14: 3 | K14: 3 | L14: 3 | M14: 3 | N14: 3 | O14: 3 | P14: 3 | Q14: 3 | R14: 3 | S14: 3 | T14: 3 | U14: 3 | V14: =ROUND(-0.5*SUM(J14:U14),0) -> -18 | W14: =SUM(J14:V14) -> 18
A15: 5 | B15: =+'Cost Estimate Year 1 (FY 26)'!L27 -> 0 | C15: Santa Fe Springs | D15: Long Beach | E15: =+'Cost Estimate Year 1 (FY 26)'!O27 -> 0 | F15: =+'Cost Estimate Year 1 (FY 26)'!I27 -> 0 | G15: 3 | H15: =+F15*G15 -> 0 | L15: 1 | Q15: 1 | U15: 1 | W15: =SUM(J15:V15) -> 3
A16: 6 | B16: =+'Cost Estimate Year 1 (FY 26)'!L31 -> 0 | C16: Bakersfield | D16: Santa Fe Springs | E16: =+'Cost Estimate Year 1 (FY 26)'!O31 -> 0 | F16: =+'Cost Estimate Year 1 (FY 26)'!I31 -> 0 | G16: 6 | H16: =+F16*G16 -> 0 | J16: 1 | K16: 1 | L16: 0 | M16: 1 | N16: 1 | O16: 0 | P16: 0 | Q16: 0 | R16: 0 | S16: 1 | T16: 1 | U16: 0 | W16: =SUM(J16:V16) -> 6
A17: 7 | B17: =+'Cost Estimate Year 1 (FY 26)'!L35 -> 0 | C17: Bakersfield | D17: West Sacramento | E17: =+'Cost Estimate Year 1 (FY 26)'!O35 -> 0 | F17: =+'Cost Estimate Year 1 (FY 26)'!I35 -> 0 | G17: 2 | H17: =+F17*G17 -> 0
A18: 8 | B18: =+'Cost Estimate Year 1 (FY 26)'!L39 -> 0 | C18: Bakersfield | D18: Central Valley | E18: =+'Cost Estimate Year 1 (FY 26)'!O39 -> 0 | F18: =+'Cost Estimate Year 1 (FY 26)'!I39 -> 0 | G18: 6 | H18: =+F18*G18 -> 0
A19: 9 | B19: =+'Cost Estimate Year 1 (FY 26)'!L43 -> 0 | C19: Lancaster | D19: Santa Fe Springs | E19: =+'Cost Estimate Year 1 (FY 26)'!O43 -> 0 | F19: =+'Cost Estimate Year 1 (FY 26)'!I43 -> 0 | G19: 5 | H19: =+F19*G19 -> 0
A20: 10 | B20: =+'Cost Estimate Year 1 (FY 26)'!L47 -> 0 | C20: Lancaster | D20: West Sacramento | E20: =+'Cost Estimate Year 1 (FY 26)'!O47 -> 0 | F20: =+'Cost Estimate Year 1 (FY 26)'!I47 -> 0 | G20: 5 | H20: =+F20*G20 -> 0 | P20: 1 | Q20: 1 | W20: =SUM(J20:V20) -> 2
A21: 11 | B21: =+'Cost Estimate Year 1 (FY 26)'!L51 -> 0 | C21: Fresno | D21: West Sacramento | E21: =+'Cost Estimate Year 1 (FY 26)'!O51 -> 0 | F21: =+'Cost Estimate Year 1 (FY 26)'!I51 -> 0 | G21: 10
A22: 12 | B22: =+'Cost Estimate Year 1 (FY 26)'!L51 -> 0 | C22: Fresno | D22: Central valley | E22: =+'Cost Estimate Year 1 (FY 26)'!O51 -> 0 | F22: =+'Cost Estimate Year 1 (FY 26)'!I55 -> 0 | G22: 10 | H22: =+F22*G22 -> 0 | J22: 1 | K22: 1 | L22: 1 | M22: 1 | N22: 1 | O22: 1 | P22: 1 | Q22: 1 | R22: 1 | S22: 1 | T22: 1 | U22: 1 | W22: =SUM(J22:V22) -> 12
A23: 13 | B23: =+'Cost Estimate Year 1 (FY 26)'!L59 -> 0 | C23: San Jose | D23: West Sacramento | E23: =+'Cost Estimate Year 1 (FY 26)'!O59 -> 0 | F23: =+'Cost Estimate Year 1 (FY 26)'!I59 -> 0 | G23: 2
A24: 14 | B24: =+'Cost Estimate Year 1 (FY 26)'!L63 -> 0 | C24: Oakland | D24: West Sacramento | E24: =+'Cost Estimate Year 1 (FY 26)'!O59 -> 0 | F24: =+'Cost Estimate Year 1 (FY 26)'!I63 -> 0 | G24: 2 | H24: =+F24*G24 -> 0 | L24: 1 | O24: 1 | R24: 1 | U24: 1 | W24: =SUM(J24:V24) -> 4
A25: 15 | B25: =+'Cost Estimate Year 1 (FY 26)'!L67 -> 0 | C25: Sacramento | D25: West Sacramento | E25: =+'Cost Estimate Year 1 (FY 26)'!O67 -> 0 | F25: =+'Cost Estimate Year 1 (FY 26)'!I67 -> 0 | G25: 8 | H25: =+F25*G25 -> 0 | J25: 1 | K25: 1 | M25: 1 | N25: 1 | P25: 1 | Q25: 1 | S25: 1 | T25: 1 | W25: =SUM(J25:V25) -> 8
A26: 16 | B26: =+'Cost Estimate Year 1 (FY 26)'!L71 -> 0 | C26: West Sacramento | D26: Woodland | E26: =+'Cost Estimate Year 1 (FY 26)'!O71 -> 0 | F26: =+'Cost Estimate Year 1 (FY 26)'!I71 -> 0 | G26: 3 | H26: =+F26*G26 -> 0 | L26: 1 | Q26: 1 | U26: 1 | W26: =SUM(J26:V26) -> 3
A27: 17 | B27: =+'Cost Estimate Year 1 (FY 26)'!L75 -> 0 | C27: West Sacramento | D27: Crow's Landing | E27: =+'Cost Estimate Year 1 (FY 26)'!O75 -> 0 | F27: =+'Cost Estimate Year 1 (FY 26)'!I75 -> 0 | G27: 3 | H27: =+F27*G27 -> 0 | L27: 1 | Q27: 1 | U27: 1 | W27: =SUM(J27:V27) -> 3
A28: 18 | B28: =+'Cost Estimate Year 1 (FY 26)'!L79 -> 0 | C28: Redding | D28: West Sacramento | E28: =+'Cost Estimate Year 1 (FY 26)'!O79 -> 0 | F28: =+'Cost Estimate Year 1 (FY 26)'!I79 -> 0 | G28: 3 | H28: =+F28*G28 -> 0 | L28: 1 | R28: 1 | W28: =SUM(J28:V28) -> 2
B31: Estimated Total | H31: =SUM(H11:H30) -> 0

Sheet Cost Estimate Year 2 (FY 27)
B7: A | C7: B | D7: C | E7: D | F7: E | G7: F | H7: G | I7: H | J7: J | K7: K | L7: L | M7: M | N7: N | O7: O
G8: D+E | H8: B*F | I8: ∑ G by event | K8: H*J
A10: REF | B10: Description | C10: Vendor's Rates | D10: Rate Unit | E10: Vendor Estimated Units Between Start and End Points | F10: Estimated Units Between CDTFA Locations and Unloading Time | G10: Total Estimated Units | H10: Estimated Cost | I10: Total Estimated Cost | J10: Estimated of Operations | K10: Total Estimated Cost | L10: Vendor Estimated Start Point | M10: CDTFA Estimated Start Point | N10: CDTFA Estimated End Point | O10: Vendor Estimated End Point
A11: 1 | B11: Armed Security 1 | D11: per hour | F11: 11 | G11: =+E11+F11 -> 11 | H11: =+(G11)*C11 -> 0 | I11: =SUM(H11:H14) -> 0 | J11: 12 | K11: =I11*J11 -> 0 | L11: 5 | M11: Riverside | N11: Santa Fe Springs | O11: 1
A12: 2 | B12: Armed Security 2 | D12: per hour | F12: 11 | G12: =+E12+F12 -> 11 | H12: =+(G12)*C12 -> 0
A13: 3 | B13: Vehicle Charge | D13: per day | H13: =+(G13)*C13 -> 0
A14: 4 | B14: Mileage | D14: per mile | F14: 50 | G14: =+E14+F14 -> 50 | H14: =+(G14)*C14 -> 0
A15: 5 | B15: Armed Security 1 | D15: per hour | F15: 11 | G15: =+E15+F15 -> 11 | H15: =+(G15)*C15 -> 0 | I15: =SUM(H15:H18) -> 0 | J15: 10 | K15: =I15*J15 -> 0 | M15: San Bernardino | N15: Santa Fe Springs
A16: 6 | B16: Armed Security 2 | D16: per hour | F16: 11 | G16: =+E16+F16 -> 11 | H16: =+(G16)*C16 -> 0
A17: 7 | B17: Vehicle Charge | D17: per day | G17: =+E17+F17 -> 0 | H17: =+(G17)*C17 -> 0
A18: 8 | B18: Mileage | D18: per mile | F18: 50 | G18: =+E18+F18 -> 50 | H18: =+(G18)*C18 -> 0
A19: 9 | B19: Armed Security 1 | D19: per hour | F19: 11 | G19: =+E19+F19 -> 11 | H19: =+(G19)*C19 -> 0 | I19: =SUM(H19:H22) -> 0 | J19: 4 | K19: =I19*J19 -> 0 | M19: San Diego | N19: Santa Fe Springs
A20: 10 | B20: Armed Security 2 | D20: per hour | F20: 11 | G20: =+E20+F20 -> 11 | H20: =+(G20)*C20 -> 0
A21: 11 | B21: Vehicle Charge | D21: per day | G21: =+E21+F21 -> 0 | H21: =+(G21)*C21 -> 0
A22: 12 | B22: Mileage | D22: per mile | F22: 50 | G22: =+E22+F22 -> 50 | H22: =+(G22)*C22 -> 0
A23: 13 | B23: Armed Security 1 | D23: per hour | F23: 8 | G23: =+E23+F23 -> 8 | H23: =+(G23)*C23 -> 0 | I23: =SUM(H23:H26) -> 0 | J23: 20 | K23: =I23*J23 -> 0 | M23: Los Angeles | N23: Santa Fe Springs
A24: 14 | B24: Armed Security 2 | D24: per hour | F24: 8 | G24: =+E24+F24 -> 8 | H24: =+(G24)*C24 -> 0
A25: 15 | B25: Vehicle Charge | D25: per day | G25: =+E25+F25 -> 0 | H25: =+(G25)*C25 -> 0
A26: 16 | B26: Mileage | D26: per mile | F26: 50 | G26: =+E26+F26 -> 50 | H26: =+(G26)*C26 -> 0
A27: 17 | B27: Armed Security 1 | D27: per hour | F27: 5 | G27: =+E27+F27 -> 5 | H27: =+(G27)*C27 -> 0 | I27: =SUM(H27:H30) -> 0 | J27: 3 | K27: =I27*J27 -> 0 | M27: Santa Fe Springs | N27: Long Beach
A28: 18 | B28: Armed Security 2 | D28: per hour | F28: 5 | G28: =+E28+F28 -> 5 | H28: =+(G28)*C28 -> 0
A29: 19 | B29: Vehicle Charge | D29: per day | G29: =+E29+F29 -> 0 | H29: =+(G29)*C29 -> 0
A30: 20 | B30: Mileage | D30: per mile | F30: 0 | G30: =+E30+F30 -> 0 | H30: =+(G30)*C30 -> 0
A31: 21 | B31: Armed Security 1 | D31: per hour | F31: 9 | G31: =+E31+F31 -> 9 | H31: =+(G31)*C31 -> 0 | I31: =SUM(H31:H34) -> 0 | J31: 6 | K31: =I31*J31 -> 0 | M31: Bakersfield | N31: Santa Fe Springs
A32: 22 | B32: Armed Security 2 | D32: per hour | F32: 9 | G32: =+E32+F32 -> 9 | H32: =+(G32)*C32 -> 0
A33: 23 | B33: Vehicle Charge | D33: per day | G33: =+E33+F33 -> 0 | H33: =+(G33)*C33 -> 0
A34: 24 | B34: Mileage | D34: per mile | F34: 50 | G34: =+E34+F34 -> 50 | H34: =+(G34)*C34 -> 0
A35: 25 | B35: Armed Security 1 | D35: per hour | F35: 9 | G35: =+E35+F35 -> 9 | H35: =+(G35)*C35 -> 0 | I35: =SUM(H35:H38) -> 0 | J35: 2 | K35: =I35*J35 -> 0 | M35: Bakersfield | N35: West Sacramento
A36: 26 | B36: Armed Security 2 | D36: per hour | F36: 9 | G36: =+E36+F36 -> 9 | H36: =+(G36)*C36 -> 0
A37: 27 | B37: Vehicle Charge | D37: per day | G37: =+E37+F37 -> 0 | H37: =+(G37)*C37 -> 0
A38: 28 | B38: Mileage | D38: per mile | F38: 50 | G38: =+E38+F38 -> 50 | H38: =+(G38)*C38 -> 0
A39: 29 | B39: Armed Security 1 | D39: per hour | F39: 9 | G39: =+E39+F39 -> 9 | H39: =+(G39)*C39 -> 0 | I39: =SUM(H39:H42) -> 0 | J39: 6 | K39: =I39*J39 -> 0 | M39: Bakersfield | N39: Central Valley
A40: 30 | B40: Armed Security 2 | D40: per hour | F40: 9 | G40: =+E40+F40 -> 9 | H40: =+(G40)*C40 -> 0
A41: 31 | B41: Vehicle Charge | D41: per day | G41: =+E41+F41 -> 0 | H41: =+(G41)*C41 -> 0
A42: 32 | B42: Mileage | D42: per mile | F42: 50 | G42: =+E42+F42 -> 50 | H42: =+(G42)*C42 -> 0
A43: 33 | B43: Armed Security 1 | D43: per hour | F43: 5 | G43: =+E43+F43 -> 5 | H43: =+(G43)*C43 -> 0 | I43: =SUM(H43:H46) -> 0 | J43: 5 | K43: =I43*J43 -> 0 | M43: Lancaster | N43: Santa Fe Springs
A44: 34 | B44: Armed Security 2 | D44: per hour | F44: 5 | G44: =+E44+F44 -> 5 | H44: =+(G44)*C44 -> 0
A45: 35 | B45: Vehicle Charge | D45: per day | G45: =+E45+F45 -> 0 | H45: =+(G45)*C45 -> 0
A46: 36 | B46: Mileage | D46: per mile | F46: 50 | G46: =+E46+F46 -> 50 | H46: =+(G46)*C46 -> 0
A47: 37 | B47: Armed Security 1 | D47: per hour | F47: 5 | G47: =+E47+F47 -> 5 | H47: =+(G47)*C47 -> 0 | I47: =SUM(H47:H50) -> 0 | J47: 5 | K47: =I47*J47 -> 0 | M47: Lancaster | N47: West Sacramento
A48: 38 | B48: Armed Security 2 | D48: per hour | F48: 5 | G48: =+E48+F48 -> 5 | H48: =+(G48)*C48 -> 0
A49: 39 | B49: Vehicle Charge | D49: per day | G49: =+E49+F49 -> 0 | H49: =+(G49)*C49 -> 0
A50: 40 | B50: Mileage | D50: per mile | F50: 50 | G50: =+E50+F50 -> 50 | H50: =+(G50)*C50 -> 0
A51: 41 | B51: Armed Security 1 | D51: per hour | F51: 9 | G51: =+E51+F51 -> 9 | H51: =+(G51)*C51 -> 0 | I51: =SUM(H51:H54) -> 0 | J51: 10 | K51: =I51*J51 -> 0 | M51: Fresno | N51: West Sacramento
A52: 42 | B52: Armed Security 2 | D52: per hour | F52: 9 | G52: =+E52+F52 -> 9 | H52: =+(G52)*C52 -> 0
A53: 43 | B53: Vehicle Charge | D53: per day | G53: =+E53+F53 -> 0 | H53: =+(G53)*C53 -> 0
A54: 44 | B54: Mileage | D54: per mile | F54: 50 | G54: =+E54+F54 -> 50 | H54: =+(G54)*C54 -> 0
A55: 45 | B55: Armed Security 1 | D55: per hour | F55: 9 | G55: =+E55+F55 -> 9 | H55: =+(G55)*C55 -> 0 | I55: =SUM(H55:H58) -> 0 | J55: 10 | K55: =I55*J55 -> 0 | M55: Fresno | N55: Central Valley
A56: 46 | B56: Armed Security 2 | D56: per hour | F56: 9 | G56: =+E56+F56 -> 9 | H56: =+(G56)*C56 -> 0
A57: 47 | B57: Vehicle Charge | D57: per day | G57: =+E57+F57 -> 0 | H57: =+(G57)*C57 -> 0
A58: 48 | B58: Mileage | D58: per mile | F58: 50 | G58: =+E58+F58 -> 50 | H58: =+(G58)*C58 -> 0
A59: 49 | B59: Armed Security 1 | D59: per hour | F59: 9 | G59: =+E59+F59 -> 9 | H59: =+(G59)*C59 -> 0 | I59: =SUM(H59:H62) -> 0 | J59: 2 | K59: =I59*J59 -> 0 | M59: San Jose | N59: West Sacramento
A60: 50 | B60: Armed Security 2 | D60: per hour | F60: 9 | G60: =+E60+F60 -> 9 | H60: =+(G60)*C60 -> 0
A61: 51 | B61: Vehicle Charge | D61: per day | G61: =+E61+F61 -> 0 | H61: =+(G61)*C61 -> 0
A62: 52 | B62: Mileage | D62: per mile | F62: 50 | G62: =+E62+F62 -> 50 | H62: =+(G62)*C62 -> 0
A63: 53 | B63: Armed Security 1 | D63: per hour | F63: 9 | G63: =+E63+F63 -> 9 | H63: =+(G63)*C63 -> 0 | I63: =SUM(H63:H66) -> 0 | J63: 2 | K63: =I63*J63 -> 0 | M63: Oakland | N63: West Sacramento
A64: 54 | B64: Armed Security 2 | D64: per hour | F64: 9 | G64: =+E64+F64 -> 9 | H64: =+(G64)*C64 -> 0
A65: 55 | B65: Vehicle Charge | D65: per day | G65: =+E65+F65 -> 0 | H65: =+(G65)*C65 -> 0
A66: 56 | B66: Mileage | D66: per mile | F66: 50 | G66: =+E66+F66 -> 50 | H66: =+(G66)*C66 -> 0
A67: 57 | B67: Armed Security 1 | D67: per hour | F67: 9 | G67: =+E67+F67 -> 9 | H67: =+(G67)*C67 -> 0 | I67: =SUM(H67:H70) -> 0 | J67: 8 | K67: =I67*J67 -> 0 | M67: Sacramento | N67: West Sacramento
A68: 58 | B68: Armed Security 2 | D68: per hour | F68: 9 | G68: =+E68+F68 -> 9 | H68: =+(G68)*C68 -> 0
A69: 59 | B69: Vehicle Charge | D69: per day | G69: =+E69+F69 -> 0 | H69: =+(G69)*C69 -> 0
A70: 60 | B70: Mileage | D70: per mile | F70: 50 | G70: =+E70+F70 -> 50 | H70: =+(G70)*C70 -> 0
A71: 61 | B71: Armed Security 1 | D71: per hour | F71: 5 | G71: =+E71+F71 -> 5 | H71: =+(G71)*C71 -> 0 | I71: =SUM(H71:H74) -> 0 | J71: 3 | K71: =I71*J71 -> 0 | M71: West Sacramento | N71: Woodland
A72: 62 | B72: Armed Security 2 | D72: per hour | F72: 5 | G72: =+E72+F72 -> 5 | H72: =+(G72)*C72 -> 0
A73: 63 | B73: Vehicle Charge | D73: per day | G73: =+E73+F73 -> 0 | H73: =+(G73)*C73 -> 0
A74: 64 | B74: Mileage | D74: per mile | F74: 0 | G74: =+E74+F74 -> 0 | H74: =+(G74)*C74 -> 0
A75: 65 | B75: Armed Security 1 | D75: per hour | F75: 5 | G75: =+E75+F75 -> 5 | H75: =+(G75)*C75 -> 0 | I75: =SUM(H75:H78) -> 0 | J75: 3 | K75: =I75*J75 -> 0 | M75: West Sacramento | N75: Crows Landing
A76: 66 | B76: Armed Security 2 | D76: per hour | F76: 5 | G76: =+E76+F76 -> 5 | H76: =+(G76)*C76 -> 0
A77: 67 | B77: Vehicle Charge | D77: per day | G77: =+E77+F77 -> 0 | H77: =+(G77)*C77 -> 0
A78: 68 | B78: Mileage | D78: per mile | F78: 0 | G78: =+E78+F78 -> 0 | H78: =+(G78)*C78 -> 0
A79: 69 | B79: Armed Security 1 | D79: per hour | F79: 9 | G79: =+E79+F79 -> 9 | H79: =+(G79)*C79 -> 0 | I79: =SUM(H79:H82) -> 0 | J79: 3 | K79: =I79*J79 -> 0 | M79: Redding | N79: West Sacramento
A80: 70 | B80: Armed Security 2 | D80: per hour | F80: 9 | G80: =+E80+F80 -> 9 | H80: =+(G80)*C80 -> 0
A81: 71 | B81: Vehicle Charge | D81: per day | G81: =+E81+F81 -> 0 | H81: =+(G81)*C81 -> 0
A82: 72 | B82: Mileage | D82: per mile | F82: 50 | G82: =+E82+F82 -> 50 | H82: =+(G82)*C82 -> 0

Sheet Est. FY 27
J4: HIDE THESE COLUMNS BEFORE SENDING OUT, AND PROTECT SHEET
B7: A | C7: B | D7: C | E7: D | F7: E | G7: F | H7: G
J8: Event Estimates
A10: REF | B10: Vendor Estimated Start Point | C10: CDTFA Start Point | D10: CDTFA End Point | E10: Vendor Estimated End Point | F10: Event Cost Estimate | G10: Estimated Number of Operations | H10: Total Cost Estimate | J10: July | K10: Aug | L10: Sept | M10: Oct | N10: Nov | O10: Dec | P10: Jan | Q10: Feb | R10: Mar | S10: Apr | T10: May | U10: Jun | V10: LA area 50% | W10: Total
A11: 1 | B11: =+'Cost Estimate Year 2 (FY 27)'!L11 -> 5 | C11: Riverside | D11: Santa Fe Springs | E11: =+'Cost Estimate Year 2 (FY 27)'!O11 -> 1 | F11: =+'Cost Estimate Year 2 (FY 27)'!I11 -> 0 | G11: 12 | H11: =+F11*G11 -> 0 | J11: 1 | K11: 1 | L11: 1 | M11: 1 | N11: 1 | O11: 1 | P11: 1 | Q11: 1 | R11: 1 | S11: 1 | T11: 1 | U11: 1 | W11: =SUM(J11:V11) -> 12
A12: 2 | B12: =+'Cost Estimate Year 2 (FY 27)'!L15 -> 0 | C12: San Bernardino | D12: Santa Fe Springs | E12: =+'Cost Estimate Year 2 (FY 27)'!O15 -> 0 | F12: =+'Cost Estimate Year 2 (FY 27)'!I15 -> 0 | G12: 10 | H12: =+F12*G12 -> 0 | J12: 2 | K12: 2 | L12: 1 | M12: 2 | N12: 2 | O12: 1 | P12: 2 | Q12: 2 | R12: 1 | S12: 2 | T12: 2 | U12: 1 | W12: =SUM(J12:V12) -> 20
A13: 3 | B13: =+'Cost Estimate Year 2 (FY 27)'!L19 -> 0 | C13: San Diego | D13: Santa Fe Springs | E13: =+'Cost Estimate Year 2 (FY 27)'!O19 -> 0 | F13: =+'Cost Estimate Year 2 (FY 27)'!I19 -> 0 | G13: 4 | H13: =+F13*G13 -> 0 | K13: 1 | M13: 1 | O13: 1 | Q13: 1 | S13: 1 | U13: 1 | W13: =SUM(J13:V13) -> 6
A14: 4 | B14: =+'Cost Estimate Year 2 (FY 27)'!L23 -> 0 | C14: Los Angeles | D14: Santa Fe Springs | E14: =+'Cost Estimate Year 2 (FY 27)'!O23 -> 0 | F14: =+'Cost Estimate Year 2 (FY 27)'!I23 -> 0 | G14: 20 | H14: =+F14*G14 -> 0 | J14: 3 | K14: 3 | L14: 3 | M14: 3 | N14: 3 | O14: 3 | P14: 3 | Q14: 3 | R14: 3 | S14: 3 | T14: 3 | U14: 3 | V14: =ROUND(-0.5*SUM(J14:U14),0) -> -18 | W14: =SUM(J14:V14) -> 18
A15: 5 | B15: =+'Cost Estimate Year 2 (FY 27)'!L27 -> 0 | C15: Santa Fe Springs | D15: Long Beach | E15: =+'Cost Estimate Year 2 (FY 27)'!O27 -> 0 | F15: =+'Cost Estimate Year 2 (FY 27)'!I27 -> 0 | G15: 3 | H15: =+F15*G15 -> 0 | L15: 1 | Q15: 1 | U15: 1 | W15: =SUM(J15:V15) -> 3
A16: 6 | B16: =+'Cost Estimate Year 2 (FY 27)'!L31 -> 0 | C16: Bakersfield | D16: Santa Fe Springs | E16: =+'Cost Estimate Year 2 (FY 27)'!O31 -> 0 | F16: =+'Cost Estimate Year 2 (FY 27)'!I31 -> 0 | G16: 6 | H16: =+F16*G16 -> 0 | J16: 1 | K16: 1 | L16: 0 | M16: 1 | N16: 1 | O16: 0 | P16: 0 | Q16: 0 | R16: 0 | S16: 1 | T16: 1 | U16: 0 | W16: =SUM(J16:V16) -> 6
A17: 7 | B17: =+'Cost Estimate Year 2 (FY 27)'!L39 -> 0 | C17: Bakersfield | D17: West Sacramento | E17: =+'Cost Estimate Year 2 (FY 27)'!O35 -> 0 | F17: =+'Cost Estimate Year 2 (FY 27)'!I35 -> 0 | G17: 2 | H17: =+F17*G17 -> 0
A18: 8 | B18: =+'Cost Estimate Year 2 (FY 27)'!L39 -> 0 | C18: Bakersfield | D18: Central Valley | E18: =+'Cost Estimate Year 2 (FY 27)'!O39 -> 0 | F18: =+'Cost Estimate Year 2 (FY 27)'!I39 -> 0 | G18: 6 | H18: =+F18*G18 -> 0
A19: 9 | B19: =+'Cost Estimate Year 2 (FY 27)'!L43 -> 0 | C19: Lancaster | D19: Santa Fe Springs | E19: =+'Cost Estimate Year 2 (FY 27)'!O43 -> 0 | F19: =+'Cost Estimate Year 2 (FY 27)'!I43 -> 0 | G19: 5 | H19: =+F19*G19 -> 0
A20: 10 | B20: =+'Cost Estimate Year 2 (FY 27)'!L47 -> 0 | C20: Lancaster | D20: West Sacramento | E20: =+'Cost Estimate Year 2 (FY 27)'!O47 -> 0 | F20: =+'Cost Estimate Year 2 (FY 27)'!I47 -> 0 | G20: 5 | H20: =+F20*G20 -> 0 | P20: 1 | Q20: 1 | W20: =SUM(J20:V20) -> 2
A21: 11 | B21: =+'Cost Estimate Year 2 (FY 27)'!L51 -> 0 | C21: Fresno | D21: West Sacramento | E21: =+'Cost Estimate Year 2 (FY 27)'!O51 -> 0 | F21: =+'Cost Estimate Year 2 (FY 27)'!I51 -> 0 | G21: 10
A22: 12 | B22: =+'Cost Estimate Year 2 (FY 27)'!L51 -> 0 | C22: Fresno | D22: Central valley | E22: =+'Cost Estimate Year 2 (FY 27)'!O51 -> 0 | F22: =+'Cost Estimate Year 2 (FY 27)'!I55 -> 0 | G22: 10 | H22: =+F22*G22 -> 0 | J22: 1 | K22: 1 | L22: 1 | M22: 1 | N22: 1 | O22: 1 | P22: 1 | Q22: 1 | R22: 1 | S22: 1 | T22: 1 | U22: 1 | W22: =SUM(J22:V22) -> 12
A23: 13 | B23: =+'Cost Estimate Year 2 (FY 27)'!L59 -> 0 | C23: San Jose | D23: West Sacramento | E23: =+'Cost Estimate Year 2 (FY 27)'!O59 -> 0 | F23: =+'Cost Estimate Year 2 (FY 27)'!I59 -> 0 | G23: 2
A24: 14 | B24: =+'Cost Estimate Year 2 (FY 27)'!L63 -> 0 | C24: Oakland | D24: West Sacramento | E24: =+'Cost Estimate Year 2 (FY 27)'!O59 -> 0 | F24: =+'Cost Estimate Year 2 (FY 27)'!I63 -> 0 | G24: 2 | H24: =+F24*G24 -> 0 | L24: 1 | O24: 1 | R24: 1 | U24: 1 | W24: =SUM(J24:V24) -> 4
A25: 15 | B25: =+'Cost Estimate Year 2 (FY 27)'!L67 -> 0 | C25: Sacramento | D25: West Sacramento | E25: =+'Cost Estimate Year 2 (FY 27)'!O67 -> 0 | F25: =+'Cost Estimate Year 2 (FY 27)'!I67 -> 0 | G25: 8 | H25: =+F25*G25 -> 0 | J25: 1 | K25: 1 | M25: 1 | N25: 1 | P25: 1 | Q25: 1 | S25: 1 | T25: 1 | W25: =SUM(J25:V25) -> 8
A26: 16 | B26: =+'Cost Estimate Year 2 (FY 27)'!L71 -> 0 | C26: West Sacramento | D26: Woodland | E26: =+'Cost Estimate Year 2 (FY 27)'!O71 -> 0 | F26: =+'Cost Estimate Year 2 (FY 27)'!I71 -> 0 | G26: 3 | H26: =+F26*G26 -> 0 | L26: 1 | Q26: 1 | U26: 1 | W26: =SUM(J26:V26) -> 3
A27: 17 | B27: =+'Cost Estimate Year 2 (FY 27)'!L75 -> 0 | C27: West Sacramento | D27: Crow's Landing | E27: =+'Cost Estimate Year 2 (FY 27)'!O75 -> 0 | F27: =+'Cost Estimate Year 2 (FY 27)'!I75 -> 0 | G27: 3 | H27: =+F27*G27 -> 0 | L27: 1 | Q27: 1 | U27: 1 | W27: =SUM(J27:V27) -> 3
A28: 18 | B28: =+'Cost Estimate Year 2 (FY 27)'!L79 -> 0 | C28: Redding | D28: West Sacramento | E28: =+'Cost Estimate Year 2 (FY 27)'!O79 -> 0 | F28: =+'Cost Estimate Year 2 (FY 27)'!I79 -> 0 | G28: 3 | H28: =+F28*G28 -> 0 | L28: 1 | R28: 1 | W28: =SUM(J28:V28) -> 2
B31: Estimated Total | H31: =SUM(H11:H30) -> 0
