Workbook
Name CFE: Sheet2!$N$2:$N$25
Name EXAM_TYPE: Sheet2!$K$2:$K$3
Name EXAMS: Sheet2!$O$2:$O$30
Name FIRM: Sheet2!$P$2:$P$3
Name Option_1: Sheet2!$F$2:$F$2
Name Option_2: Sheet2!$G$2:$G$4
Name Option_3: Sheet2!$H$2:$H$3
Name Option_4: Sheet2!$I$2:$I$3
Name Option_5: Sheet2!$J$2:$J$3
Name STATE: Sheet2!$M$2:$M$56
Name YEAR: Sheet2!$L$2:$L$28

Sheet Questionnaire
D7: Firm Information
D10: Firm Name
D12: Address
D14: City | I14: State | L14: Zip
D16: FEIN
D18: Contact Person
D20: Email Address
D22: Phone Number
D26: Billing Information
D29: Contact Person
D31: Address
D33: City | I33: State | L33: Zip
D35: E-mail Address
D37: Phone Number
C40: Minimum Standard Requirements
D42: 1. Examination Capabilities:
D43: Indicate the type(s) of examinations your firm is capable of performing: (Please indicate "Yes" or "No" to all that apply.)
E44: Full Scope Risk Focused Financial | I44: Limited Scope Risk Focused Financial
E46: Actuarial Only | I46: Administrative Supervision Only
E47: Information Technology Only | I47: Investments Only
E48: Reinsurance Only | I48: Other (Please Specify)
D50: 2. Training: (Leave blank if the section does not apply to your company)
E51: a. For Respondents seeking to be selected to conduct risk-focused financial examinations, have your examiners received training in the Risk-Focused Surveillance approach?
D54: 3. Professional Qualifications: (Leave blank if the section/qualification does not apply to your company)
C55: Risk Focused Financial, Actuarial, Information Technology, Administrative Supervision, Investement and Reinsurance Exams Only
E57: a. Examination Professionals are (select all that apply) :
F58: i. Certified Financial Examiners (CFE)?
F60: ii. Society of Financial Examiners (SOFE)?
E62: b. Actuarial Professionals are (select all that apply):
F63: i. Fellows of the Casualty Actuarial Society in good standing?
F65: ii. Members of the American Academy of Actuaries in good standing?
E67: c. Information Technology Professionals are (select all that apply):
F68: i. Certified Information Systems Auditor (CISA)?
F70: ii. Certified Information Systems Security Professional (CISSP)?
F72: iii. Certified Information Security Manager (CISM)?
F74: iv. Automated Examination Specialist (AES)?
F76: v. Other Qualification (Please specify)
F79: vi. Does your firm perform IT reviews on-site?
E81: d. Does your firm hold an active TeamMate+ license?
F83: i. If yes, please indicate if it is FedRamp or Gold.
...

Sheet Additional Contacts
D7: Additional Contact Information
D10: Additional Contact Person #1
D12: Address
D14: City | I14: State | L14: Zip
D16: E-mail Address
D18: Phone Number
D20: Additional Contact Person #2
D22: Address
D24: City | I24: State | L24: Zip
D26: E-mail Address
D28: Phone Number
D30: Additional Contact Person #3
D32: Address
D34: City | I34: State | L34: Zip
D36: E-mail Address
D38: Phone Number

Sheet Standard Hourly Rates Form
D6: Firm Information
D8: Firm Name | F8: =IF(Questionnaire!$F$10="","",Questionnaire!$F$10)
D10: FEIN | F10: =IF(Questionnaire!$F$16="","",Questionnaire!$F$16)
C12: Authorized Representative
D14: Please list the standard hourly rates (including expenses) for:
E15: Position | I15: Hourly Rate | J15: Renewal Rate
J16: Year 1 | K16: Year 2 | L16: Year 3
E17: Examination Manager (EM)
E18: Examiner-in-Charge (EIC)
E19: Participating Examiner (PE)
E20: L&H Head Actuary
E21: L&H Participating Actuary
E22: P&C Head Actuary
E23: P&C Participating Actuary
E24: Cyber Security/IT Forensics Specialist
E25: Head IT Specialist
E26: Participating IT Specialist
E27: Investment Specialist
E28: Reinsurance Specialist
... E31: Legal Services - In House

Sheet Mandatory Criteria Form
C5: This form must be completed by the Respondent’s authorized representative. The Respondent acknowledges that the Office will rely on the representations made on this form in making its decision of award. If the Office discovers that any of the information on this form is false prior to the award of the Contract, the Office will determine the Respondent non-responsive and not evaluate its Response. If the Office discovers that any information on this form is false after the award to the Respondent is made, the Office reserves the right to terminate the Contract and the Respondent will be liable for costs associated with re-procuring the services.
D12: 1. Does Respondent certify that it agrees to the terms above?
D14: 2. Does Respondent certify that the person submitting the Response is authorized to respond to this Solicitation on Respondent’s behalf?
D17: 3. Does Respondent certify that it is not a Discriminatory Vendor or Convicted Vendor as defined in
D18: the State of Florida PUR 1001 Sections 7 and 8 ? | I18: Click to View
D20: 4. Does Respondent certify compliance with State of Florida PUR 1001 Section 9? | L20: Click to View
D22: 5. Select “Yes” for one and select “N/A” on the others:
E24: a. Does Respondent certify that it is registered with the Florida Department of State?
E25: (If yes, please provide copy)
E27: OR
E29: b. Does Respondent certify that if awarded a contract, it will register with the Florida Department of State prior to execution of the Contract?
E32: OR
E34: c. Does Respondent certify that it is not required to register with the Florida Department of State (see applicable sections of Title XXXVI, Business Organizations, Chapters 605 through 623, F.S.)?
D38: 6. Select “Yes” for one and select “N/A” on the other:
E40: a. Does Respondent certify that a drug-free workplace has been implemented in accordance with section 287.087, F.S.?
E43: OR
E45: b. Does Respondent agree to waive its right to be given preferential treatment as a drug-free workplace in the event of a tie?
D48: 7. Does Respondent agree to utilize the U.S. Department of Homeland Security’s E-Verify system to verify employment eligibility?
D51: 8. Is Respondent a veteran-owned business?
D55: As the person authorized to sign the statement, I certify that this organization complies fully with the above requirements.
D58: Dated this | H58: day of | K58: 20
D60: Firm Name | F60: =IF(Questionnaire!$F$10="","",Questionnaire!$F$10)
C62: Authorized Representative

Sheet Identical Tie Response Form
C7: This form must be completed by the Respondent in the event of a tie. If the Office discovers that any information on this form is false after the award to the Respondent is made, the Office reserves the right to terminate the Contract and hold the Respondent liable for costs associated with re-procuring the services.
D11: Respondents shall certify one or more of the following by checking the adjacent box(es):
D13: A. The response is from a certified minority-owned firm or company and the net worth of the company is | P13: FALSE | Q13: =IF(P13="FALSE",1,0) -> 0
F14: ;
D16: B. The response is from a veteran-owned business certified according to section 295.187, F.S., and the net ___________________; | P16: TRUE
D17: worth of the company is | I17: ;
D19: C. The response is from a Florida-based business having at least one of the following characteristics: (Please provide copy of registration in state of domicile) | P19: FALSE
E21: 1. Fifty-one (51) percent of the company is owned by Floridians; or
E23: 2. Employs a workforce for this project or contract that is at least 51% Floridians; or
E25: 3. More than 51% of business assets of the company, excluding bank accounts, are located in Florida.
D28: D. The response is from a Florida-domiciled entity; | P28: TRUE
D30: E. The commodities used in this contract are manufactured, grown, or produced within this State; | P30: TRUE
D32: F. The response is from a foreign manufacturer with a factory in the State employing over 200 employees working in the State; | P32: TRUE
D35: G. The response is from a business that certified at the time of the Response that it has implemented a drug-free workplace program in accordance with section 287.087, F.S.; | P35: FALSE
D38: H. The response is from a company that is not eligible for any of the above preferences. | P38: TRUE
D42: As the person authorized to sign the statement, I certify that this organization complies fully with the above requirements.
D45: Dated this | H45: day of | K45: 20
D47: Firm Name | F47: =IF(Questionnaire!$F$10="","",Questionnaire!$F$10)
C49: Authorized Representative

Sheet Notices & Acknowledgements
D3: This notice is to make your firm aware that the Office has completed an extensive review of its financial examination processes and has implemented the following important changes. Please review and acknowledge each item below:
D5: 1. All questions regarding exam assignments or the procurement process should be directed to Exams@FLOIR.com. Inquiries regarding the exam assignment process that are sent to other Office employees may result in the exclusion of a contractor’s proposal from subsequent exam rollouts. | P5: FALSE | Q5: =IF(P5="FALSE",1,0) -> 0
L7: (Initial)
D8: 2. Contractors are to send the invoices and progress reports directly to Deborah Lollie at OIRinvoices.FLOIR.com, not the OIR contract manger. Upon an exam assignment, contractors will be provided with updated instructions and forms. All questions regarding the invoice submission process should be directed to, Deborah Lollie, at OIRinvoices.FLOIR.com. | P8: TRUE
L10: (Initial)
D11: 3. Effective immediately, the Office has removed the FL Specific Procedures and Compliance with State Laws and Regulations portions from the examination procedures. Florida will conduct financial exams in accordance with the guidance provided within the NAIC Financial Condition Examiners Handbook only. All questions regarding this change should be directed to the Chief Examiners, Chad Mason (P&C) or Margaret (Peggy) McCrary (L&H), at Chad.Mason@FLOIR.com or Margarget.McCrary@FLOIR.com | P11: FALSE
L13: (Initial)
D14: 3. Practical Training and Talent Development (PTTD) for Office Examination Staff: Effective immediately, some exams may require a member of the Office financial examination team to work in additional areas and procedures so they may gain practical training and experience from the contracted Examiner In Charge (EIC). Contractors will be notified during the bidding process if Office examination staff will be expected to participate more extensivley and in which potential areas of the exam they should be utilized. During the Office’s on-site Planning Week, Chief Examiners will discuss the requirements and prescribe expectations with EICs and Office examination staff regarding PTTD. To document training and experience, EIC’s will be required to submit a statement of participation and completion as a contract deliverable. Initial questions or inquiries regarding the new PTTD requirement should be directed to Exams@FLOIR.com. Once a Scope of Services Agreement is executed, questions should be directed to the appropriate Chief Examiner. | P14: TRUE
L16: (Initial) | P16: TRUE
P18: TRUE
P21: FALSE
P24: TRUE

Sheet Supporting Documents
D3: Supporting Document Check List
D6: 1. Proof of registration with the Florida Secretary of State or state of domicile (if exempt pursuant to Chapter 605 through 623, F.S.)
D10: 2. Resumes and Biographies of Examination Team Members
D13: 3. Completion of NAIC Training Documentation
D16: 4. Documents related to lawsuits or regulatory suspensions (if applicable)

Sheet Sheet2
A1: Questionnaire Tab | B1: Consultant Name | C1: =IFERROR(IF(Questionnaire!$F$10="","",Questionnaire!$F$10),"") | F1: Option 1 | G1: Option 2 | H1: Option 3 | I1: Option 4 | J1: Option 5 | K1: EXAM TYPE | L1: YEAR | M1: STATE | N1: CFE | O1: EXAMS | P1: FIRM | Q1: TeamMate+
B2: Home Address | C2: =IFERROR(IF(Questionnaire!$F$12="","",_xlfn.CONCAT(Questionnaire!$F$12,", ",Questionnaire!$F$14,", ",Questionnaire!$J$14," ",Questionnaire!$M$14)),"") | F2: N/A | G2: N/A | H2: N/A | I2: YES | J2: P&C | K2: Full | L2: 2000 | M2: AK | N2: N/A | O2: 0 | P2: NEW | Q2: FedRamp
B3: FEIN # | C3: =IFERROR(IF(Questionnaire!$F$16="","",Questionnaire!$F$16),"") | G3: YES | H3: YES | I3: NO | J3: L&H | K3: Target | L3: 2001 | M3: AL | N3: 1 | O3: 1 | P3: RETURNING | Q3: Gold
B4: Contact Person | C4: =IFERROR(IF(Questionnaire!$F$18="","",Questionnaire!$F$18),"") | G4: NO | L4: 2002 | M4: AZ | N4: 2 | O4: 2
B5: Email Address | C5: =IFERROR(IF(Questionnaire!$F$20="","",Questionnaire!$F$20),"") | L5: 2003 | M5: AR | N5: 3 | O5: 3
B6: Phone # | C6: =IFERROR(IF(Questionnaire!$F$22="","",Questionnaire!$F$22),"") | L6: 2004 | M6: CA | N6: 4 | O6: 4
B7: Billing Contact Person | C7: =IFERROR(IF(Questionnaire!$F$29="","",Questionnaire!$F$29),"") | L7: 2005 | M7: CO | N7: 5 | O7: 5
B8: Billing Address | C8: =IFERROR(IF(Questionnaire!$F$31="","",_xlfn.CONCAT(Questionnaire!$F$31,", ",Questionnaire!$F$33,", ",Questionnaire!$J$33," ",Questionnaire!$M$33)),"") | E8: Sheet | F8: Password | L8: 2006 | M8: CT | N8: 6 | O8: 6
B9: Billing E-mail Address | C9: =IFERROR(IF(Questionnaire!$F$35="","",Questionnaire!$F$35),"") | E9: Questionnaire | F9: questionnaire | L9: 2007 | M9: DE | N9: 7 | O9: 7
B10: Billing Phone # | C10: =IFERROR(IF(Questionnaire!$F$37="","",Questionnaire!$F$37),"") | E10: Additional Contacts | F10: contacts | L10: 2008 | M10: FL | N10: 8 | O10: 8
B11: 1. Full Scope Risk Focused Financial | C11: =IFERROR(IF(Questionnaire!$G$44="","",Questionnaire!$G$44),"") | E11: Standard Hourly Rates Form | F11: rates | L11: 2009 | M11: GA | N11: 9 | O11: 9
B12: 1. Limited Scope Risk Focused Financial | C12: =IFERROR(IF(Questionnaire!$G$45="","",Questionnaire!$G$45),"") | E12: Mandatory Criteria Form | F12: mandatory | L12: 2010 | M12: HI | N12: 10 | O12: 10
B13: 1. Actuarial Only | C13: =IFERROR(IF(Questionnaire!$G$46="","",Questionnaire!$G$46),"") | E13: Identical Tie Response Form | F13: tie | L13: 2011 | M13: ID | N13: 11 | O13: 11
B14: 1. Information Technology Only | C14: =IFERROR(IF(Questionnaire!$G$47="","",Questionnaire!$G$47),"") | E14: Notices & Acknowledgements | F14: notices | L14: 2012 | M14: IL | N14: 12 | O14: 12
B15: 1. Reinsurance Only | C15: =IFERROR(IF(Questionnaire!$G$48="","",Questionnaire!$G$48),"") | E15: Supporting Documents | F15: supportingdocs | L15: 2013 | M15: IN | N15: 13 | O15: 13
B16: 1. Administrative Supervision Only | C16: =IFERROR(IF(Questionnaire!$K$46="","",Questionnaire!$K$46),"") | L16: 2014 | M16: IA | N16: 14 | O16: 14
B17: 1. Investments Only | C17: =IFERROR(IF(Questionnaire!$K$47="","",Questionnaire!$K$47),"") | L17: 2015 | M17: KS | N17: 15 | O17: 15
B18: 1. Other (Please Specify) | C18: =IFERROR(IF(Questionnaire!$K$48="","",Questionnaire!$K$48),"") | L18: 2016 | M18: KY | N18: 16 | O18: 16
B19: 2A. | C19: =IFERROR(IF(Questionnaire!$M$52="","",Questionnaire!$M$52),"") | L19: 2017 | M19: LA | N19: 17 | O19: 17
B20: 3Ai | C20: =IFERROR(IF(Questionnaire!$M$58="","",Questionnaire!$M$58),"") | L20: 2018 | M20: ME | N20: 18 | O20: 18
B21: 3Aii | C21: =IFERROR(IF(Questionnaire!$M$60="","",Questionnaire!$M$60),"") | L21: 2019 | M21: MD | N21: 19 | O21: 19
B22: 3Bi | C22: =IFERROR(IF(Questionnaire!$M$63="","",Questionnaire!$M$63),"") | L22: 2020 | M22: MA | N22: 20+ | O22: 20+
B23: 3Bii | C23: =IFERROR(IF(Questionnaire!$M$65="","",Questionnaire!$M$65),"") | L23: 2021 | M23: MI | N23: 30+ | O23: 30+
B24: 3Ci | C24: =IFERROR(IF(Questionnaire!$M$68="","",Questionnaire!$M$68),"") | L24: 2022 | M24: MN | N24: 40+ | O24: 40+
B25: 3Cii | C25: =IFERROR(IF(Questionnaire!$M$70="","",Questionnaire!$M$70),"") | L25: 2023 | M25: MS | N25: 50+ | O25: 50+
B26: 3Ciii | C26: =IFERROR(IF(Questionnaire!$M$72="","",Questionnaire!$M$72),"") | L26: 2024 | M26: MO | O26: 60+
B27: 3Cvi | C27: =IFERROR(IF(Questionnaire!$M$74="","",Questionnaire!$M$74),"") | L27: 2025 | M27: MT | O27: 70+
B28: 3Cv | C28: =IFERROR(IF(Questionnaire!$F$77="","",Questionnaire!$F$77),"") | L28: 2026 | M28: NE | O28: 80+
B29: 3Cvi | C29: =IFERROR(IF(Questionnaire!$M$79="","",Questionnaire!$M$79),"") | M29: NV | O29: 90+
B30: 3D | C30: =IFERROR(IF(Questionnaire!$M$81="","",Questionnaire!$M$81),"") | M30: NH | O30: 100+
B31: 3Di | C31: =IFERROR(IF(Questionnaire!$M$83="","",Questionnaire!$M$83),"") | M31: HI
B32: 3Dii | C32: =IFERROR(IF(Questionnaire!$M$86="","",Questionnaire!$M$86),"") | M32: ID
B33: 3Ei | C33: =IFERROR(IF(Questionnaire!$M$89="","",Questionnaire!$M$89),"") | M33: NJ
B34: 3A. Financial Exams | C34: =IFERROR(IF(Questionnaire!$E$93="","",Questionnaire!$E$93),"") | M34: NM
B35: 3B. Financial Exams | C35: =IFERROR(IF(Questionnaire!$E$98="","",Questionnaire!$E$98),"") | M35: NY
B36: 4A. Use NAIC Resources | C36: =IFERROR(IF(Questionnaire!$M$106="","",Questionnaire!$M$106),"") | M36: NC
B37: 4B. Use Office Reference Materials | C37: =IFERROR(IF(Questionnaire!$M$108="","",Questionnaire!$M$108),"") | M37: ND
B38: 5a. Resides in FL? | C38: =IFERROR(IF(Questionnaire!$M$115="","",Questionnaire!$M$115),"") | M38: OH
B39: 5b. Available With Short Notice | C39: =IFERROR(IF(Questionnaire!$M$117="","",Questionnaire!$M$117),"") | M39: OK
B40: 5B. Comments | C40: =IFERROR(IF(Questionnaire!$E$120="","",Questionnaire!$E$120),"") | M40: OR
...
