Workbook
Name annMonth: [1]PlanData!$H$4
Name CompanyName: '[1]Cover Page'!$A$1
Name currentContribtable: '[1]Graph Data'!$B$21
Name CurrentDeductible: [1]thresholds!$C$2
Name CURRENTEND: [1]PlanData!$C$3
Name currentPeriodEnd: [1]PlanData!$C$12
Name currentPeriodStart: [1]PlanData!$C$11
Name CURRENTSTART: [1]PlanData!$C$2
Name currentStartDate: [1]PlanData!$G$11
Name ExpectedLC: [1]LC_Table!$D$60
Name expEndMonth: [1]PlanData!$H$2
Name expEndYear: [1]PlanData!$H$3
Name experienceEndDate: [1]PlanData!$C$10
Name inputNumberOfPlans: [1]DataInput!$J$9
Name MaxEnrollment: [1]PlanData!$C$20
Name MedianLC: [1]LC_Table!$D$62
Name Overallmin: [1]PlanData!$C$16
Name P20LC: [1]LC_Table!$D$61
Name P80LC: [1]LC_Table!$D$63
Name PLANEND: [1]PlanData!$C$4
Name PRIOR1END: [1]PlanData!$C$6
Name PRIOR1START: [1]PlanData!$C$5
Name prior2Deductible: [1]thresholds!$C$4
Name PriorDeductible: [1]thresholds!$C$3
Name priorPeriodEnd: [1]PlanData!$C$14
Name priorPeriodStart: [1]PlanData!$C$13
Name priorPremium: #REF!
Name priorPremium: #REF!
Name priorPremium: #REF!
Name priorPremium: #REF!
Name priorStartDate: [1]PlanData!$G$10
Name reportingBasis: [1]DataInput!$N$6
Name reportStartDate: [1]PlanData!$C$9
Name SpecificCoverage: [1]thresholds!$C$1
Name targetRate: '[1]Executive Summary'!$I$24
Name TheMonthCount: [1]PlanData!$C$18
Name TrendUsed: [1]PlanData!$C$17

Sheet Instructions
A1: State of NJ
A2: T2794 - State Health Benefits Program and School Employees' Health Benefits Program Plans | Attachment 7: Discount Analysis Report
A4: Instructions:
A5: •The Bidder shall complete all yellow highlighted cells. All yellow highlighted cells in those tables for all tabs, save for the Instructions tab, shall be completed in dollars ($).
A6: • The average charges by procedure codes MUST include both General Dentists AND SPECIALISTS.
A7: • The workbook provides a list of 41 dental procedure codes (column B) and 57 3-digit Zip Codes (row 12) that creates a matrix for you to enter in the requested information below
A8: • The workbook contains 4 tabs that must be completed based on calendar year 2023 claims data:
B9: - The Average DPPO Allowed tab is asking for the average allowed charges of your deepest discounted network
C10: * Please be sure to indicate if you are collecting a portion of the retained savings
B11: - The Average Secondary Allowed tab is asking for the average allowed charges of your lesser discounted network (if you offer tiered networks)
C12: * Please be sure to indicate if you are collecting a portion of the retained savings
B13: - The Average Submitted Charges tab is asking for your average submitted charges
A14: - The average Max OON allowed Reimbursement tab is asking for your R&C at the 80th Percentile (row 14).
A17: • We need to have the same network results for the Discount Analysis and Provider Disruption in order to do our analysis
B18: - i.e. If you fill out the Discount Analysis tabs for best and lesser networks, we would need results for the two Provider Disruption networks that cover the best and lesser networks within the Discount Analysis workbook
B19: Please confirm in the yellow highlighted cell that you will provide the max out of pocket and requested level in this workbook, and without deviation, propose the same in your RFP response.
A22: Carrier Contact's Name
A23: Carrier Contact's Email

Sheet Average DPPO Allowed
A1: Please enter the Average Owned DPPO allowed charge for General and Specialist combined for each procedure code in each 3 Digit Zip Code listed
A3: Client Name: | C3: =Instructions!A1 -> State of NJ
A4: Carrier Name:
A5: Network Name:
A7: Is the carrier retaining a portion of the Allowed savings? (Y/N)
A8: If Yes, please indicate the Percentage retained
A9: Please confirm your results are based on Average Allowed Charges.
A10: * If you don't have credible data for a cell, please leave it blank.
A11: What is the percentage of your estimated DPPO network discount?
B13: Confirm all results are inclusive of both General Dentists AND Specialists.
B14: Acknowledge you have read and followed all instructions as outlined within this document.
A15: This data may contain confidential and proprietary information and for internal use only. Any dissemination, distribution, disclosure, or copying of this information is unauthorized and strictly prohibited.
A16: 3 Digit Zip Code Area | D16: 080 | E16: 070 | F16: 088 | G16: 086 | H16: 087 | I16: 077 | J16: 085 | K16: 083 | L16: 074 | M16: 082 | N16: 071 | O16: 078 | P16: 076 | Q16: 089 | R16: 190 | S16: 079 | T16: 081 | U16: 072 | V16: 075 | W16: 073 | X16: 180 | Y16: 189 | Z16: 191 | AA16: 084 | AB16: 334 | AC16: 100 | AD16: 342 | AE16: 295 | AF16: 183 | AG16: 199 | AH16: 339 | AI16: 321 | AJ16: 109 | AK16: 341 | AL16: 284 | AM16: 349 | AN16: 112 | AO16: 329 | AP16: 346 | AQ16: 347 | AR16: 197 | AS16: 184 | AT16: 344 | AU16: 275 | AV16: 320 | AW16: 335 | AX16: 300 | AY16: 330 | AZ16: 337 | BA16: 299 | BB16: 194 | BC16: 294 | BD16: 193 | BE16: 338 | BF16: 327 | BG16: 103 | BH16: 302 | BI16: OTHER
A17: Total Subscriber Count | D17: =+HLOOKUP(D16,[2]Summary!$C$5:$BH$8,4,0) -> 25517 | E17: =+HLOOKUP(E16,[2]Summary!$C$5:$BH$8,4,0) -> 19293 | F17: =+HLOOKUP(F16,[2]Summary!$C$5:$BH$8,4,0) -> 14962 | G17: =+HLOOKUP(G16,[2]Summary!$C$5:$BH$8,4,0) -> 10810 | H17: =+HLOOKUP(H16,[2]Summary!$C$5:$BH$8,4,0) -> 8937 | I17: =+HLOOKUP(I16,[2]Summary!$C$5:$BH$8,4,0) -> 8919 | J17: =+HLOOKUP(J16,[2]Summary!$C$5:$BH$8,4,0) -> 7569 | K17: =+HLOOKUP(K16,[2]Summary!$C$5:$BH$8,4,0) -> 7673 | ... BI17: =+HLOOKUP(BI16,[2]Summary!$C$5:$BH$8,4,0) -> 10358
A18: Class | B18: Code | C18: Description of Service | D18: Average Allowed | E18: Average Allowed | F18: Average Allowed | G18: Average Allowed | H18: Average Allowed | I18: Average Allowed | J18: Average Allowed | K18: Average Allowed | L18: Average Allowed | M18: Average Allowed | N18: Average Allowed | O18: Average Allowed | P18: Average Allowed | Q18: Average Allowed | R18: Average Allowed | S18: Average Allowed | T18: Average Allowed | U18: Average Allowed | V18: Average Allowed | W18: Average Allowed | X18: Average Allowed | Y18: Average Allowed | Z18: Average Allowed | AA18: Average Allowed | AB18: Average Allowed | AC18: Average Allowed | AD18: Average Allowed | AE18: Average Allowed | AF18: Average Allowed | AG18: Average Allowed | AH18: Average Allowed | AI18: Average Allowed | AJ18: Average Allowed | AK18: Average Allowed | AL18: Average Allowed | AM18: Average Allowed | AN18: Average Allowed | AO18: Average Allowed | AP18: Average Allowed | AQ18: Average Allowed | AR18: Average Allowed | AS18: Average Allowed | AT18: Average Allowed | AU18: Average Allowed | AV18: Average Allowed | AW18: Average Allowed | AX18: Average Allowed | AY18: Average Allowed | AZ18: Average Allowed | BA18: Average Allowed | BB18: Average Allowed | BC18: Average Allowed | BD18: Average Allowed | BE18: Average Allowed | BF18: Average Allowed | BG18: Average Allowed | BH18: Average Allowed | BI18: Average Allowed
A19: Class I | B19: 00120 | C19: Periodic Oral Evaluation
B20: 00140 | C20: Limited Oral Evaluation - Problem Focused
B21: 00150 | C21: Comprehensive Oral Evaluation - New or Established Patient
B22: 00210 | C22: Intraoral - Complete Series
B23: 00220 | C23: Intraoral - Periapical First Film
B24: 00230 | C24: Intraoral - Periapical Each Additional Film
B25: 00272 | C25: Bitewings - Two Films
B26: 00274 | C26: Bitewings - Four Films
B27: 00330 | C27: Panoramic Film
B28: 01110 | C28: Prophylaxis - Adult
B29: 01120 | C29: Prophylaxis - Child
B30: 01208 | C30: Topical Application of Fluoride (prophylaxis excluded) - Adult or child
B31: 01351 | C31: Sealant - Per Tooth
B32: 09110 | C32: Palliative (emergency) Treatment of Dental Pain - Minor Procedure
A33: Class II | B33: 02140 | C33: Amalgam - One Surface, Primary or Permanent
B34: 02150 | C34: Amalgam - Two Surfaces, Primary or Permanent
B35: 02160 | C35: Amalgam - Three Surfaces, Primary or Permanent
B36: 02161 | C36: Amalgam - Four or More Surfaces, Primary or Permanent
B37: 02330 | C37: Resin-Based Composite - One Surface, Anterior
B38: 02331 | C38: Resin-Based Composite - Two Surfaces, Anterior
B39: 02332 | C39: Resin-Based Composite - Three Surfaces, Anterior
B40: 02335 | C40: Resin-Based Composite - Four or More Surfaces or Involving Incisal Angle, Anterior
B41: 02391 | C41: Resin-Based Composite - One Surface, Posterior
B42: 02392 | C42: Resin-Based Composite - Two Surfaces, Posterior
B43: 03310 | C43: Anterior (excluding final restoration)
B44: 03320 | C44: Bicuspid (excluding final restoration)
B45: 03330 | C45: Molar (excluding final restoration)
... B52: 09223 | C52: Deep Sedation/General Anesthesia - First 15 Minutes
A53: Class III | B53: 02750 | C53: Crown - Porcelain Fused to High Noble Metal
B54: 02752 | C54: Crown - Porcelain Fused to Noble Metal
B55: 02790 | C55: Crown - Full Cast High Noble Metal
B56: 02792 | C56: Crown - Full Cast Noble Metal
B57: 02920 | C57: Recement Crown
B58: 02950 | C58: Core Buildup, Including Any Pins
B59: 02954 | C59: Prefabricated Post and Core in Addition to Crown

Sheet Average Secondary Allowed
A1: Please enter the Average Secondary or Leased PPO allowed charge for General and Specialist combined for each procedure code in each 3 Digit Zip Code listed
A3: Client Name: | C3: ='Average DPPO Allowed'!C3 -> State of NJ
A4: Carrier Name:
A5: Network Name:
A7: Is the carrier retaining a portion of the Allowed savings? (Y/N)
A8: If Yes, please indicate the Percentage retained
A9: Please confirm your results are based on Average Allowed Charges.
A10: * If you don't have credible data for a cell, please leave it blank.
A11: This data may contain confidential and proprietary information and for internal use only. Any dissemination, distribution, disclosure, or copying of this information is unauthorized and strictly prohibited.
A12: 3 Digit Zip Code Area | D12: ='Average DPPO Allowed'!D16 -> 080 | E12: ='Average DPPO Allowed'!E16 -> 070 | F12: ='Average DPPO Allowed'!F16 -> 088 | G12: ='Average DPPO Allowed'!G16 -> 086 | H12: ='Average DPPO Allowed'!H16 -> 087 | I12: ='Average DPPO Allowed'!I16 -> 077 | J12: ='Average DPPO Allowed'!J16 -> 085 | K12: ='Average DPPO Allowed'!K16 -> 083 | ... BH12: ='Average DPPO Allowed'!BH16 -> 302 | BI12: OTHER
A13: ='Average DPPO Allowed'!A17 -> Total Subscriber Count | D13: ='Average DPPO Allowed'!D17 -> 25517 | E13: ='Average DPPO Allowed'!E17 -> 19293 | F13: ='Average DPPO Allowed'!F17 -> 14962 | G13: ='Average DPPO Allowed'!G17 -> 10810 | H13: ='Average DPPO Allowed'!H17 -> 8937 | I13: ='Average DPPO Allowed'!I17 -> 8919 | J13: ='Average DPPO Allowed'!J17 -> 7569 | K13: ='Average DPPO Allowed'!K17 -> 7673 | ... BI13: ='Average DPPO Allowed'!BI17 -> 10358
A14: Class | B14: Code | C14: Description of Service | D14: Average Allowed | E14: Average Allowed | F14: Average Allowed | G14: Average Allowed | H14: Average Allowed | I14: Average Allowed | J14: Average Allowed | K14: Average Allowed | L14: Average Allowed | M14: Average Allowed | N14: Average Allowed | O14: Average Allowed | P14: Average Allowed | Q14: Average Allowed | R14: Average Allowed | S14: Average Allowed | T14: Average Allowed | U14: Average Allowed | V14: Average Allowed | W14: Average Allowed | X14: Average Allowed | Y14: Average Allowed | Z14: Average Allowed | AA14: Average Allowed | AB14: Average Allowed | AC14: Average Allowed | AD14: Average Allowed | AE14: Average Allowed | AF14: Average Allowed | AG14: Average Allowed | AH14: Average Allowed | AI14: Average Allowed | AJ14: Average Allowed | AK14: Average Allowed | AL14: Average Allowed | AM14: Average Allowed | AN14: Average Allowed | AO14: Average Allowed | AP14: Average Allowed | AQ14: Average Allowed | AR14: Average Allowed | AS14: Average Allowed | AT14: Average Allowed | AU14: Average Allowed | AV14: Average Allowed | AW14: Average Allowed | AX14: Average Allowed | AY14: Average Allowed | AZ14: Average Allowed | BA14: Average Allowed | BB14: Average Allowed | BC14: Average Allowed | BD14: Average Allowed | BE14: Average Allowed | BF14: Average Allowed | BG14: Average Allowed | BH14: Average Allowed | BI14: Average Allowed
A15: Class I | B15: 00120 | C15: Periodic Oral Evaluation
B16: 00140 | C16: Limited Oral Evaluation - Problem Focused
B17: 00150 | C17: Comprehensive Oral Evaluation - New or Established Patient
B18: 00210 | C18: Intraoral - Complete Series
B19: 00220 | C19: Intraoral - Periapical First Film
B20: 00230 | C20: Intraoral - Periapical Each Additional Film
B21: 00272 | C21: Bitewings - Two Films
B22: 00274 | C22: Bitewings - Four Films
B23: 00330 | C23: Panoramic Film
B24: 01110 | C24: Prophylaxis - Adult
B25: 01120 | C25: Prophylaxis - Child
B26: 01208 | C26: Topical Application of Fluoride (prophylaxis excluded) - Adult or child
B27: 01351 | C27: Sealant - Per Tooth
B28: 09110 | C28: Palliative (emergency) Treatment of Dental Pain - Minor Procedure
A29: Class II | B29: 02140 | C29: Amalgam - One Surface, Primary or Permanent
B30: 02150 | C30: Amalgam - Two Surfaces, Primary or Permanent
B31: 02160 | C31: Amalgam - Three Surfaces, Primary or Permanent
B32: 02161 | C32: Amalgam - Four or More Surfaces, Primary or Permanent
B33: 02330 | C33: Resin-Based Composite - One Surface, Anterior
B34: 02331 | C34: Resin-Based Composite - Two Surfaces, Anterior
B35: 02332 | C35: Resin-Based Composite - Three Surfaces, Anterior
B36: 02335 | C36: Resin-Based Composite - Four or More Surfaces or Involving Incisal Angle, Anterior
B37: 02391 | C37: Resin-Based Composite - One Surface, Posterior
B38: 02392 | C38: Resin-Based Composite - Two Surfaces, Posterior
B39: 03310 | C39: Anterior (excluding final restoration)
B40: 03320 | C40: Bicuspid (excluding final restoration)
B41: 03330 | C41: Molar (excluding final restoration)
... B48: 09223 | C48: Deep Sedation/General Anesthesia - First 15 Minutes
A49: Class III | B49: 02750 | C49: Crown - Porcelain Fused to High Noble Metal
B50: 02752 | C50: Crown - Porcelain Fused to Noble Metal
B51: 02790 | C51: Crown - Full Cast High Noble Metal
B52: 02792 | C52: Crown - Full Cast Noble Metal
B53: 02920 | C53: Recement Crown
B54: 02950 | C54: Core Buildup, Including Any Pins
B55: 02954 | C55: Prefabricated Post and Core in Addition to Crown

Sheet Average Submitted Charges
A1: Please enter the Average Submitted charge for General and Specialist combined for each procedure code in each 3 Digit Zip Code listed
A3: Client Name: | C3: ='Average DPPO Allowed'!C3 -> State of NJ
A4: Carrier Name:
A11: * If you don't have credible data for a cell, please leave it blank.
A12: This data may contain confidential and proprietary information and for internal use only. Any dissemination, distribution, disclosure, or copying of this information is unauthorized and strictly prohibited.
A13: 3 Digit Zip Code Area | D13: ='Average DPPO Allowed'!D16 -> 080 | E13: ='Average DPPO Allowed'!E16 -> 070 | F13: ='Average DPPO Allowed'!F16 -> 088 | G13: ='Average DPPO Allowed'!G16 -> 086 | H13: ='Average DPPO Allowed'!H16 -> 087 | I13: ='Average DPPO Allowed'!I16 -> 077 | J13: ='Average DPPO Allowed'!J16 -> 085 | K13: ='Average DPPO Allowed'!K16 -> 083 | ... BH13: ='Average DPPO Allowed'!BH16 -> 302 | BI13: OTHER
A14: ='Average DPPO Allowed'!A17 -> Total Subscriber Count | D14: ='Average DPPO Allowed'!D17 -> 25517 | E14: ='Average DPPO Allowed'!E17 -> 19293 | F14: ='Average DPPO Allowed'!F17 -> 14962 | G14: ='Average DPPO Allowed'!G17 -> 10810 | H14: ='Average DPPO Allowed'!H17 -> 8937 | I14: ='Average DPPO Allowed'!I17 -> 8919 | J14: ='Average DPPO Allowed'!J17 -> 7569 | K14: ='Average DPPO Allowed'!K17 -> 7673 | ... BI14: ='Average DPPO Allowed'!BI17 -> 10358
A15: Class | B15: Code | C15: Description of Service | D15: Average Submitted | E15: Average Submitted | F15: Average Submitted | G15: Average Submitted | H15: Average Submitted | I15: Average Submitted | J15: Average Submitted | K15: Average Submitted | L15: Average Submitted | M15: Average Submitted | N15: Average Submitted | O15: Average Submitted | P15: Average Submitted | Q15: Average Submitted | R15: Average Submitted | S15: Average Submitted | T15: Average Submitted | U15: Average Submitted | V15: Average Submitted | W15: Average Submitted | X15: Average Submitted | Y15: Average Submitted | Z15: Average Submitted | AA15: Average Submitted | AB15: Average Submitted | AC15: Average Submitted | AD15: Average Submitted | AE15: Average Submitted | AF15: Average Submitted | AG15: Average Submitted | AH15: Average Submitted | AI15: Average Submitted | AJ15: Average Submitted | AK15: Average Submitted | AL15: Average Submitted | AM15: Average Submitted | AN15: Average Submitted | AO15: Average Submitted | AP15: Average Submitted | AQ15: Average Submitted | AR15: Average Submitted | AS15: Average Submitted | AT15: Average Submitted | AU15: Average Submitted | AV15: Average Submitted | AW15: Average Submitted | AX15: Average Submitted | AY15: Average Submitted | AZ15: Average Submitted | BA15: Average Submitted | BB15: Average Submitted | BC15: Average Submitted | BD15: Average Submitted | BE15: Average Submitted | BF15: Average Submitted | BG15: Average Submitted | BH15: Average Submitted | BI15: Average Submitted
A16: Class I | B16: 00120 | C16: Periodic Oral Evaluation
B17: 00140 | C17: Limited Oral Evaluation - Problem Focused
B18: 00150 | C18: Comprehensive Oral Evaluation - New or Established Patient
B19: 00210 | C19: Intraoral - Complete Series
B20: 00220 | C20: Intraoral - Periapical First Film
B21: 00230 | C21: Intraoral - Periapical Each Additional Film
B22: 00272 | C22: Bitewings - Two Films
B23: 00274 | C23: Bitewings - Four Films
B24: 00330 | C24: Panoramic Film
B25: 01110 | C25: Prophylaxis - Adult
B26: 01120 | C26: Prophylaxis - Child
B27: 01208 | C27: Topical Application of Fluoride (prophylaxis excluded) - Adult or child
B28: 01351 | C28: Sealant - Per Tooth
B29: 09110 | C29: Palliative (emergency) Treatment of Dental Pain - Minor Procedure
A30: Class II | B30: 02140 | C30: Amalgam - One Surface, Primary or Permanent
B31: 02150 | C31: Amalgam - Two Surfaces, Primary or Permanent
B32: 02160 | C32: Amalgam - Three Surfaces, Primary or Permanent
B33: 02161 | C33: Amalgam - Four or More Surfaces, Primary or Permanent
B34: 02330 | C34: Resin-Based Composite - One Surface, Anterior
B35: 02331 | C35: Resin-Based Composite - Two Surfaces, Anterior
B36: 02332 | C36: Resin-Based Composite - Three Surfaces, Anterior
B37: 02335 | C37: Resin-Based Composite - Four or More Surfaces or Involving Incisal Angle, Anterior
B38: 02391 | C38: Resin-Based Composite - One Surface, Posterior
B39: 02392 | C39: Resin-Based Composite - Two Surfaces, Posterior
B40: 03310 | C40: Anterior (excluding final restoration)
B41: 03320 | C41: Bicuspid (excluding final restoration)
B42: 03330 | C42: Molar (excluding final restoration)
... B49: 09223 | C49: Deep Sedation/General Anesthesia - First 15 Minutes
A50: Class III | B50: 02750 | C50: Crown - Porcelain Fused to High Noble Metal
B51: 02752 | C51: Crown - Porcelain Fused to Noble Metal
B52: 02790 | C52: Crown - Full Cast High Noble Metal
B53: 02792 | C53: Crown - Full Cast Noble Metal
B54: 02920 | C54: Recement Crown
B55: 02950 | C55: Core Buildup, Including Any Pins
B56: 02954 | C56: Prefabricated Post and Core in Addition to Crown

Sheet Max OON Reimbursement
A1: Please enter the Requested Max OON Plan Reimbursement for General and Specialist combined for each procedure code in each 3 Digit Zip Code listed
A3: Client Name: | C3: ='Average DPPO Allowed'!C3 -> State of NJ
A4: Carrier Name:
A5: Max OON reimbursement: | C5: 80th
A7: Name of UCR database:
A8: Date last updated:
A9: Max OON matches request: | C9: =Instructions!I19 -> 0
A10: * If you don't have credible data for a cell, please leave it blank.
A11: This data may contain confidential and proprietary information and for internal use only. Any dissemination, distribution, disclosure, or copying of this information is unauthorized and strictly prohibited.
A12: 3 Digit Zip Code Area | D12: ='Average DPPO Allowed'!D16 -> 080 | E12: ='Average DPPO Allowed'!E16 -> 070 | F12: ='Average DPPO Allowed'!F16 -> 088 | G12: ='Average DPPO Allowed'!G16 -> 086 | H12: ='Average DPPO Allowed'!H16 -> 087 | I12: ='Average DPPO Allowed'!I16 -> 077 | J12: ='Average DPPO Allowed'!J16 -> 085 | K12: ='Average DPPO Allowed'!K16 -> 083 | ... BH12: ='Average DPPO Allowed'!BH16 -> 302 | BI12: OTHER
A13: ='Average DPPO Allowed'!A17 -> Total Subscriber Count | D13: ='Average DPPO Allowed'!D17 -> 25517 | E13: ='Average DPPO Allowed'!E17 -> 19293 | F13: ='Average DPPO Allowed'!F17 -> 14962 | G13: ='Average DPPO Allowed'!G17 -> 10810 | H13: ='Average DPPO Allowed'!H17 -> 8937 | I13: ='Average DPPO Allowed'!I17 -> 8919 | J13: ='Average DPPO Allowed'!J17 -> 7569 | K13: ='Average DPPO Allowed'!K17 -> 7673 | ... BI13: ='Average DPPO Allowed'!BI17 -> 10358
A14: Class | B14: Code | C14: Description of Service | D14: =C5 -> 80th | E14: =D14 -> 80th | F14: =E14 -> 80th | G14: =F14 -> 80th | H14: =G14 -> 80th | I14: =H14 -> 80th | J14: =I14 -> 80th | K14: =J14 -> 80th | L14: =K14 -> 80th | ... BH14: =BG14 -> 80th | BI14: 80th
D15: OON Reimburse | E15: OON Reimburse | F15: OON Reimburse | G15: OON Reimburse | H15: OON Reimburse | I15: OON Reimburse | J15: OON Reimburse | K15: OON Reimburse | L15: OON Reimburse | M15: OON Reimburse | N15: OON Reimburse | O15: OON Reimburse | P15: OON Reimburse | Q15: OON Reimburse | R15: OON Reimburse | S15: OON Reimburse | T15: OON Reimburse | U15: OON Reimburse | V15: OON Reimburse | W15: OON Reimburse | X15: OON Reimburse | Y15: OON Reimburse | Z15: OON Reimburse | AA15: OON Reimburse | AB15: OON Reimburse | AC15: OON Reimburse | AD15: OON Reimburse | AE15: OON Reimburse | AF15: OON Reimburse | AG15: OON Reimburse | AH15: OON Reimburse | AI15: OON Reimburse | AJ15: OON Reimburse | AK15: OON Reimburse | AL15: OON Reimburse | AM15: OON Reimburse | AN15: OON Reimburse | AO15: OON Reimburse | AP15: OON Reimburse | AQ15: OON Reimburse | AR15: OON Reimburse | AS15: OON Reimburse | AT15: OON Reimburse | AU15: OON Reimburse | AV15: OON Reimburse | AW15: OON Reimburse | AX15: OON Reimburse | AY15: OON Reimburse | AZ15: OON Reimburse | BA15: OON Reimburse | BB15: OON Reimburse | BC15: OON Reimburse | BD15: OON Reimburse | BE15: OON Reimburse | BF15: OON Reimburse | BG15: OON Reimburse | BH15: OON Reimburse | BI15: OON Reimburse
A16: Class I | B16: 00120 | C16: Periodic Oral Evaluation
B17: 00140 | C17: Limited Oral Evaluation - Problem Focused
B18: 00150 | C18: Comprehensive Oral Evaluation - New or Established Patient
B19: 00210 | C19: Intraoral - Complete Series
B20: 00220 | C20: Intraoral - Periapical First Film
B21: 00230 | C21: Intraoral - Periapical Each Additional Film
B22: 00272 | C22: Bitewings - Two Films
B23: 00274 | C23: Bitewings - Four Films
B24: 00330 | C24: Panoramic Film
B25: 01110 | C25: Prophylaxis - Adult
B26: 01120 | C26: Prophylaxis - Child
B27: 01208 | C27: Topical Application of Fluoride (prophylaxis excluded) - Adult or child
B28: 01351 | C28: Sealant - Per Tooth
B29: 09110 | C29: Palliative (emergency) Treatment of Dental Pain - Minor Procedure
A30: Class II | B30: 02140 | C30: Amalgam - One Surface, Primary or Permanent
B31: 02150 | C31: Amalgam - Two Surfaces, Primary or Permanent
B32: 02160 | C32: Amalgam - Three Surfaces, Primary or Permanent
B33: 02161 | C33: Amalgam - Four or More Surfaces, Primary or Permanent
B34: 02330 | C34: Resin-Based Composite - One Surface, Anterior
B35: 02331 | C35: Resin-Based Composite - Two Surfaces, Anterior
B36: 02332 | C36: Resin-Based Composite - Three Surfaces, Anterior
B37: 02335 | C37: Resin-Based Composite - Four or More Surfaces or Involving Incisal Angle, Anterior
B38: 02391 | C38: Resin-Based Composite - One Surface, Posterior
B39: 02392 | C39: Resin-Based Composite - Two Surfaces, Posterior
B40: 03310 | C40: Anterior (excluding final restoration)
B41: 03320 | C41: Bicuspid (excluding final restoration)
B42: 03330 | C42: Molar (excluding final restoration)
... B49: 09223 | C49: Deep Sedation/General Anesthesia - First 15 Minutes
A50: Class III | B50: 02750 | C50: Crown - Porcelain Fused to High Noble Metal
B51: 02752 | C51: Crown - Porcelain Fused to Noble Metal
B52: 02790 | C52: Crown - Full Cast High Noble Metal
B53: 02792 | C53: Crown - Full Cast Noble Metal
B54: 02920 | C54: Recement Crown
B55: 02950 | C55: Core Buildup, Including Any Pins
B56: 02954 | C56: Prefabricated Post and Core in Addition to Crown
