Workbook
Name Items: Items!$A$2:$A$114

Sheet Price Sheet
A1: State Price Sheet Bid Solicitation #23DPP00866 T0764 - Printing & Mailing Services - Taxation and Statewide
A2: Bidder Name:
A3: Date:
A4: Instructions | B4: Refer to Bid Solicitation Section 3.21 for Bidder instructions. The Bidder must provide Unit Pricing in the highlighted cells below. The rest will calculate automatically. *See Sections 3.21 and 4.23 of the Bid Solicitation for more information on Total Recovered Materials Content and Post-Consumer Recycled Content.
A5: Number | B5: Description | C5: Unit | D5: Unit Pricing | E5: % of Total Recovered Materials Content* Mininum Requirement: 100% | F5: % of Post-Consumer Recycled Content* Minimum Requirement: 50%
A6: MINIMUM ORDER CHARGE
A7: 1 | B7: MINIMUM ORDER CHARGE FOR ORDERS LESS THAN 1,000 INCLUDES PRINTING, MAILING, AND DATA PROCESSING | C7: EACH
A8: PRICING APPLIES TO ALL RANGES
A9: 2 | B9: PROOFS: FLAT CHARGE PER DOCUMENT SIDE | C9: EACH
A10: 3 | B10: #9 BRE CUSTOM WINDOW - SINGLE PRICE FOR DIE CHARGE | C10: EACH
A11: 4 | B11: 9" x 12" CUSTOM WINDOW - SINGLE PRICE FOR DIE CHARGE | C11: EACH
A12: 5 | B12: PRE-PRODUCTION FUNCTIONAL TEST SAMPLE PROOF PACKAGES: HOURLY RATE TO COVER MACHINE SET-UP TO PRODUCE 50 FUNCTIONAL PROOF PACKAGES FOR TESTING PRIOR TO APPROVAL | C12: HOUR
A13: 6 | B13: PROGRAMMING: FILE PROCESSING THAT ALLOWS FOR OUTPUT SUCH AS LASER SET-UP FOR PERSONALIZATION & VARIABLE INFORMATION TO BE MERGED | C13: HOUR
A14: 7 | B14: FORMS DESIGN/LAYOUT | C14: HOUR
A15: RANGE 1,000 - 2,499
A16: SERVICES (PER THOUSAND)
A17: 8 | B17: INSERTING | C17: EACH
A18: 9 | B18: INTELLIGENT INSERTING | C18: EACH
A19: 10 | B19: HAND INSERTING AND/OR MATCH MAIL SERVICE | C19: EACH
A20: 11 | B20: HAND FOLD TO FIT IN ENVELOPE | C20: EACH
A21: 12 | B21: LASER PRINTED DROP OUT HIGHLIGHT COLOR | C21: EACH
A22: 13 | B22: DATA PROCESSING FEE INCLUDING PRESORTING FOR FIRST CLASS & STANDARD MAIL, APPENDING IMB, & POSTNET BARCODE | C22: EACH
A23: 14 | B23: CASS CERTIFICATION | C23: EACH
A24: 15 | B24: MERGE/PURGE | C24: EACH
A25: 16 | B25: CREATE SCANABLE NUMERIC SCAN LINE(S) NOT PROVIDED WITHIN SUBMITTED FILE | C25: EACH
A26: 17 | B26: SINGLE HEAD INK JET PRINTING | C26: EACH
A27: 18 | B27: DUAL HEAD INK JET PRINTING | C27: EACH
A28: 19 | B28: NCOA PROCESSING | C28: EACH
A29: 20 | B29: PMS INK WITH MAGNETIC PROPERTIES | C29: EACH
A30: PAPER (PER THOUSAND) MINIMUM 100% TOTAL RECYCLED MATERIAL AND 50% POST-CONSUMER RECYCLED (PCR) CONTENT
A31: 21 | B31: PAPER 8 ½" x 11" WHITE 60# | C31: EACH
A32: 22 | B32: PAPER 8 ½" x 11" COLOR 60# | C32: EACH
A33: 23 | B33: PAPER 8 ½" x 14" WHITE 60# | C33: EACH
A34: 24 | B34: PAPER 8 ½" x 14" COLOR 60# | C34: EACH
A35: 25 | B35: PAPER 11" x 17" WHITE 60# | C35: EACH
A36: 26 | B36: PAPER 11" x 17" COLOR 60# | C36: EACH
A37: 27 | B37: PAPER 25 ½" x 11" WHITE 60# | C37: EACH
A38: 28 | B38: PAPER 25 ½" x 11" COLOR 60# | C38: EACH
A39: 29 | B39: PAPER 4 ¼" x 6" POST CARD WHITE HI BULK OFFSET (PER POSTAL REGULATIONS) | C39: EACH
A40: 30 | B40: PAPER 5 ½" x 8 ½" POST CARD WHITE HI BULK OFFSET (PER POSTAL REGULATIONS) | C40: EACH
A41: LASER PRINTING (PER THOUSAND)
A42: 31 | B42: LASER PRINTING FOR 8 ½" x 11" OR 8 ½" x 14": SIMPLEX 1/0 BLACK | C42: EACH
A43: 32 | B43: LASER PRINTING FOR 8 ½" x 11" OR 8 ½" x 14": SIMPLEX 2/0 BLACK & COLOR | C43: EACH
A44: 33 | B44: LASER PRINTING FOR 8 ½" x 11" OR 8 ½" x 14": SIMPLEX 4/0 PROCESS | C44: EACH
A45: 34 | B45: LASER PRINTING FOR 8 ½" x 11" or 8 ½" x 14": DUPLEX 1/0 BLACK OVER BLACK | C45: EACH
A46: 35 | B46: LASER PRINTING FOR 8 ½" x 11" OR 8 ½" x 14": DUPLEX 1/1 BLACK OVER BLACK | C46: EACH
A47: 36 | B47: LASER PRINTING FOR 8 ½" x 11" OR 8 ½" x 14": DUPLEX 2/1 BLACK & COLOR OVER BLACK | C47: EACH
A48: 37 | B48: LASER PRINTING FOR 8 ½" x 11" OR 8 ½" x 14": DUPLEX 2/2 BLACK & COLOR OVER BLACK & COLOR | C48: EACH
A49: 38 | B49: LASER PRINTING FOR 8 ½" x 11" OR 8 ½" x 14": DUPLEX 4/1 PROCESS OVER BLACK | C49: EACH
A50: 39 | B50: LASER PRINTING FOR 8 ½" x 11" OR 8 ½" x 14": DUPLEX 4/2 PROCESS OVER BLACK & COLOR | C50: EACH
A51: 40 | B51: LASER PRINTING FOR 8 ½" x 11" OR 8 ½" x 14": DUPLEX 4/4 PROCESS COLOR OVER PROCESS COLOR | C51: EACH
A52: 41 | B52: LASER PRINTING FOR 11" x 17": SIMPLEX 1/0 BLACK | C52: EACH
A53: 42 | B53: LASER PRINTING FOR 11" x 17": SIMPLEX 2/0 BLACK & COLOR | C53: EACH
... A86: 75 | B86: LASER PRINTING FOR ENVELOPES DUPLEX 2/2 BLACK & COLOR OVER BLACK & COLOR | C86: EACH
A87: PERFORATIONS AND FOLDINGS (PER THOUSAND)
A88: 76 | B88: PERFORATION AT 3 ½" x 11" FROM SHEET EDGE TO CREATE STUB | C88: EACH
A89: 77 | B89: PERFORATION AT 3 ¾" x 11" FROM SHEET EDGE TO CREATE STUB | C89: EACH
A90: 78 | B90: PERFORATED PAPER 8 ½" x 11" WHITE 60# | C90: EACH
A91: 79 | B91: FOLDING 8 ½" x 11" SHEET FOLDED TO FIT ENVELOPE | C91: EACH
A92: 80 | B92: FOLDING 8 ½" x 14" SHEET FOLDED TO FIT ENVELOPE | C92: EACH
A93: 81 | B93: FOLDING 11" x 17" SHEET FOLDED TO FIT ENVELOPE | C93: EACH
A94: 82 | B94: FOLDING 25 ½" x 11" SHEET FOLDED TO FIT ENVELOPE | C94: EACH
A95: PRE-PRINTED FORMS - OFFSET PRINTING (PER THOUSAND)
A96: 83 | B96: PRE-PRINTED FORMS - OFFSET PRINTING 8 ½" x 11", PRINTS 1/0 | C96: EACH
A97: 84 | B97: PRE-PRINTED FORMS - OFFSET PRINTING 8 ½" x 11", PRINTS 1/1 | C97: EACH
A98: 85 | B98: PRE-PRINTED FORMS - OFFSET PRINTING 8 ½" x 11", PRINTS 2/0 | C98: EACH
A99: 86 | B99: PRE-PRINTED FORMS - OFFSET PRINTING 8 ½" x 11", PRINTS 2/1 | C99: EACH
A100: 87 | B100: PRE-PRINTED FORMS - OFFSET PRINTING 8 ½" x 11", PRINTS 2/2 | C100: EACH
A101: 88 | B101: PRE-PRINTED FORMS - OFFSET PRINTING 8 ½" x 14", PRINTS 1/0 | C101: EACH
A102: 89 | B102: PRE-PRINTED FORMS - OFFSET PRINTING 8 ½" x 14", PRINTS 1/1 | C102: EACH
A103: 90 | B103: PRE-PRINTED FORMS - OFFSET PRINTING 8 ½" x 14", PRINTS 2/0 | C103: EACH
A104: 91 | B104: PRE-PRINTED FORMS - OFFSET PRINTING 8 ½" x 14", PRINTS 2/1 | C104: EACH
A105: 92 | B105: PRE-PRINTED FORMS - OFFSET PRINTING 8 ½" x 14", PRINTS 2/2 | C105: EACH
A106: 93 | B106: PRE-PRINTED FORMS - OFFSET PRINTING 11" x 17", PRINTS 1/0 | C106: EACH
A107: 94 | B107: PRE-PRINTED FORMS - OFFSET PRINTING 11" x 17", PRINTS 1/1 | C107: EACH
... A115: 102 | B115: PRE-PRINTED FORMS - OFFSET PRINTING 25 ½" x 11", PRINTS 2/2 | C115: EACH
A116: ENVELOPES (PER THOUSAND)
A117: 103 | B117: #9 REGULAR ENVELOPE #20 WHITE WOVE | C117: EACH
A118: 104 | B118: #9 REGULAR ENVELOPE #24 WHITE WOVE | C118: EACH
A119: 105 | B119: #10 REGULAR ENVELOPE #20 WHITE WOVE | C119: EACH
A120: 106 | B120: #10 REGULAR ENVELOPE #24 WHITE WOVE | C120: EACH
A121: 107 | B121: #10 STANDARD WINDOW ENVELOPE #20 WHITE WOVE | C121: EACH
A122: 108 | B122: #10 STANDARD WINDOW ENVELOPE #24 WHITE WOVE | C122: EACH
A123: 109 | B123: #9 BRE #24 WHITE WOVE DIAGONAL SEAM | C123: EACH
A124: 110 | B124: #9 BRE STANDARD COLOR #24 WHITE WOVE DIAGONAL SEAM | C124: EACH
A125: 111 | B125: #9 BRE CUSTOM WINDOW (OPEN WINDOW) #24 WHITE WOVE DIAGONAL SEAM INCLUDES PRINTING UP TO TWO (2) COLORS SEE LINE ITEM #2 FOR ONE-TIME DIE CHARGES | C125: EACH
A126: 112 | B126: #9 BRE CUSTOM WINDOW (OPEN WINDOW) #24 COLOR WOVE DIAGONAL SEAM INCLUDES PRINTING UP TO TWO (2) COLORS SEE LINE ITEM #2 FOR ONE-TIME DIE CHARGES | C126: EACH
A127: 113 | B127: 9" x 12" ENVELOPE, #24 WHITE WOVE OPEN END | C127: EACH
A128: 114 | B128: 9" x 12" CUSTOM WINDOW ENVELOPE, #24 WHITE WOVE OPEN END SEE LINE ITEM #3 FOR ONE-TIME DIE CHARGES | C128: EACH
A129: OFFSET PRINTING FOR ENVELOPES (PER THOUSAND)
A130: 115 | B130: OFFSET PRINTING FOR ENVELOPES: SIMPLEX 1/0 BLACK | C130: EACH
A131: 116 | B131: OFFSET PRINTING FOR ENVELOPES: SIMPLEX 2/0 BLACK & COLOR | C131: EACH
A132: 117 | B132: OFFSET PRINTING FOR ENVELOPES: DUPLEX 1/1 BLACK | C132: EACH
A133: 118 | B133: OFFSET PRINTING FOR ENVELOPES: DUPLEX 2/1 BLACK & COLOR OVER BLACK | C133: EACH
A134: 119 | B134: OFFSET PRINTING FOR ENVELOPES: DUPLEX 2/2 BLACK & COLOR OVER BLACK & COLOR | C134: EACH
A135: RANGE 2,500 - 4,999
A136: SERVICES (PER THOUSAND)
A137: 120 | B137: INSERTING | C137: EACH
A138: 121 | B138: INTELLIGENT INSERTING | C138: EACH
A139: 122 | B139: HAND INSERTING AND/OR MATCH MAIL SERVICE | C139: EACH
...

Sheet Price Sheet (Grid)
A1: Quantity Pricing (Auto-Populated from Price Sheet)
D2: Ranges
A3: Function | C3: 1 - 999 | D3: 1000 - 2,499 | E3: 2,500 - 4,999 | F3: 5,000 - 9,999 | G3: 10,000 -24,999 | H3: 25,000 - 49,999 | I3: 50,000 - 99,999 | J3: 100,000 - 149,999 | K3: 150,000 - 199,999 | L3: 200,000 - 299,999 | M3: 300,000 - 399,999 | N3: 400,000 - 499,999 | O3: 500,000 - 749,999 | P3: 750,000 - 999,999 | Q3: 1MM - and Up
A4: Minimum Order Charge for orders of less than 1000 | B4: ='Price Sheet'!D7 -> 0 | C4: =B4 -> 0
A5: Paper | C5: 1 - 999 | D5: 1000 - 2,499 | E5: 2,500 - 4,999 | F5: 5,000 - 9,999 | G5: 10,000 -24,999 | H5: 25,000 - 49,999 | I5: 50,000 - 99,999 | J5: 100,000 - 149,999 | K5: 150,000 - 199,999 | L5: 200,000 - 299,999 | M5: 300,000 - 399,999 | N5: 400,000 - 499,999 | O5: 500,000 - 749,999 | P5: 750,000 - 999,999 | Q5: 1MM - and Up
A6: Paper: 8 1/2" x 11" White 60# | C6: =D6 -> 0 | D6: ='Price Sheet'!D31 -> 0 | E6: ='Price Sheet'!D151 -> 0 | F6: ='Price Sheet'!D271 -> 0 | G6: ='Price Sheet'!D391 -> 0 | H6: ='Price Sheet'!D511 -> 0 | I6: ='Price Sheet'!D631 -> 0 | J6: ='Price Sheet'!D751 -> 0 | K6: ='Price Sheet'!D872 -> 0 | L6: ='Price Sheet'!D992 -> 0 | M6: ='Price Sheet'!D1112 -> 0 | N6: ='Price Sheet'!D1232 -> 0 | O6: ='Price Sheet'!D1352 -> 0 | P6: ='Price Sheet'!D1472 -> 0 | Q6: ='Price Sheet'!D1592 -> 0
A7: Paper: 8 1/2" x 11" Color 60# | C7: =D7 -> 0 | D7: ='Price Sheet'!D32 -> 0 | E7: ='Price Sheet'!D152 -> 0 | F7: ='Price Sheet'!D272 -> 0 | G7: ='Price Sheet'!D392 -> 0 | H7: ='Price Sheet'!D512 -> 0 | I7: ='Price Sheet'!D632 -> 0 | J7: ='Price Sheet'!D752 -> 0 | K7: ='Price Sheet'!D873 -> 0 | L7: ='Price Sheet'!D993 -> 0 | M7: ='Price Sheet'!D1113 -> 0 | N7: ='Price Sheet'!D1233 -> 0 | O7: ='Price Sheet'!D1353 -> 0 | P7: ='Price Sheet'!D1473 -> 0 | Q7: ='Price Sheet'!D1593 -> 0
A8: Paper: 8 1/2" x 14" White 60# | C8: =D8 -> 0 | D8: ='Price Sheet'!D33 -> 0 | E8: ='Price Sheet'!D153 -> 0 | F8: ='Price Sheet'!D273 -> 0 | G8: ='Price Sheet'!D393 -> 0 | H8: ='Price Sheet'!D513 -> 0 | I8: ='Price Sheet'!D633 -> 0 | J8: ='Price Sheet'!D753 -> 0 | K8: ='Price Sheet'!D874 -> 0 | L8: ='Price Sheet'!D994 -> 0 | M8: ='Price Sheet'!D1114 -> 0 | N8: ='Price Sheet'!D1234 -> 0 | O8: ='Price Sheet'!D1354 -> 0 | P8: ='Price Sheet'!D1474 -> 0 | Q8: ='Price Sheet'!D1594 -> 0
A9: Paper: 8 1/2" x 14" Color 60# | C9: =D9 -> 0 | D9: ='Price Sheet'!D34 -> 0 | E9: ='Price Sheet'!D154 -> 0 | F9: ='Price Sheet'!D274 -> 0 | G9: ='Price Sheet'!D394 -> 0 | H9: ='Price Sheet'!D514 -> 0 | I9: ='Price Sheet'!D634 -> 0 | J9: ='Price Sheet'!D754 -> 0 | K9: ='Price Sheet'!D875 -> 0 | L9: ='Price Sheet'!D995 -> 0 | M9: ='Price Sheet'!D1115 -> 0 | N9: ='Price Sheet'!D1235 -> 0 | O9: ='Price Sheet'!D1355 -> 0 | P9: ='Price Sheet'!D1475 -> 0 | Q9: ='Price Sheet'!D1595 -> 0
A10: Paper: 11" x 17" White 60# | C10: =D10 -> 0 | D10: ='Price Sheet'!D35 -> 0 | E10: ='Price Sheet'!D155 -> 0 | F10: ='Price Sheet'!D275 -> 0 | G10: ='Price Sheet'!D395 -> 0 | H10: ='Price Sheet'!D515 -> 0 | I10: ='Price Sheet'!D635 -> 0 | J10: ='Price Sheet'!D755 -> 0 | K10: ='Price Sheet'!D876 -> 0 | L10: ='Price Sheet'!D996 -> 0 | M10: ='Price Sheet'!D1116 -> 0 | N10: ='Price Sheet'!D1236 -> 0 | O10: ='Price Sheet'!D1356 -> 0 | P10: ='Price Sheet'!D1476 -> 0 | Q10: ='Price Sheet'!D1596 -> 0
A11: Paper: 11" x 17" Color 60# | C11: =D11 -> 0 | D11: ='Price Sheet'!D36 -> 0 | E11: ='Price Sheet'!D156 -> 0 | F11: ='Price Sheet'!D276 -> 0 | G11: ='Price Sheet'!D396 -> 0 | H11: ='Price Sheet'!D516 -> 0 | I11: ='Price Sheet'!D636 -> 0 | J11: ='Price Sheet'!D756 -> 0 | K11: ='Price Sheet'!D877 -> 0 | L11: ='Price Sheet'!D997 -> 0 | M11: ='Price Sheet'!D1117 -> 0 | N11: ='Price Sheet'!D1237 -> 0 | O11: ='Price Sheet'!D1357 -> 0 | P11: ='Price Sheet'!D1477 -> 0 | Q11: ='Price Sheet'!D1597 -> 0
A12: Paper: 25 1/2" x 11" White 60# | C12: =D12 -> 0 | D12: ='Price Sheet'!D37 -> 0 | E12: ='Price Sheet'!D157 -> 0 | F12: ='Price Sheet'!D277 -> 0 | G12: ='Price Sheet'!D397 -> 0 | H12: ='Price Sheet'!D517 -> 0 | I12: ='Price Sheet'!D637 -> 0 | J12: ='Price Sheet'!D757 -> 0 | K12: ='Price Sheet'!D878 -> 0 | L12: ='Price Sheet'!D998 -> 0 | M12: ='Price Sheet'!D1118 -> 0 | N12: ='Price Sheet'!D1238 -> 0 | O12: ='Price Sheet'!D1358 -> 0 | P12: ='Price Sheet'!D1478 -> 0 | Q12: ='Price Sheet'!D1598 -> 0
A13: Paper: 25 1/2" x 11" Color 60# | C13: =D13 -> 0 | D13: ='Price Sheet'!D38 -> 0 | E13: ='Price Sheet'!D158 -> 0 | F13: ='Price Sheet'!D278 -> 0 | G13: ='Price Sheet'!D398 -> 0 | H13: ='Price Sheet'!D518 -> 0 | I13: ='Price Sheet'!D638 -> 0 | J13: ='Price Sheet'!D758 -> 0 | K13: ='Price Sheet'!D879 -> 0 | L13: ='Price Sheet'!D999 -> 0 | M13: ='Price Sheet'!D1119 -> 0 | N13: ='Price Sheet'!D1239 -> 0 | O13: ='Price Sheet'!D1359 -> 0 | P13: ='Price Sheet'!D1479 -> 0 | Q13: ='Price Sheet'!D1599 -> 0
A14: Paper: 4 1/4" x 6" Post Card White Hi Bulk Offset (per postal regulatons) | C14: =D14 -> 0 | D14: ='Price Sheet'!D39 -> 0 | E14: ='Price Sheet'!D159 -> 0 | F14: ='Price Sheet'!D279 -> 0 | G14: ='Price Sheet'!D399 -> 0 | H14: ='Price Sheet'!D519 -> 0 | I14: ='Price Sheet'!D639 -> 0 | J14: ='Price Sheet'!D759 -> 0 | K14: ='Price Sheet'!D880 -> 0 | L14: ='Price Sheet'!D1000 -> 0 | M14: ='Price Sheet'!D1120 -> 0 | N14: ='Price Sheet'!D1240 -> 0 | O14: ='Price Sheet'!D1360 -> 0 | P14: ='Price Sheet'!D1480 -> 0 | Q14: ='Price Sheet'!D1600 -> 0
A15: Paper: 5 1/2" x 8 1/2" Post Card White Hi Bulk Offset (per postal regulatons) | C15: =D15 -> 0 | D15: ='Price Sheet'!D40 -> 0 | E15: ='Price Sheet'!D160 -> 0 | F15: ='Price Sheet'!D280 -> 0 | G15: ='Price Sheet'!D400 -> 0 | H15: ='Price Sheet'!D520 -> 0 | I15: ='Price Sheet'!D640 -> 0 | J15: ='Price Sheet'!D760 -> 0 | K15: ='Price Sheet'!D881 -> 0 | L15: ='Price Sheet'!D1001 -> 0 | M15: ='Price Sheet'!D1121 -> 0 | N15: ='Price Sheet'!D1241 -> 0 | O15: ='Price Sheet'!D1361 -> 0 | P15: ='Price Sheet'!D1481 -> 0 | Q15: ='Price Sheet'!D1601 -> 0
A16: Laser Printing | C16: 1 - 999 | D16: 1000 - 2,499 | E16: 2,500 - 4,999 | F16: 5,000 - 9,999 | G16: 10,000 -24,999 | H16: 25,000 - 49,999 | I16: 50,000 - 99,999 | J16: 100,000 - 149,999 | K16: 150,000 - 199,999 | L16: 200,000 - 299,999 | M16: 300,000 - 399,999 | N16: 400,000 - 499,999 | O16: 500,000 - 749,999 | P16: 750,000 - 999,999 | Q16: 1MM - and Up
A17: LASER PRINTING for 8 1/2" x 11" or 8 1/2" x 14": Simplex 1/0 Black | C17: =D17 -> 0 | D17: ='Price Sheet'!D42 -> 0 | E17: ='Price Sheet'!D162 -> 0 | F17: ='Price Sheet'!D282 -> 0 | G17: ='Price Sheet'!D402 -> 0 | H17: ='Price Sheet'!D522 -> 0 | I17: ='Price Sheet'!D642 -> 0 | J17: ='Price Sheet'!D762 -> 0 | K17: ='Price Sheet'!D883 -> 0 | L17: ='Price Sheet'!D1003 -> 0 | M17: ='Price Sheet'!D1123 -> 0 | N17: ='Price Sheet'!D1243 -> 0 | O17: ='Price Sheet'!D1363 -> 0 | P17: ='Price Sheet'!D1483 -> 0 | Q17: ='Price Sheet'!D1603 -> 0
A18: LASER PRINTING for 8 1/2" x 11" or 8 1/2" x 14": Simplex 2/0 Black & Color | C18: =D18 -> 0 | D18: ='Price Sheet'!D43 -> 0 | E18: ='Price Sheet'!D163 -> 0 | F18: ='Price Sheet'!D283 -> 0 | G18: ='Price Sheet'!D403 -> 0 | H18: ='Price Sheet'!D523 -> 0 | I18: ='Price Sheet'!D643 -> 0 | J18: ='Price Sheet'!D763 -> 0 | K18: ='Price Sheet'!D884 -> 0 | L18: ='Price Sheet'!D1004 -> 0 | M18: ='Price Sheet'!D1124 -> 0 | N18: ='Price Sheet'!D1244 -> 0 | O18: ='Price Sheet'!D1364 -> 0 | P18: ='Price Sheet'!D1484 -> 0 | Q18: ='Price Sheet'!D1604 -> 0
A19: LASER PRINTING for 8 1/2" x 11" or 8 1/2" x 14": Simplex 4/0 Process | C19: =D19 -> 0 | D19: ='Price Sheet'!D44 -> 0 | E19: ='Price Sheet'!D164 -> 0 | F19: ='Price Sheet'!D284 -> 0 | G19: ='Price Sheet'!D404 -> 0 | H19: ='Price Sheet'!D524 -> 0 | I19: ='Price Sheet'!D644 -> 0 | J19: ='Price Sheet'!D764 -> 0 | K19: ='Price Sheet'!D885 -> 0 | L19: ='Price Sheet'!D1005 -> 0 | M19: ='Price Sheet'!D1125 -> 0 | N19: ='Price Sheet'!D1245 -> 0 | O19: ='Price Sheet'!D1365 -> 0 | P19: ='Price Sheet'!D1485 -> 0 | Q19: ='Price Sheet'!D1605 -> 0
A20: LASER PRINTING for 8 1/2" x 11" or 8 1/2" x 14": Duplex 1/0 Black Over Black | C20: =D20 -> 0 | D20: ='Price Sheet'!D45 -> 0 | E20: ='Price Sheet'!D165 -> 0 | F20: ='Price Sheet'!D285 -> 0 | G20: ='Price Sheet'!D405 -> 0 | H20: ='Price Sheet'!D525 -> 0 | I20: ='Price Sheet'!D645 -> 0 | J20: ='Price Sheet'!D765 -> 0 | K20: ='Price Sheet'!D886 -> 0 | L20: ='Price Sheet'!D1006 -> 0 | M20: ='Price Sheet'!D1126 -> 0 | N20: ='Price Sheet'!D1246 -> 0 | O20: ='Price Sheet'!D1366 -> 0 | P20: ='Price Sheet'!D1486 -> 0 | Q20: ='Price Sheet'!D1606 -> 0
A21: LASER PRINTING for 8 1/2" x 11" or 8 1/2" x 14": Duplex 1/1 Black Over Black | C21: =D21 -> 0 | D21: ='Price Sheet'!D46 -> 0 | E21: ='Price Sheet'!D166 -> 0 | F21: ='Price Sheet'!D286 -> 0 | G21: ='Price Sheet'!D406 -> 0 | H21: ='Price Sheet'!D526 -> 0 | I21: ='Price Sheet'!D646 -> 0 | J21: ='Price Sheet'!D766 -> 0 | K21: ='Price Sheet'!D887 -> 0 | L21: ='Price Sheet'!D1007 -> 0 | M21: ='Price Sheet'!D1127 -> 0 | N21: ='Price Sheet'!D1247 -> 0 | O21: ='Price Sheet'!D1367 -> 0 | P21: ='Price Sheet'!D1487 -> 0 | Q21: ='Price Sheet'!D1607 -> 0
A22: LASER PRINTING for 8 1/2" x 11" or 8 1/2" x 14": Duplex 2/1 Black & Color Over Black | C22: =D22 -> 0 | D22: ='Price Sheet'!D47 -> 0 | E22: ='Price Sheet'!D167 -> 0 | F22: ='Price Sheet'!D287 -> 0 | G22: ='Price Sheet'!D407 -> 0 | H22: ='Price Sheet'!D527 -> 0 | I22: ='Price Sheet'!D647 -> 0 | J22: ='Price Sheet'!D767 -> 0 | K22: ='Price Sheet'!D888 -> 0 | L22: ='Price Sheet'!D1008 -> 0 | M22: ='Price Sheet'!D1128 -> 0 | N22: ='Price Sheet'!D1248 -> 0 | O22: ='Price Sheet'!D1368 -> 0 | P22: ='Price Sheet'!D1488 -> 0 | Q22: ='Price Sheet'!D1608 -> 0
A23: LASER PRINTING for 8 1/2" x 11" or 8 1/2" x 14": Duplex 2/2 Black & Color Over Black & Color | C23: =D23 -> 0 | D23: ='Price Sheet'!D48 -> 0 | E23: ='Price Sheet'!D168 -> 0 | F23: ='Price Sheet'!D288 -> 0 | G23: ='Price Sheet'!D408 -> 0 | H23: ='Price Sheet'!D528 -> 0 | I23: ='Price Sheet'!D648 -> 0 | J23: ='Price Sheet'!D768 -> 0 | K23: ='Price Sheet'!D889 -> 0 | L23: ='Price Sheet'!D1009 -> 0 | M23: ='Price Sheet'!D1129 -> 0 | N23: ='Price Sheet'!D1249 -> 0 | O23: ='Price Sheet'!D1369 -> 0 | P23: ='Price Sheet'!D1489 -> 0 | Q23: ='Price Sheet'!D1609 -> 0
A24: LASER PRINTING for 8 1/2" x 11" or 8 1/2" x 14": Duplex 4/1 Process Over Black | C24: =D24 -> 0 | D24: ='Price Sheet'!D49 -> 0 | E24: ='Price Sheet'!D169 -> 0 | F24: ='Price Sheet'!D289 -> 0 | G24: ='Price Sheet'!D409 -> 0 | H24: ='Price Sheet'!D529 -> 0 | I24: ='Price Sheet'!D649 -> 0 | J24: ='Price Sheet'!D769 -> 0 | K24: ='Price Sheet'!D890 -> 0 | L24: ='Price Sheet'!D1010 -> 0 | M24: ='Price Sheet'!D1130 -> 0 | N24: ='Price Sheet'!D1250 -> 0 | O24: ='Price Sheet'!D1370 -> 0 | P24: ='Price Sheet'!D1490 -> 0 | Q24: ='Price Sheet'!D1610 -> 0
A25: LASER PRINTING for 8 1/2" x 11" or 8 1/2" x 14": Duplex 4/2 Process Over Black & Color | C25: =D25 -> 0 | D25: ='Price Sheet'!D50 -> 0 | E25: ='Price Sheet'!D170 -> 0 | F25: ='Price Sheet'!D290 -> 0 | G25: ='Price Sheet'!D410 -> 0 | H25: ='Price Sheet'!D530 -> 0 | I25: ='Price Sheet'!D650 -> 0 | J25: ='Price Sheet'!D770 -> 0 | K25: ='Price Sheet'!D891 -> 0 | L25: ='Price Sheet'!D1011 -> 0 | M25: ='Price Sheet'!D1131 -> 0 | N25: ='Price Sheet'!D1251 -> 0 | O25: ='Price Sheet'!D1371 -> 0 | P25: ='Price Sheet'!D1491 -> 0 | Q25: ='Price Sheet'!D1611 -> 0
A26: LASER PRINTING for 8 1/2" x 11" or 8 1/2" x 14": Duplex 4/4 Process Color Over Process Color | C26: =D26 -> 0 | D26: ='Price Sheet'!D51 -> 0 | E26: ='Price Sheet'!D171 -> 0 | F26: ='Price Sheet'!D291 -> 0 | G26: ='Price Sheet'!D411 -> 0 | H26: ='Price Sheet'!D531 -> 0 | I26: ='Price Sheet'!D651 -> 0 | J26: ='Price Sheet'!D771 -> 0 | K26: ='Price Sheet'!D892 -> 0 | L26: ='Price Sheet'!D1012 -> 0 | M26: ='Price Sheet'!D1132 -> 0 | N26: ='Price Sheet'!D1252 -> 0 | O26: ='Price Sheet'!D1372 -> 0 | P26: ='Price Sheet'!D1492 -> 0 | Q26: ='Price Sheet'!D1612 -> 0
A27: LASER PRINTING for 11" x 17": Simplex 1/0 Black | C27: =D27 -> 0 | D27: ='Price Sheet'!D52 -> 0 | E27: ='Price Sheet'!D172 -> 0 | F27: ='Price Sheet'!D292 -> 0 | G27: ='Price Sheet'!D412 -> 0 | H27: ='Price Sheet'!D532 -> 0 | I27: ='Price Sheet'!D652 -> 0 | J27: ='Price Sheet'!D772 -> 0 | K27: ='Price Sheet'!D893 -> 0 | L27: ='Price Sheet'!D1013 -> 0 | M27: ='Price Sheet'!D1133 -> 0 | N27: ='Price Sheet'!D1253 -> 0 | O27: ='Price Sheet'!D1373 -> 0 | P27: ='Price Sheet'!D1493 -> 0 | Q27: ='Price Sheet'!D1613 -> 0
A28: LASER PRINTING for 11" x 17": Simplex 2/0 Black & Color | C28: =D28 -> 0 | D28: ='Price Sheet'!D53 -> 0 | E28: ='Price Sheet'!D173 -> 0 | F28: ='Price Sheet'!D293 -> 0 | G28: ='Price Sheet'!D413 -> 0 | H28: ='Price Sheet'!D533 -> 0 | I28: ='Price Sheet'!D653 -> 0 | J28: ='Price Sheet'!D773 -> 0 | K28: ='Price Sheet'!D894 -> 0 | L28: ='Price Sheet'!D1014 -> 0 | M28: ='Price Sheet'!D1134 -> 0 | N28: ='Price Sheet'!D1254 -> 0 | O28: ='Price Sheet'!D1374 -> 0 | P28: ='Price Sheet'!D1494 -> 0 | Q28: ='Price Sheet'!D1614 -> 0
... A61: LASER PRINTING for ENVELOPES Duplex 2/2 Black & Color Over Black & Color | C61: =D61 -> 0 | D61: ='Price Sheet'!D86 -> 0 | E61: ='Price Sheet'!D206 -> 0 | F61: ='Price Sheet'!D326 -> 0 | G61: ='Price Sheet'!D446 -> 0 | H61: ='Price Sheet'!D566 -> 0 | I61: ='Price Sheet'!D686 -> 0 | J61: ='Price Sheet'!D806 -> 0 | K61: ='Price Sheet'!D927 -> 0 | L61: ='Price Sheet'!D1047 -> 0 | M61: ='Price Sheet'!D1167 -> 0 | N61: ='Price Sheet'!D1287 -> 0 | O61: ='Price Sheet'!D1407 -> 0 | P61: ='Price Sheet'!D1527 -> 0 | Q61: ='Price Sheet'!D1647 -> 0
A62: Perforations and Foldings | C62: 1 - 999 | D62: 1000 - 2,499 | E62: 2,500 - 4,999 | F62: 5,000 - 9,999 | G62: 10,000 -24,999 | H62: 25,000 - 49,999 | I62: 50,000 - 99,999 | J62: 100,000 - 149,999 | K62: 150,000 - 199,999 | L62: 200,000 - 299,999 | M62: 300,000 - 399,999 | N62: 400,000 - 499,999 | O62: 500,000 - 749,999 | P62: 750,000 - 999,999 | Q62: 1MM - and Up
A63: PERFORATING: Perf. @ 3 1/2" from sheet edge to create a stub | C63: =D63 -> 0 | D63: ='Price Sheet'!D88 -> 0 | E63: ='Price Sheet'!D208 -> 0 | F63: ='Price Sheet'!D328 -> 0 | G63: ='Price Sheet'!D448 -> 0 | H63: ='Price Sheet'!D568 -> 0 | I63: ='Price Sheet'!D688 -> 0 | J63: ='Price Sheet'!D808 -> 0 | K63: ='Price Sheet'!D929 -> 0 | L63: ='Price Sheet'!D1049 -> 0 | M63: ='Price Sheet'!D1169 -> 0 | N63: ='Price Sheet'!D1289 -> 0 | O63: ='Price Sheet'!D1409 -> 0 | P63: ='Price Sheet'!D1529 -> 0 | Q63: ='Price Sheet'!D1649 -> 0
A64: PERFORATING:Perf. @ 3 3/4" from sheet edge to create a stub | C64: =D64 -> 0 | D64: ='Price Sheet'!D89 -> 0 | E64: ='Price Sheet'!D209 -> 0 | F64: ='Price Sheet'!D329 -> 0 | G64: ='Price Sheet'!D449 -> 0 | H64: ='Price Sheet'!D569 -> 0 | I64: ='Price Sheet'!D689 -> 0 | J64: ='Price Sheet'!D809 -> 0 | K64: ='Price Sheet'!D930 -> 0 | L64: ='Price Sheet'!D1050 -> 0 | M64: ='Price Sheet'!D1170 -> 0 | N64: ='Price Sheet'!D1290 -> 0 | O64: ='Price Sheet'!D1410 -> 0 | P64: ='Price Sheet'!D1530 -> 0 | Q64: ='Price Sheet'!D1650 -> 0
A65: PERFORATED PAPER 8 ½" x 11" White 60# | C65: =D65 -> 0 | D65: ='Price Sheet'!D90 -> 0 | E65: ='Price Sheet'!D210 -> 0 | F65: ='Price Sheet'!D330 -> 0 | G65: ='Price Sheet'!D450 -> 0 | H65: ='Price Sheet'!D570 -> 0 | I65: ='Price Sheet'!D690 -> 0 | J65: ='Price Sheet'!D810 -> 0 | K65: ='Price Sheet'!D931 -> 0 | L65: ='Price Sheet'!D1051 -> 0 | M65: ='Price Sheet'!D1171 -> 0 | N65: ='Price Sheet'!D1291 -> 0 | O65: ='Price Sheet'!D1411 -> 0 | P65: ='Price Sheet'!D1531 -> 0 | Q65: ='Price Sheet'!D1651 -> 0
A66: FOLDING: 8 1/2" x 11" Sheet folded to fit envelope | C66: =D66 -> 0 | D66: ='Price Sheet'!D91 -> 0 | E66: ='Price Sheet'!D211 -> 0 | F66: ='Price Sheet'!D331 -> 0 | G66: ='Price Sheet'!D451 -> 0 | H66: ='Price Sheet'!D571 -> 0 | I66: ='Price Sheet'!D691 -> 0 | J66: ='Price Sheet'!D811 -> 0 | K66: ='Price Sheet'!D932 -> 0 | L66: ='Price Sheet'!D1052 -> 0 | M66: ='Price Sheet'!D1172 -> 0 | N66: ='Price Sheet'!D1292 -> 0 | O66: ='Price Sheet'!D1412 -> 0 | P66: ='Price Sheet'!D1532 -> 0 | Q66: ='Price Sheet'!D1652 -> 0
A67: FOLDING: 8 1/2" x 14" Sheet folded to fit envelope | C67: =D67 -> 0 | D67: ='Price Sheet'!D92 -> 0 | E67: ='Price Sheet'!D212 -> 0 | F67: ='Price Sheet'!D332 -> 0 | G67: ='Price Sheet'!D452 -> 0 | H67: ='Price Sheet'!D572 -> 0 | I67: ='Price Sheet'!D692 -> 0 | J67: ='Price Sheet'!D812 -> 0 | K67: ='Price Sheet'!D933 -> 0 | L67: ='Price Sheet'!D1053 -> 0 | M67: ='Price Sheet'!D1173 -> 0 | N67: ='Price Sheet'!D1293 -> 0 | O67: ='Price Sheet'!D1413 -> 0 | P67: ='Price Sheet'!D1533 -> 0 | Q67: ='Price Sheet'!D1653 -> 0
A68: FOLDING: 11" x 17" Sheet folded to fit envelope | C68: =D68 -> 0 | D68: ='Price Sheet'!D93 -> 0 | E68: ='Price Sheet'!D213 -> 0 | F68: ='Price Sheet'!D333 -> 0 | G68: ='Price Sheet'!D453 -> 0 | H68: ='Price Sheet'!D573 -> 0 | I68: ='Price Sheet'!D693 -> 0 | J68: ='Price Sheet'!D813 -> 0 | K68: ='Price Sheet'!D934 -> 0 | L68: ='Price Sheet'!D1054 -> 0 | M68: ='Price Sheet'!D1174 -> 0 | N68: ='Price Sheet'!D1294 -> 0 | O68: ='Price Sheet'!D1414 -> 0 | P68: ='Price Sheet'!D1534 -> 0 | Q68: ='Price Sheet'!D1654 -> 0
A69: FOLDING: 25 1/2" x 11" Sheet folded to fit envelope | C69: =D69 -> 0 | D69: ='Price Sheet'!D94 -> 0 | E69: ='Price Sheet'!D214 -> 0 | F69: ='Price Sheet'!D334 -> 0 | G69: ='Price Sheet'!D454 -> 0 | H69: ='Price Sheet'!D574 -> 0 | I69: ='Price Sheet'!D694 -> 0 | J69: ='Price Sheet'!D814 -> 0 | K69: ='Price Sheet'!D935 -> 0 | L69: ='Price Sheet'!D1055 -> 0 | M69: ='Price Sheet'!D1175 -> 0 | N69: ='Price Sheet'!D1295 -> 0 | O69: ='Price Sheet'!D1415 -> 0 | P69: ='Price Sheet'!D1535 -> 0 | Q69: ='Price Sheet'!D1655 -> 0
A70: PRE-PRINTED FORMS - Offset Printing (Informational Documents - Worksheets, Instructions, ect., printed and kept in stock to be inserted as required. Inventory report will be required. Enter prices for printing only. Paper cost is not to be included) | C70: 1 - 999 | D70: 1000 - 2,499 | E70: 2,500 - 4,999 | F70: 5,000 - 9,999 | G70: 10,000 -24,999 | H70: 25,000 - 49,999 | I70: 50,000 - 99,999 | J70: 100,000 - 149,999 | K70: 150,000 - 199,999 | L70: 200,000 - 299,999 | M70: 300,000 - 399,999 | N70: 400,000 - 499,999 | O70: 500,000 - 749,999 | P70: 750,000 - 999,999 | Q70: 1MM - and Up
A71: PRE-PRINTED FORMS - Offset Printing: 8 1/2" X 11", Prints 1/0 | C71: =D71 -> 0 | D71: ='Price Sheet'!D96 -> 0 | E71: ='Price Sheet'!D336 -> 0 | F71: ='Price Sheet'!D456 -> 0 | G71: ='Price Sheet'!D576 -> 0 | H71: ='Price Sheet'!D696 -> 0 | I71: ='Price Sheet'!D817 -> 0 | J71: ='Price Sheet'!D937 -> 0 | K71: ='Price Sheet'!D1057 -> 0 | L71: ='Price Sheet'!D1177 -> 0 | M71: ='Price Sheet'!D1297 -> 0 | N71: ='Price Sheet'!D1297 -> 0 | O71: ='Price Sheet'!D1417 -> 0 | P71: ='Price Sheet'!D1537 -> 0 | Q71: ='Price Sheet'!D1657 -> 0
A72: PRE-PRINTED FORMS - Offset Printing: 8 1/2" X 11", Prints 1/1 | C72: =D72 -> 0 | D72: ='Price Sheet'!D97 -> 0 | E72: ='Price Sheet'!D337 -> 0 | F72: ='Price Sheet'!D457 -> 0 | G72: ='Price Sheet'!D577 -> 0 | H72: ='Price Sheet'!D697 -> 0 | I72: ='Price Sheet'!D818 -> 0 | J72: ='Price Sheet'!D938 -> 0 | K72: ='Price Sheet'!D1058 -> 0 | L72: ='Price Sheet'!D1178 -> 0 | M72: ='Price Sheet'!D1298 -> 0 | N72: ='Price Sheet'!D1298 -> 0 | O72: ='Price Sheet'!D1418 -> 0 | P72: ='Price Sheet'!D1538 -> 0 | Q72: ='Price Sheet'!D1658 -> 0
A73: PRE-PRINTED FORMS - Offset Printing: 8 1/2" X 11", Prints 2/0 | C73: =D73 -> 0 | D73: ='Price Sheet'!D98 -> 0 | E73: ='Price Sheet'!D338 -> 0 | F73: ='Price Sheet'!D458 -> 0 | G73: ='Price Sheet'!D578 -> 0 | H73: ='Price Sheet'!D698 -> 0 | I73: ='Price Sheet'!D819 -> 0 | J73: ='Price Sheet'!D939 -> 0 | K73: ='Price Sheet'!D1059 -> 0 | L73: ='Price Sheet'!D1179 -> 0 | M73: ='Price Sheet'!D1299 -> 0 | N73: ='Price Sheet'!D1299 -> 0 | O73: ='Price Sheet'!D1419 -> 0 | P73: ='Price Sheet'!D1539 -> 0 | Q73: ='Price Sheet'!D1659 -> 0
A74: PRE-PRINTED FORMS - Offset Printing: 8 1/2" X 11", Prints 2/1 | C74: =D74 -> 0 | D74: ='Price Sheet'!D99 -> 0 | E74: ='Price Sheet'!D339 -> 0 | F74: ='Price Sheet'!D459 -> 0 | G74: ='Price Sheet'!D579 -> 0 | H74: ='Price Sheet'!D699 -> 0 | I74: ='Price Sheet'!D820 -> 0 | J74: ='Price Sheet'!D940 -> 0 | K74: ='Price Sheet'!D1060 -> 0 | L74: ='Price Sheet'!D1180 -> 0 | M74: ='Price Sheet'!D1300 -> 0 | N74: ='Price Sheet'!D1300 -> 0 | O74: ='Price Sheet'!D1420 -> 0 | P74: ='Price Sheet'!D1540 -> 0 | Q74: ='Price Sheet'!D1660 -> 0
A75: PRE-PRINTED FORMS - Offset Printing: 8 1/2" X 11", Prints 2/2 | C75: =D75 -> 0 | D75: ='Price Sheet'!D100 -> 0 | E75: ='Price Sheet'!D340 -> 0 | F75: ='Price Sheet'!D460 -> 0 | G75: ='Price Sheet'!D580 -> 0 | H75: ='Price Sheet'!D700 -> 0 | I75: ='Price Sheet'!D821 -> 0 | J75: ='Price Sheet'!D941 -> 0 | K75: ='Price Sheet'!D1061 -> 0 | L75: ='Price Sheet'!D1181 -> 0 | M75: ='Price Sheet'!D1301 -> 0 | N75: ='Price Sheet'!D1301 -> 0 | O75: ='Price Sheet'!D1421 -> 0 | P75: ='Price Sheet'!D1541 -> 0 | Q75: ='Price Sheet'!D1661 -> 0
A76: PRE-PRINTED FORMS - Offset Printing: 8 1/2" x 14", Prints 1/0 | C76: =D76 -> 0 | D76: ='Price Sheet'!D101 -> 0 | E76: ='Price Sheet'!D341 -> 0 | F76: ='Price Sheet'!D461 -> 0 | G76: ='Price Sheet'!D581 -> 0 | H76: ='Price Sheet'!D701 -> 0 | I76: ='Price Sheet'!D822 -> 0 | J76: ='Price Sheet'!D942 -> 0 | K76: ='Price Sheet'!D1062 -> 0 | L76: ='Price Sheet'!D1182 -> 0 | M76: ='Price Sheet'!D1302 -> 0 | N76: ='Price Sheet'!D1302 -> 0 | O76: ='Price Sheet'!D1422 -> 0 | P76: ='Price Sheet'!D1542 -> 0 | Q76: ='Price Sheet'!D1662 -> 0
A77: PRE-PRINTED FORMS - Offset Printing: 8 1/2" x 14", Prints 1/1 | C77: =D77 -> 0 | D77: ='Price Sheet'!D102 -> 0 | E77: ='Price Sheet'!D342 -> 0 | F77: ='Price Sheet'!D462 -> 0 | G77: ='Price Sheet'!D582 -> 0 | H77: ='Price Sheet'!D702 -> 0 | I77: ='Price Sheet'!D823 -> 0 | J77: ='Price Sheet'!D943 -> 0 | K77: ='Price Sheet'!D1063 -> 0 | L77: ='Price Sheet'!D1183 -> 0 | M77: ='Price Sheet'!D1303 -> 0 | N77: ='Price Sheet'!D1303 -> 0 | O77: ='Price Sheet'!D1423 -> 0 | P77: ='Price Sheet'!D1543 -> 0 | Q77: ='Price Sheet'!D1663 -> 0
A78: PRE-PRINTED FORMS - Offset Printing: 8 1/2" x 14", Prints 2/0 | C78: =D78 -> 0 | D78: ='Price Sheet'!D103 -> 0 | E78: ='Price Sheet'!D343 -> 0 | F78: ='Price Sheet'!D463 -> 0 | G78: ='Price Sheet'!D583 -> 0 | H78: ='Price Sheet'!D703 -> 0 | I78: ='Price Sheet'!D824 -> 0 | J78: ='Price Sheet'!D944 -> 0 | K78: ='Price Sheet'!D1064 -> 0 | L78: ='Price Sheet'!D1184 -> 0 | M78: ='Price Sheet'!D1304 -> 0 | N78: ='Price Sheet'!D1304 -> 0 | O78: ='Price Sheet'!D1424 -> 0 | P78: ='Price Sheet'!D1544 -> 0 | Q78: ='Price Sheet'!D1664 -> 0
A79: PRE-PRINTED FORMS - Offset Printing: 8 1/2" x 14", Prints 2/1 | C79: =D79 -> 0 | D79: ='Price Sheet'!D104 -> 0 | E79: ='Price Sheet'!D344 -> 0 | F79: ='Price Sheet'!D464 -> 0 | G79: ='Price Sheet'!D584 -> 0 | H79: ='Price Sheet'!D704 -> 0 | I79: ='Price Sheet'!D825 -> 0 | J79: ='Price Sheet'!D945 -> 0 | K79: ='Price Sheet'!D1065 -> 0 | L79: ='Price Sheet'!D1185 -> 0 | M79: ='Price Sheet'!D1305 -> 0 | N79: ='Price Sheet'!D1305 -> 0 | O79: ='Price Sheet'!D1425 -> 0 | P79: ='Price Sheet'!D1545 -> 0 | Q79: ='Price Sheet'!D1665 -> 0
A80: PRE-PRINTED FORMS - Offset Printing: 8 1/2" x 14", Prints 2/2 | C80: =D80 -> 0 | D80: ='Price Sheet'!D105 -> 0 | E80: ='Price Sheet'!D345 -> 0 | F80: ='Price Sheet'!D465 -> 0 | G80: ='Price Sheet'!D585 -> 0 | H80: ='Price Sheet'!D705 -> 0 | I80: ='Price Sheet'!D826 -> 0 | J80: ='Price Sheet'!D946 -> 0 | K80: ='Price Sheet'!D1066 -> 0 | L80: ='Price Sheet'!D1186 -> 0 | M80: ='Price Sheet'!D1306 -> 0 | N80: ='Price Sheet'!D1306 -> 0 | O80: ='Price Sheet'!D1426 -> 0 | P80: ='Price Sheet'!D1546 -> 0 | Q80: ='Price Sheet'!D1666 -> 0
A81: PRE-PRINTED FORMS - Offset Printing: 11" x 17" , Prints 1/0 | C81: =D81 -> 0 | D81: ='Price Sheet'!D106 -> 0 | E81: ='Price Sheet'!D346 -> 0 | F81: ='Price Sheet'!D466 -> 0 | G81: ='Price Sheet'!D586 -> 0 | H81: ='Price Sheet'!D706 -> 0 | I81: ='Price Sheet'!D827 -> 0 | J81: ='Price Sheet'!D947 -> 0 | K81: ='Price Sheet'!D1067 -> 0 | L81: ='Price Sheet'!D1187 -> 0 | M81: ='Price Sheet'!D1307 -> 0 | N81: ='Price Sheet'!D1307 -> 0 | O81: ='Price Sheet'!D1427 -> 0 | P81: ='Price Sheet'!D1547 -> 0 | Q81: ='Price Sheet'!D1667 -> 0
A82: PRE-PRINTED FORMS - Offset Printing: 11" x 17" , Prints 1/1 | C82: =D82 -> 0 | D82: ='Price Sheet'!D107 -> 0 | E82: ='Price Sheet'!D347 -> 0 | F82: ='Price Sheet'!D467 -> 0 | G82: ='Price Sheet'!D587 -> 0 | H82: ='Price Sheet'!D707 -> 0 | I82: ='Price Sheet'!D828 -> 0 | J82: ='Price Sheet'!D948 -> 0 | K82: ='Price Sheet'!D1068 -> 0 | L82: ='Price Sheet'!D1188 -> 0 | M82: ='Price Sheet'!D1308 -> 0 | N82: ='Price Sheet'!D1308 -> 0 | O82: ='Price Sheet'!D1428 -> 0 | P82: ='Price Sheet'!D1548 -> 0 | Q82: ='Price Sheet'!D1668 -> 0
... A90: PRE-PRINTED FORMS - Offset Printing: 25 1/2" x 11", Prints 2/2 | C90: =D90 -> 0 | D90: ='Price Sheet'!D115 -> 0 | E90: ='Price Sheet'!D355 -> 0 | F90: ='Price Sheet'!D475 -> 0 | G90: ='Price Sheet'!D595 -> 0 | H90: ='Price Sheet'!D715 -> 0 | I90: ='Price Sheet'!D836 -> 0 | J90: ='Price Sheet'!D956 -> 0 | K90: ='Price Sheet'!D1076 -> 0 | L90: ='Price Sheet'!D1196 -> 0 | M90: ='Price Sheet'!D1316 -> 0 | N90: ='Price Sheet'!D1316 -> 0 | O90: ='Price Sheet'!D1436 -> 0 | P90: ='Price Sheet'!D1556 -> 0 | Q90: ='Price Sheet'!D1676 -> 0
A91: Envelopes - some envelopes may need to be kept in stock and used as required. | C91: 1 - 999 | D91: 1000 - 2,499 | E91: 2,500 - 4,999 | F91: 5,000 - 9,999 | G91: 10,000 -24,999 | H91: 25,000 - 49,999 | I91: 50,000 - 99,999 | J91: 100,000 - 149,999 | K91: 150,000 - 199,999 | L91: 200,000 - 299,999 | M91: 300,000 - 399,999 | N91: 400,000 - 499,999 | O91: 500,000 - 749,999 | P91: 750,000 - 999,999 | Q91: 1MM - and Up
A92: ENVELOPES: #9 Reg. Env. #20 White Wove | C92: =D92 -> 0 | D92: ='Price Sheet'!D117 -> 0 | E92: ='Price Sheet'!D117 -> 0 | F92: ='Price Sheet'!D357 -> 0 | G92: ='Price Sheet'!D477 -> 0 | H92: ='Price Sheet'!D597 -> 0 | I92: ='Price Sheet'!D717 -> 0 | J92: ='Price Sheet'!D838 -> 0 | K92: ='Price Sheet'!D958 -> 0 | L92: ='Price Sheet'!D1078 -> 0 | M92: ='Price Sheet'!D1198 -> 0 | N92: ='Price Sheet'!D1318 -> 0 | O92: ='Price Sheet'!D1438 -> 0 | P92: ='Price Sheet'!D1558 -> 0 | Q92: ='Price Sheet'!D1678 -> 0
A93: ENVELOPES: #9 Reg. Env. #24 White Wove | C93: =D93 -> 0 | D93: ='Price Sheet'!D118 -> 0 | E93: ='Price Sheet'!D118 -> 0 | F93: ='Price Sheet'!D358 -> 0 | G93: ='Price Sheet'!D478 -> 0 | H93: ='Price Sheet'!D598 -> 0 | I93: ='Price Sheet'!D718 -> 0 | J93: ='Price Sheet'!D839 -> 0 | K93: ='Price Sheet'!D959 -> 0 | L93: ='Price Sheet'!D1079 -> 0 | M93: ='Price Sheet'!D1199 -> 0 | N93: ='Price Sheet'!D1319 -> 0 | O93: ='Price Sheet'!D1439 -> 0 | P93: ='Price Sheet'!D1559 -> 0 | Q93: ='Price Sheet'!D1679 -> 0
A94: ENVELOPES: #10 Reg. Env. #20 White Wove | C94: =D94 -> 0 | D94: ='Price Sheet'!D119 -> 0 | E94: ='Price Sheet'!D119 -> 0 | F94: ='Price Sheet'!D359 -> 0 | G94: ='Price Sheet'!D479 -> 0 | H94: ='Price Sheet'!D599 -> 0 | I94: ='Price Sheet'!D719 -> 0 | J94: ='Price Sheet'!D840 -> 0 | K94: ='Price Sheet'!D960 -> 0 | L94: ='Price Sheet'!D1080 -> 0 | M94: ='Price Sheet'!D1200 -> 0 | N94: ='Price Sheet'!D1320 -> 0 | O94: ='Price Sheet'!D1440 -> 0 | P94: ='Price Sheet'!D1560 -> 0 | Q94: ='Price Sheet'!D1680 -> 0
A95: ENVELOPES: #10 Reg. Env. #24 White Wove | C95: =D95 -> 0 | D95: ='Price Sheet'!D120 -> 0 | E95: ='Price Sheet'!D120 -> 0 | F95: ='Price Sheet'!D360 -> 0 | G95: ='Price Sheet'!D480 -> 0 | H95: ='Price Sheet'!D600 -> 0 | I95: ='Price Sheet'!D720 -> 0 | J95: ='Price Sheet'!D841 -> 0 | K95: ='Price Sheet'!D961 -> 0 | L95: ='Price Sheet'!D1081 -> 0 | M95: ='Price Sheet'!D1201 -> 0 | N95: ='Price Sheet'!D1321 -> 0 | O95: ='Price Sheet'!D1441 -> 0 | P95: ='Price Sheet'!D1561 -> 0 | Q95: ='Price Sheet'!D1681 -> 0
A96: ENVELOPES: #10 Std. Window Env. #20 White Wove | C96: =D96 -> 0 | D96: ='Price Sheet'!D121 -> 0 | E96: ='Price Sheet'!D121 -> 0 | F96: ='Price Sheet'!D361 -> 0 | G96: ='Price Sheet'!D481 -> 0 | H96: ='Price Sheet'!D601 -> 0 | I96: ='Price Sheet'!D721 -> 0 | J96: ='Price Sheet'!D842 -> 0 | K96: ='Price Sheet'!D962 -> 0 | L96: ='Price Sheet'!D1082 -> 0 | M96: ='Price Sheet'!D1202 -> 0 | N96: ='Price Sheet'!D1322 -> 0 | O96: ='Price Sheet'!D1442 -> 0 | P96: ='Price Sheet'!D1562 -> 0 | Q96: ='Price Sheet'!D1682 -> 0
A97: ENVELOPES: #10 Std. Window Env. #24 White Wove | C97: =D97 -> 0 | D97: ='Price Sheet'!D122 -> 0 | E97: ='Price Sheet'!D122 -> 0 | F97: ='Price Sheet'!D362 -> 0 | G97: ='Price Sheet'!D482 -> 0 | H97: ='Price Sheet'!D602 -> 0 | I97: ='Price Sheet'!D722 -> 0 | J97: ='Price Sheet'!D843 -> 0 | K97: ='Price Sheet'!D963 -> 0 | L97: ='Price Sheet'!D1083 -> 0 | M97: ='Price Sheet'!D1205 -> 0 | N97: ='Price Sheet'!D1323 -> 0 | O97: ='Price Sheet'!D1443 -> 0 | P97: ='Price Sheet'!D1563 -> 0 | Q97: ='Price Sheet'!D1683 -> 0
A98: ENVELOPES: #9 BRE #24 White Wove, Diagonal Seam | C98: =D98 -> 0 | D98: ='Price Sheet'!D123 -> 0 | E98: ='Price Sheet'!D123 -> 0 | F98: ='Price Sheet'!D363 -> 0 | G98: ='Price Sheet'!D483 -> 0 | H98: ='Price Sheet'!D603 -> 0 | I98: ='Price Sheet'!D723 -> 0 | J98: ='Price Sheet'!D844 -> 0 | K98: ='Price Sheet'!D964 -> 0 | L98: ='Price Sheet'!D1084 -> 0 | M98: ='Price Sheet'!D1204 -> 0 | N98: ='Price Sheet'!D1324 -> 0 | O98: ='Price Sheet'!D1444 -> 0 | P98: ='Price Sheet'!D1564 -> 0 | Q98: ='Price Sheet'!D1684 -> 0
A99: ENVELOPES: #9 BRE Std. Color #24 Wove, Diagnal Seam | C99: =D99 -> 0 | D99: ='Price Sheet'!D124 -> 0 | E99: ='Price Sheet'!D124 -> 0 | F99: ='Price Sheet'!D364 -> 0 | G99: ='Price Sheet'!D484 -> 0 | H99: ='Price Sheet'!D604 -> 0 | I99: ='Price Sheet'!D724 -> 0 | J99: ='Price Sheet'!D845 -> 0 | K99: ='Price Sheet'!D965 -> 0 | L99: ='Price Sheet'!D1085 -> 0 | M99: ='Price Sheet'!D1205 -> 0 | N99: ='Price Sheet'!D1325 -> 0 | O99: ='Price Sheet'!D1445 -> 0 | P99: ='Price Sheet'!D1565 -> 0 | Q99: ='Price Sheet'!D1685 -> 0
A100: ENVELOPES: #9 BRE Custom Window (open window), #24 White Wove, Diagonal Seam, Includes printing up to 2 colors (see area below to enter pricing for an associated one time die charge) | C100: =D100 -> 0 | D100: ='Price Sheet'!D125 -> 0 | E100: ='Price Sheet'!D125 -> 0 | F100: ='Price Sheet'!D365 -> 0 | G100: ='Price Sheet'!D485 -> 0 | H100: ='Price Sheet'!D605 -> 0 | I100: ='Price Sheet'!D725 -> 0 | J100: ='Price Sheet'!D846 -> 0 | K100: ='Price Sheet'!D966 -> 0 | L100: ='Price Sheet'!D1086 -> 0 | M100: ='Price Sheet'!D1206 -> 0 | N100: ='Price Sheet'!D1326 -> 0 | O100: ='Price Sheet'!D1446 -> 0 | P100: ='Price Sheet'!D1566 -> 0 | Q100: ='Price Sheet'!D1686 -> 0
A101: ENVELOPES: #9 BRE Custom Window (open window), #24 Color Wove, Diagonal Seam, Includes printing up to 2 colors (see area below to enter pricing for an associated one time die charge) | C101: =D101 -> 0 | D101: ='Price Sheet'!D126 -> 0 | E101: ='Price Sheet'!D126 -> 0 | F101: ='Price Sheet'!D366 -> 0 | G101: ='Price Sheet'!D486 -> 0 | H101: ='Price Sheet'!D606 -> 0 | I101: ='Price Sheet'!D726 -> 0 | J101: ='Price Sheet'!D847 -> 0 | K101: ='Price Sheet'!D967 -> 0 | L101: ='Price Sheet'!D1087 -> 0 | M101: ='Price Sheet'!D1207 -> 0 | N101: ='Price Sheet'!D1327 -> 0 | O101: ='Price Sheet'!D1447 -> 0 | P101: ='Price Sheet'!D1567 -> 0 | Q101: ='Price Sheet'!D1687 -> 0
A102: ENVELOPES: 9" x 12" Env., #24 White Wove, Open End | C102: =D102 -> 0 | D102: ='Price Sheet'!D127 -> 0 | E102: ='Price Sheet'!D127 -> 0 | F102: ='Price Sheet'!D367 -> 0 | G102: ='Price Sheet'!D487 -> 0 | H102: ='Price Sheet'!D607 -> 0 | I102: ='Price Sheet'!D727 -> 0 | J102: ='Price Sheet'!D848 -> 0 | K102: ='Price Sheet'!D968 -> 0 | L102: ='Price Sheet'!D1088 -> 0 | M102: ='Price Sheet'!D1208 -> 0 | N102: ='Price Sheet'!D1328 -> 0 | O102: ='Price Sheet'!D1448 -> 0 | P102: ='Price Sheet'!D1568 -> 0 | Q102: ='Price Sheet'!D1688 -> 0
A103: ENVELOPES: 9" x 12" Custom Window Env., #24 White Wove, Open End (see area below to enter pricing for an associated one time die charge) | C103: =D103 -> 0 | D103: ='Price Sheet'!D128 -> 0 | E103: ='Price Sheet'!D128 -> 0 | F103: ='Price Sheet'!D368 -> 0 | G103: ='Price Sheet'!D488 -> 0 | H103: ='Price Sheet'!D608 -> 0 | I103: ='Price Sheet'!D728 -> 0 | J103: ='Price Sheet'!D849 -> 0 | K103: ='Price Sheet'!D969 -> 0 | L103: ='Price Sheet'!D1089 -> 0 | M103: ='Price Sheet'!D1209 -> 0 | N103: ='Price Sheet'!D1329 -> 0 | O103: ='Price Sheet'!D1449 -> 0 | P103: ='Price Sheet'!D1569 -> 0 | Q103: ='Price Sheet'!D1689 -> 0
A104: Offset Printing - Envelopes | C104: 1 - 999 | D104: 1000 - 2,499 | E104: 2,500 - 4,999 | F104: 5,000 - 9,999 | G104: 10,000 -24,999 | H104: 25,000 - 49,999 | I104: 50,000 - 99,999 | J104: 100,000 - 149,999 | K104: 150,000 - 199,999 | L104: 200,000 - 299,999 | M104: 300,000 - 399,999 | N104: 400,000 - 499,999 | O104: 500,000 - 749,999 | P104: 750,000 - 999,999 | Q104: 1MM - and Up
A105: OFFSET PRINTING FOR ENVELOPES: Simplex, 1/0, Black | C105: =D105 -> 0 | D105: ='Price Sheet'!D130 -> 0 | E105: ='Price Sheet'!D250 -> 0 | F105: ='Price Sheet'!D370 -> 0 | G105: ='Price Sheet'!D490 -> 0 | H105: ='Price Sheet'!D610 -> 0 | I105: ='Price Sheet'!D730 -> 0 | J105: ='Price Sheet'!D851 -> 0 | K105: ='Price Sheet'!D971 -> 0 | L105: ='Price Sheet'!D1091 -> 0 | M105: ='Price Sheet'!D1211 -> 0 | N105: ='Price Sheet'!D1331 -> 0 | O105: ='Price Sheet'!D1451 -> 0 | P105: ='Price Sheet'!D1571 -> 0 | Q105: ='Price Sheet'!D1691 -> 0
A106: OFFSET PRINTING FOR ENVELOPES: Simplex, 2/0, Black & Color | C106: =D106 -> 0 | D106: ='Price Sheet'!D131 -> 0 | E106: ='Price Sheet'!D251 -> 0 | F106: ='Price Sheet'!D371 -> 0 | G106: ='Price Sheet'!D491 -> 0 | H106: ='Price Sheet'!D611 -> 0 | I106: ='Price Sheet'!D731 -> 0 | J106: ='Price Sheet'!D852 -> 0 | K106: ='Price Sheet'!D972 -> 0 | L106: ='Price Sheet'!D1092 -> 0 | M106: ='Price Sheet'!D1212 -> 0 | N106: ='Price Sheet'!D1332 -> 0 | O106: ='Price Sheet'!D1452 -> 0 | P106: ='Price Sheet'!D1572 -> 0 | Q106: ='Price Sheet'!D1692 -> 0
A107: OFFSET PRINTING FOR ENVELOPES: Duplex, 1/1, Black | C107: =D107 -> 0 | D107: ='Price Sheet'!D132 -> 0 | E107: ='Price Sheet'!D252 -> 0 | F107: ='Price Sheet'!D372 -> 0 | G107: ='Price Sheet'!D492 -> 0 | H107: ='Price Sheet'!D612 -> 0 | I107: ='Price Sheet'!D732 -> 0 | J107: ='Price Sheet'!D853 -> 0 | K107: ='Price Sheet'!D973 -> 0 | L107: ='Price Sheet'!D1093 -> 0 | M107: ='Price Sheet'!D1213 -> 0 | N107: ='Price Sheet'!D1333 -> 0 | O107: ='Price Sheet'!D1453 -> 0 | P107: ='Price Sheet'!D1573 -> 0 | Q107: ='Price Sheet'!D1693 -> 0
A108: OFFSET PRINTING FOR ENVELOPES: Duplex, 2/1, Black & Color Over Black | C108: =D108 -> 0 | D108: ='Price Sheet'!D133 -> 0 | E108: ='Price Sheet'!D253 -> 0 | F108: ='Price Sheet'!D373 -> 0 | G108: ='Price Sheet'!D493 -> 0 | H108: ='Price Sheet'!D613 -> 0 | I108: ='Price Sheet'!D733 -> 0 | J108: ='Price Sheet'!D854 -> 0 | K108: ='Price Sheet'!D974 -> 0 | L108: ='Price Sheet'!D1094 -> 0 | M108: ='Price Sheet'!D1214 -> 0 | N108: ='Price Sheet'!D1334 -> 0 | O108: ='Price Sheet'!D1454 -> 0 | P108: ='Price Sheet'!D1574 -> 0 | Q108: ='Price Sheet'!D1694 -> 0
A109: OFFSET PRINTING FOR ENVELOPES: Duplex, 2/2, Black & Color Over Black & Color | C109: =D109 -> 0 | D109: ='Price Sheet'!D134 -> 0 | E109: ='Price Sheet'!D254 -> 0 | F109: ='Price Sheet'!D374 -> 0 | G109: ='Price Sheet'!D494 -> 0 | H109: ='Price Sheet'!D614 -> 0 | I109: ='Price Sheet'!D734 -> 0 | J109: ='Price Sheet'!D855 -> 0 | K109: ='Price Sheet'!D975 -> 0 | L109: ='Price Sheet'!D1095 -> 0 | M109: ='Price Sheet'!D1215 -> 0 | N109: ='Price Sheet'!D1335 -> 0 | O109: ='Price Sheet'!D1455 -> 0 | P109: ='Price Sheet'!D1575 -> 0 | Q109: ='Price Sheet'!D1695 -> 0
A110: Services - Per Each | C110: 1 - 999 | D110: 1000 - 2,499 | E110: 2,500 - 4,999 | F110: 5,000 - 9,999 | G110: 10,000 -24,999 | H110: 25,000 - 49,999 | I110: 50,000 - 99,999 | J110: 100,000 - 149,999 | K110: 150,000 - 199,999 | L110: 200,000 - 299,999 | M110: 300,000 - 399,999 | N110: 400,000 - 499,999 | O110: 500,000 - 749,999 | P110: 750,000 - 999,999 | Q110: 1MM - and Up
A111: Inserting | C111: =D111 -> 0 | D111: ='Price Sheet'!D17 -> 0 | E111: ='Price Sheet'!D137 -> 0 | F111: ='Price Sheet'!D257 -> 0 | G111: ='Price Sheet'!D377 -> 0 | H111: ='Price Sheet'!D497 -> 0 | I111: ='Price Sheet'!D617 -> 0 | J111: ='Price Sheet'!D737 -> 0 | K111: ='Price Sheet'!D858 -> 0 | L111: ='Price Sheet'!D978 -> 0 | M111: ='Price Sheet'!D1098 -> 0 | N111: ='Price Sheet'!D1218 -> 0 | O111: ='Price Sheet'!D1338 -> 0 | P111: ='Price Sheet'!D1458 -> 0 | Q111: ='Price Sheet'!D1578 -> 0
A112: Intelligent Inserting | C112: =D112 -> 0 | D112: ='Price Sheet'!D18 -> 0 | E112: ='Price Sheet'!D138 -> 0 | F112: ='Price Sheet'!D258 -> 0 | G112: ='Price Sheet'!D378 -> 0 | H112: ='Price Sheet'!D498 -> 0 | I112: ='Price Sheet'!D618 -> 0 | J112: ='Price Sheet'!D738 -> 0 | K112: ='Price Sheet'!D859 -> 0 | L112: ='Price Sheet'!D979 -> 0 | M112: ='Price Sheet'!D1099 -> 0 | N112: ='Price Sheet'!D1219 -> 0 | O112: ='Price Sheet'!D1339 -> 0 | P112: ='Price Sheet'!D1459 -> 0 | Q112: ='Price Sheet'!D1579 -> 0
A113: Hand Inserting and/or Match Mail Service | C113: =D113 -> 0 | D113: ='Price Sheet'!D19 -> 0 | E113: ='Price Sheet'!D139 -> 0 | F113: ='Price Sheet'!D259 -> 0 | G113: ='Price Sheet'!D379 -> 0 | H113: ='Price Sheet'!D499 -> 0 | I113: ='Price Sheet'!D619 -> 0 | J113: ='Price Sheet'!D739 -> 0 | K113: ='Price Sheet'!D860 -> 0 | L113: ='Price Sheet'!D980 -> 0 | M113: ='Price Sheet'!D1100 -> 0 | N113: ='Price Sheet'!D1220 -> 0 | O113: ='Price Sheet'!D1340 -> 0 | P113: ='Price Sheet'!D1460 -> 0 | Q113: ='Price Sheet'!D1580 -> 0
A114: Hand Fold to Fit in envelope | C114: =D114 -> 0 | D114: ='Price Sheet'!D20 -> 0 | E114: ='Price Sheet'!D140 -> 0 | F114: ='Price Sheet'!D260 -> 0 | G114: ='Price Sheet'!D380 -> 0 | H114: ='Price Sheet'!D500 -> 0 | I114: ='Price Sheet'!D620 -> 0 | J114: ='Price Sheet'!D740 -> 0 | K114: ='Price Sheet'!D861 -> 0 | L114: ='Price Sheet'!D981 -> 0 | M114: ='Price Sheet'!D1101 -> 0 | N114: ='Price Sheet'!D1221 -> 0 | O114: ='Price Sheet'!D1341 -> 0 | P114: ='Price Sheet'!D1461 -> 0 | Q114: ='Price Sheet'!D1581 -> 0
A115: Laser Printed Drop Out Highlight Color | C115: =D115 -> 0 | D115: ='Price Sheet'!D21 -> 0 | E115: ='Price Sheet'!D141 -> 0 | F115: ='Price Sheet'!D261 -> 0 | G115: ='Price Sheet'!D381 -> 0 | H115: ='Price Sheet'!D501 -> 0 | I115: ='Price Sheet'!D621 -> 0 | J115: ='Price Sheet'!D741 -> 0 | K115: ='Price Sheet'!D862 -> 0 | L115: ='Price Sheet'!D982 -> 0 | M115: ='Price Sheet'!D1102 -> 0 | N115: ='Price Sheet'!D1222 -> 0 | O115: ='Price Sheet'!D1342 -> 0 | P115: ='Price Sheet'!D1462 -> 0 | Q115: ='Price Sheet'!D1582 -> 0
A116: Data Processing Fee: Includes - Presorting for First Class & Standard Mail, Appending IMB, Postnet Barcode | C116: =D116 -> 0 | D116: ='Price Sheet'!D22 -> 0 | E116: ='Price Sheet'!D142 -> 0 | F116: ='Price Sheet'!D262 -> 0 | G116: ='Price Sheet'!D382 -> 0 | H116: ='Price Sheet'!D502 -> 0 | I116: ='Price Sheet'!D622 -> 0 | J116: ='Price Sheet'!D742 -> 0 | K116: ='Price Sheet'!D863 -> 0 | L116: ='Price Sheet'!D983 -> 0 | M116: ='Price Sheet'!D1103 -> 0 | N116: ='Price Sheet'!D1223 -> 0 | O116: ='Price Sheet'!D1343 -> 0 | P116: ='Price Sheet'!D1463 -> 0 | Q116: ='Price Sheet'!D1583 -> 0
A117: CASS Certification | C117: =D117 -> 0 | D117: ='Price Sheet'!D23 -> 0 | E117: ='Price Sheet'!D143 -> 0 | F117: ='Price Sheet'!D263 -> 0 | G117: ='Price Sheet'!D383 -> 0 | H117: ='Price Sheet'!D503 -> 0 | I117: ='Price Sheet'!D623 -> 0 | J117: ='Price Sheet'!D743 -> 0 | K117: ='Price Sheet'!D864 -> 0 | L117: ='Price Sheet'!D984 -> 0 | M117: ='Price Sheet'!D1104 -> 0 | N117: ='Price Sheet'!D1224 -> 0 | O117: ='Price Sheet'!D1344 -> 0 | P117: ='Price Sheet'!D1464 -> 0 | Q117: ='Price Sheet'!D1584 -> 0
A118: Merge / Purge | C118: =D118 -> 0 | D118: ='Price Sheet'!D24 -> 0 | E118: ='Price Sheet'!D144 -> 0 | F118: ='Price Sheet'!D264 -> 0 | G118: ='Price Sheet'!D384 -> 0 | H118: ='Price Sheet'!D504 -> 0 | I118: ='Price Sheet'!D624 -> 0 | J118: ='Price Sheet'!D744 -> 0 | K118: ='Price Sheet'!D865 -> 0 | L118: ='Price Sheet'!D985 -> 0 | M118: ='Price Sheet'!D1105 -> 0 | N118: ='Price Sheet'!D1225 -> 0 | O118: ='Price Sheet'!D1345 -> 0 | P118: ='Price Sheet'!D1465 -> 0 | Q118: ='Price Sheet'!D1585 -> 0
A119: Create Scanable Numeric Scan Line(s) if not provided within the file submitted | C119: =D119 -> 0 | D119: ='Price Sheet'!D25 -> 0 | E119: ='Price Sheet'!D145 -> 0 | F119: ='Price Sheet'!D265 -> 0 | G119: ='Price Sheet'!D385 -> 0 | H119: ='Price Sheet'!D505 -> 0 | I119: ='Price Sheet'!D625 -> 0 | J119: ='Price Sheet'!D745 -> 0 | K119: ='Price Sheet'!D866 -> 0 | L119: ='Price Sheet'!D986 -> 0 | M119: ='Price Sheet'!D1106 -> 0 | N119: ='Price Sheet'!D1226 -> 0 | O119: ='Price Sheet'!D1346 -> 0 | P119: ='Price Sheet'!D1466 -> 0 | Q119: ='Price Sheet'!D1586 -> 0
A120: Single Head Ink Jet Printing | C120: =D120 -> 0 | D120: ='Price Sheet'!D26 -> 0 | E120: ='Price Sheet'!D146 -> 0 | F120: ='Price Sheet'!D266 -> 0 | G120: ='Price Sheet'!D386 -> 0 | H120: ='Price Sheet'!D506 -> 0 | I120: ='Price Sheet'!D626 -> 0 | J120: ='Price Sheet'!D746 -> 0 | K120: ='Price Sheet'!D867 -> 0 | L120: ='Price Sheet'!D987 -> 0 | M120: ='Price Sheet'!D1107 -> 0 | N120: ='Price Sheet'!D1227 -> 0 | O120: ='Price Sheet'!D1347 -> 0 | P120: ='Price Sheet'!D1467 -> 0 | Q120: ='Price Sheet'!D1587 -> 0
A121: Dual Head Ink Jet Printing | C121: =D121 -> 0 | D121: ='Price Sheet'!D27 -> 0 | E121: ='Price Sheet'!D147 -> 0 | F121: ='Price Sheet'!D267 -> 0 | G121: ='Price Sheet'!D387 -> 0 | H121: ='Price Sheet'!D507 -> 0 | I121: ='Price Sheet'!D627 -> 0 | J121: ='Price Sheet'!D747 -> 0 | K121: ='Price Sheet'!D868 -> 0 | L121: ='Price Sheet'!D988 -> 0 | M121: ='Price Sheet'!D1108 -> 0 | N121: ='Price Sheet'!D1228 -> 0 | O121: ='Price Sheet'!D1348 -> 0 | P121: ='Price Sheet'!D1468 -> 0 | Q121: ='Price Sheet'!D1588 -> 0
A122: NCOA Processing per Each Record | C122: =D122 -> 0 | D122: ='Price Sheet'!D28 -> 0 | E122: ='Price Sheet'!D148 -> 0 | F122: ='Price Sheet'!D268 -> 0 | G122: ='Price Sheet'!D388 -> 0 | H122: ='Price Sheet'!D508 -> 0 | I122: ='Price Sheet'!D628 -> 0 | J122: ='Price Sheet'!D748 -> 0 | K122: ='Price Sheet'!D869 -> 0 | L122: ='Price Sheet'!D989 -> 0 | M122: ='Price Sheet'!D1109 -> 0 | N122: ='Price Sheet'!D1229 -> 0 | O122: ='Price Sheet'!D1349 -> 0 | P122: ='Price Sheet'!D1469 -> 0 | Q122: ='Price Sheet'!D1589 -> 0
A123: PMS Ink (with no magnetic properties) | C123: =D123 -> 0 | D123: ='Price Sheet'!D29 -> 0 | E123: ='Price Sheet'!D149 -> 0 | F123: ='Price Sheet'!D269 -> 0 | G123: ='Price Sheet'!D389 -> 0 | H123: ='Price Sheet'!D509 -> 0 | I123: ='Price Sheet'!D629 -> 0 | J123: ='Price Sheet'!D749 -> 0 | K123: ='Price Sheet'!D870 -> 0 | L123: ='Price Sheet'!D990 -> 0 | M123: ='Price Sheet'!D1110 -> 0 | N123: ='Price Sheet'!D1230 -> 0 | O123: ='Price Sheet'!D1350 -> 0 | P123: ='Price Sheet'!D1470 -> 0 | Q123: ='Price Sheet'!D1590 -> 0
A124: $ Per Each - Applies to All Ranges
A125: Proofs: Flat Charge per document side | B125: ='Price Sheet'!D9 -> 0
A126: #9 BRE Custom Window - Enter a single price for 1X Die Charge | B126: ='Price Sheet'!D10 -> 0
A127: 9" x 12" Custom Window - Enter a single price for 1X Die Charge | B127: ='Price Sheet'!D11 -> 0
A128: $ Per Hour - Applies to All Ranges
A129: Pre-Production Functional Test Sample Proof Packages: Hourly rate to cover Machine set up to produce 50 functional proof packages for testing prior to production approval. | B129: ='Price Sheet'!D12 -> 0
A130: Programming: File processing that allows for output. Such as Laser Set up for Personalization & Variable Information to be merged. Priced per Hr. | B130: ='Price Sheet'!D13 -> 0
A131: Forms Design / Layout - Priced per Hour | B131: ='Price Sheet'!D14 -> 0
A132: Do Not Include Cost
A133: Delivery Charge to Destination other than Capital Post Office or USPS Sectional Center for Mailing
A134: Domestic Postage
A135: Foreign Postage

Sheet Items
A1: Minimum Order Charge for orders of less than 1000
A2: Paper: 8 1/2" x 11" White 60#
A3: Paper: 8 1/2" x 11" Color 60#
A4: Paper: 8 1/2" x 14" White 60#
A5: Paper: 8 1/2" x 14" Color 60#
A6: Paper: 11" x 17" White 60#
A7: Paper: 11" x 17" Color 60#
A8: Paper: 25 1/2" x 11" White 60#
A9: Paper: 25 1/2" x 11" Color 60#
A10: Paper: 4 1/4" x 6" Post Card White Hi Bulk Offset (per postal regulatons)
A11: Paper: 5 1/2" x 8 1/2" Post Card White Hi Bulk Offset (per postal regulatons)
A12: LASER PRINTING for 8 1/2" x 11" or 8 1/2" x 14": Simplex 1/0 Black
... A114: PMS Ink (with no magnetic properties)
