Workbook
Name Items: Items!$A$2:$A$114

Sheet Price Sheet
A1: State Price Sheet Bid Solicitation #23DPP00866 T0764 - Printing & Mailing Services - Taxation and Statewide
A2: Bidder Name:
A3: Date:
A4: Instructions | B4: Refer to Bid Solicitation Section 3.21 for Bidder instructions. The Bidder must provide Unit Pricing in the highlighted cells below. The rest will calculate automatically. *See Sections 3.21 and 4.23 of the Bid Solicitation for more information on Total Recovered Materials Content and Post-Consumer Recycled Content.
A5: Number | B5: Description | C5: Unit | D5: Unit Pricing | E5: % of Total Recovered Materials Content* Mininum Requirement: 100% | F5: % of Post-Consumer Recycled Content* Minimum Requirement: 50%
A6: MINIMUM ORDER CHARGE
A7: 1 | B7: MINIMUM ORDER CHARGE FOR ORDERS LESS THAN 1,000 INCLUDES PRINTING, MAILING, AND DATA PROCESSING | C7: EACH
A8: PRICING APPLIES TO ALL RANGES
A9: 2 | B9: PROOFS: FLAT CHARGE PER DOCUMENT SIDE | C9: EACH
A10: 3 | B10: #9 BRE CUSTOM WINDOW - SINGLE PRICE FOR DIE CHARGE | C10: EACH
A11: 4 | B11: 9" x 12" CUSTOM WINDOW - SINGLE PRICE FOR DIE CHARGE | C11: EACH
A12: 5 | B12: PRE-PRODUCTION FUNCTIONAL TEST SAMPLE PROOF PACKAGES: HOURLY RATE TO COVER MACHINE SET-UP TO PRODUCE 50 FUNCTIONAL PROOF PACKAGES FOR TESTING PRIOR TO APPROVAL | C12: HOUR
A13: 6 | B13: PROGRAMMING: FILE PROCESSING THAT ALLOWS FOR OUTPUT SUCH AS LASER SET-UP FOR PERSONALIZATION & VARIABLE INFORMATION TO BE MERGED | C13: HOUR
A14: 7 | B14: FORMS DESIGN/LAYOUT | C14: HOUR
A15: RANGE 1,000 - 2,499
A16: SERVICES (PER THOUSAND)
A17: 8 | B17: INSERTING | C17: EACH
A18: 9 | B18: INTELLIGENT INSERTING | C18: EACH
A19: 10 | B19: HAND INSERTING AND/OR MATCH MAIL SERVICE | C19: EACH
A20: 11 | B20: HAND FOLD TO FIT IN ENVELOPE | C20: EACH
A21: 12 | B21: LASER PRINTED DROP OUT HIGHLIGHT COLOR | C21: EACH
A22: 13 | B22: DATA PROCESSING FEE INCLUDING PRESORTING FOR FIRST CLASS & STANDARD MAIL, APPENDING IMB, & POSTNET BARCODE | C22: EACH
A23: 14 | B23: CASS CERTIFICATION | C23: EACH
A24: 15 | B24: MERGE/PURGE | C24: EACH
A25: 16 | B25: CREATE SCANABLE NUMERIC SCAN LINE(S) NOT PROVIDED WITHIN SUBMITTED FILE | C25: EACH
A26: 17 | B26: SINGLE HEAD INK JET PRINTING | C26: EACH
A27: 18 | B27: DUAL HEAD INK JET PRINTING | C27: EACH
A28: 19 | B28: NCOA PROCESSING | C28: EACH
A29: 20 | B29: PMS INK WITH MAGNETIC PROPERTIES | C29: EACH
A30: PAPER (PER THOUSAND) MINIMUM 100% TOTAL RECYCLED MATERIAL AND 50% POST-CONSUMER RECYCLED (PCR) CONTENT
A31: 21 | B31: PAPER 8 ½" x 11" WHITE 60# | C31: EACH
A32: 22 | B32: PAPER 8 ½" x 11" COLOR 60# | C32: EACH
A33: 23 | B33: PAPER 8 ½" x 14" WHITE 60# | C33: EACH
A34: 24 | B34: PAPER 8 ½" x 14" COLOR 60# | C34: EACH
A35: 25 | B35: PAPER 11" x 17" WHITE 60# | C35: EACH
A36: 26 | B36: PAPER 11" x 17" COLOR 60# | C36: EACH
A37: 27 | B37: PAPER 25 ½" x 11" WHITE 60# | C37: EACH
A38: 28 | B38: PAPER 25 ½" x 11" COLOR 60# | C38: EACH
A39: 29 | B39: PAPER 4 ¼" x 6" POST CARD WHITE HI BULK OFFSET (PER POSTAL REGULATIONS) | C39: EACH
A40: 30 | B40: PAPER 5 ½" x 8 ½" POST CARD WHITE HI BULK OFFSET (PER POSTAL REGULATIONS) | C40: EACH
...

Sheet Price Sheet (Grid)
A1: Quantity Pricing (Auto-Populated from Price Sheet)
D2: Ranges
A3: Function | C3: 1 - 999 | D3: 1000 - 2,499 | E3: 2,500 - 4,999 | F3: 5,000 - 9,999 | G3: 10,000 -24,999 | H3: 25,000 - 49,999 | I3: 50,000 - 99,999 | J3: 100,000 - 149,999 | K3: 150,000 - 199,999 | L3: 200,000 - 299,999 | M3: 300,000 - 399,999 | N3: 400,000 - 499,999 | O3: 500,000 - 749,999 | P3: 750,000 - 999,999 | Q3: 1MM - and Up
A4: Minimum Order Charge for orders of less than 1000 | B4: ='Price Sheet'!D7 -> 0 | C4: =B4 -> 0
A5: Paper | C5: 1 - 999 | D5: 1000 - 2,499 | E5: 2,500 - 4,999 | F5: 5,000 - 9,999 | G5: 10,000 -24,999 | H5: 25,000 - 49,999 | I5: 50,000 - 99,999 | J5: 100,000 - 149,999 | K5: 150,000 - 199,999 | L5: 200,000 - 299,999 | M5: 300,000 - 399,999 | N5: 400,000 - 499,999 | O5: 500,000 - 749,999 | P5: 750,000 - 999,999 | Q5: 1MM - and Up
A6: Paper: 8 1/2" x 11" White 60# | C6: =D6 -> 0 | D6: ='Price Sheet'!D31 -> 0 | E6: ='Price Sheet'!D151 -> 0 | F6: ='Price Sheet'!D271 -> 0 | G6: ='Price Sheet'!D391 -> 0 | H6: ='Price Sheet'!D511 -> 0 | I6: ='Price Sheet'!D631 -> 0 | J6: ='Price Sheet'!D751 -> 0 | K6: ='Price Sheet'!D872 -> 0 | L6: ='Price Sheet'!D992 -> 0 | M6: ='Price Sheet'!D1112 -> 0 | N6: ='Price Sheet'!D1232 -> 0 | O6: ='Price Sheet'!D1352 -> 0 | P6: ='Price Sheet'!D1472 -> 0 | Q6: ='Price Sheet'!D1592 -> 0
A7: Paper: 8 1/2" x 11" Color 60# | C7: =D7 -> 0 | D7: ='Price Sheet'!D32 -> 0 | E7: ='Price Sheet'!D152 -> 0 | F7: ='Price Sheet'!D272 -> 0 | G7: ='Price Sheet'!D392 -> 0 | H7: ='Price Sheet'!D512 -> 0 | I7: ='Price Sheet'!D632 -> 0 | J7: ='Price Sheet'!D752 -> 0 | K7: ='Price Sheet'!D873 -> 0 | L7: ='Price Sheet'!D993 -> 0 | M7: ='Price Sheet'!D1113 -> 0 | N7: ='Price Sheet'!D1233 -> 0 | O7: ='Price Sheet'!D1353 -> 0 | P7: ='Price Sheet'!D1473 -> 0 | Q7: ='Price Sheet'!D1593 -> 0
A8: Paper: 8 1/2" x 14" White 60# | C8: =D8 -> 0 | D8: ='Price Sheet'!D33 -> 0 | E8: ='Price Sheet'!D153 -> 0 | F8: ='Price Sheet'!D273 -> 0 | G8: ='Price Sheet'!D393 -> 0 | H8: ='Price Sheet'!D513 -> 0 | I8: ='Price Sheet'!D633 -> 0 | J8: ='Price Sheet'!D753 -> 0 | K8: ='Price Sheet'!D874 -> 0 | L8: ='Price Sheet'!D994 -> 0 | M8: ='Price Sheet'!D1114 -> 0 | N8: ='Price Sheet'!D1234 -> 0 | O8: ='Price Sheet'!D1354 -> 0 | P8: ='Price Sheet'!D1474 -> 0 | Q8: ='Price Sheet'!D1594 -> 0
A9: Paper: 8 1/2" x 14" Color 60# | C9: =D9 -> 0 | D9: ='Price Sheet'!D34 -> 0 | E9: ='Price Sheet'!D154 -> 0 | F9: ='Price Sheet'!D274 -> 0 | G9: ='Price Sheet'!D394 -> 0 | H9: ='Price Sheet'!D514 -> 0 | I9: ='Price Sheet'!D634 -> 0 | J9: ='Price Sheet'!D754 -> 0 | K9: ='Price Sheet'!D875 -> 0 | L9: ='Price Sheet'!D995 -> 0 | M9: ='Price Sheet'!D1115 -> 0 | N9: ='Price Sheet'!D1235 -> 0 | O9: ='Price Sheet'!D1355 -> 0 | P9: ='Price Sheet'!D1475 -> 0 | Q9: ='Price Sheet'!D1595 -> 0
A10: Paper: 11" x 17" White 60# | C10: =D10 -> 0 | D10: ='Price Sheet'!D35 -> 0 | E10: ='Price Sheet'!D155 -> 0 | F10: ='Price Sheet'!D275 -> 0 | G10: ='Price Sheet'!D395 -> 0 | H10: ='Price Sheet'!D515 -> 0 | I10: ='Price Sheet'!D635 -> 0 | J10: ='Price Sheet'!D755 -> 0 | K10: ='Price Sheet'!D876 -> 0 | L10: ='Price Sheet'!D996 -> 0 | M10: ='Price Sheet'!D1116 -> 0 | N10: ='Price Sheet'!D1236 -> 0 | O10: ='Price Sheet'!D1356 -> 0 | P10: ='Price Sheet'!D1476 -> 0 | Q10: ='Price Sheet'!D1596 -> 0
A11: Paper: 11" x 17" Color 60# | C11: =D11 -> 0 | D11: ='Price Sheet'!D36 -> 0 | E11: ='Price Sheet'!D156 -> 0 | F11: ='Price Sheet'!D276 -> 0 | G11: ='Price Sheet'!D396 -> 0 | H11: ='Price Sheet'!D516 -> 0 | I11: ='Price Sheet'!D636 -> 0 | J11: ='Price Sheet'!D756 -> 0 | K11: ='Price Sheet'!D877 -> 0 | L11: ='Price Sheet'!D997 -> 0 | M11: ='Price Sheet'!D1117 -> 0 | N11: ='Price Sheet'!D1237 -> 0 | O11: ='Price Sheet'!D1357 -> 0 | P11: ='Price Sheet'!D1477 -> 0 | Q11: ='Price Sheet'!D1597 -> 0
A12: Paper: 25 1/2" x 11" White 60# | C12: =D12 -> 0 | D12: ='Price Sheet'!D37 -> 0 | E12: ='Price Sheet'!D157 -> 0 | F12: ='Price Sheet'!D277 -> 0 | G12: ='Price Sheet'!D397 -> 0 | H12: ='Price Sheet'!D517 -> 0 | I12: ='Price Sheet'!D637 -> 0 | J12: ='Price Sheet'!D757 -> 0 | K12: ='Price Sheet'!D878 -> 0 | L12: ='Price Sheet'!D998 -> 0 | M12: ='Price Sheet'!D1118 -> 0 | N12: ='Price Sheet'!D1238 -> 0 | O12: ='Price Sheet'!D1358 -> 0 | P12: ='Price Sheet'!D1478 -> 0 | Q12: ='Price Sheet'!D1598 -> 0
A13: Paper: 25 1/2" x 11" Color 60# | C13: =D13 -> 0 | D13: ='Price Sheet'!D38 -> 0 | E13: ='Price Sheet'!D158 -> 0 | F13: ='Price Sheet'!D278 -> 0 | G13: ='Price Sheet'!D398 -> 0 | H13: ='Price Sheet'!D518 -> 0 | I13: ='Price Sheet'!D638 -> 0 | J13: ='Price Sheet'!D758 -> 0 | K13: ='Price Sheet'!D879 -> 0 | L13: ='Price Sheet'!D999 -> 0 | M13: ='Price Sheet'!D1119 -> 0 | N13: ='Price Sheet'!D1239 -> 0 | O13: ='Price Sheet'!D1359 -> 0 | P13: ='Price Sheet'!D1479 -> 0 | Q13: ='Price Sheet'!D1599 -> 0
A14: Paper: 4 1/4" x 6" Post Card White Hi Bulk Offset (per postal regulatons) | C14: =D14 -> 0 | D14: ='Price Sheet'!D39 -> 0 | E14: ='Price Sheet'!D159 -> 0 | F14: ='Price Sheet'!D279 -> 0 | G14: ='Price Sheet'!D399 -> 0 | H14: ='Price Sheet'!D519 -> 0 | I14: ='Price Sheet'!D639 -> 0 | J14: ='Price Sheet'!D759 -> 0 | K14: ='Price Sheet'!D880 -> 0 | L14: ='Price Sheet'!D1000 -> 0 | M14: ='Price Sheet'!D1120 -> 0 | N14: ='Price Sheet'!D1240 -> 0 | O14: ='Price Sheet'!D1360 -> 0 | P14: ='Price Sheet'!D1480 -> 0 | Q14: ='Price Sheet'!D1600 -> 0
A15: Paper: 5 1/2" x 8 1/2" Post Card White Hi Bulk Offset (per postal regulatons) | C15: =D15 -> 0 | D15: ='Price Sheet'!D40 -> 0 | E15: ='Price Sheet'!D160 -> 0 | F15: ='Price Sheet'!D280 -> 0 | G15: ='Price Sheet'!D400 -> 0 | H15: ='Price Sheet'!D520 -> 0 | I15: ='Price Sheet'!D640 -> 0 | J15: ='Price Sheet'!D760 -> 0 | K15: ='Price Sheet'!D881 -> 0 | L15: ='Price Sheet'!D1001 -> 0 | M15: ='Price Sheet'!D1121 -> 0 | N15: ='Price Sheet'!D1241 -> 0 | O15: ='Price Sheet'!D1361 -> 0 | P15: ='Price Sheet'!D1481 -> 0 | Q15: ='Price Sheet'!D1601 -> 0
A16: Laser Printing | C16: 1 - 999 | D16: 1000 - 2,499 | E16: 2,500 - 4,999 | F16: 5,000 - 9,999 | G16: 10,000 -24,999 | H16: 25,000 - 49,999 | I16: 50,000 - 99,999 | J16: 100,000 - 149,999 | K16: 150,000 - 199,999 | L16: 200,000 - 299,999 | M16: 300,000 - 399,999 | N16: 400,000 - 499,999 | O16: 500,000 - 749,999 | P16: 750,000 - 999,999 | Q16: 1MM - and Up
A17: LASER PRINTING for 8 1/2" x 11" or 8 1/2" x 14": Simplex 1/0 Black | C17: =D17 -> 0 | D17: ='Price Sheet'!D42 -> 0 | E17: ='Price Sheet'!D162 -> 0 | F17: ='Price Sheet'!D282 -> 0 | G17: ='Price Sheet'!D402 -> 0 | H17: ='Price Sheet'!D522 -> 0 | I17: ='Price Sheet'!D642 -> 0 | J17: ='Price Sheet'!D762 -> 0 | K17: ='Price Sheet'!D883 -> 0 | L17: ='Price Sheet'!D1003 -> 0 | M17: ='Price Sheet'!D1123 -> 0 | N17: ='Price Sheet'!D1243 -> 0 | O17: ='Price Sheet'!D1363 -> 0 | P17: ='Price Sheet'!D1483 -> 0 | Q17: ='Price Sheet'!D1603 -> 0
A18: LASER PRINTING for 8 1/2" x 11" or 8 1/2" x 14": Simplex 2/0 Black & Color | C18: =D18 -> 0 | D18: ='Price Sheet'!D43 -> 0 | E18: ='Price Sheet'!D163 -> 0 | F18: ='Price Sheet'!D283 -> 0 | G18: ='Price Sheet'!D403 -> 0 | H18: ='Price Sheet'!D523 -> 0 | I18: ='Price Sheet'!D643 -> 0 | J18: ='Price Sheet'!D763 -> 0 | K18: ='Price Sheet'!D884 -> 0 | L18: ='Price Sheet'!D1004 -> 0 | M18: ='Price Sheet'!D1124 -> 0 | N18: ='Price Sheet'!D1244 -> 0 | O18: ='Price Sheet'!D1364 -> 0 | P18: ='Price Sheet'!D1484 -> 0 | Q18: ='Price Sheet'!D1604 -> 0
A19: LASER PRINTING for 8 1/2" x 11" or 8 1/2" x 14": Simplex 4/0 Process | C19: =D19 -> 0 | D19: ='Price Sheet'!D44 -> 0 | E19: ='Price Sheet'!D164 -> 0 | F19: ='Price Sheet'!D284 -> 0 | G19: ='Price Sheet'!D404 -> 0 | H19: ='Price Sheet'!D524 -> 0 | I19: ='Price Sheet'!D644 -> 0 | J19: ='Price Sheet'!D764 -> 0 | K19: ='Price Sheet'!D885 -> 0 | L19: ='Price Sheet'!D1005 -> 0 | M19: ='Price Sheet'!D1125 -> 0 | N19: ='Price Sheet'!D1245 -> 0 | O19: ='Price Sheet'!D1365 -> 0 | P19: ='Price Sheet'!D1485 -> 0 | Q19: ='Price Sheet'!D1605 -> 0
A20: LASER PRINTING for 8 1/2" x 11" or 8 1/2" x 14": Duplex 1/0 Black Over Black | C20: =D20 -> 0 | D20: ='Price Sheet'!D45 -> 0 | E20: ='Price Sheet'!D165 -> 0 | F20: ='Price Sheet'!D285 -> 0 | G20: ='Price Sheet'!D405 -> 0 | H20: ='Price Sheet'!D525 -> 0 | I20: ='Price Sheet'!D645 -> 0 | J20: ='Price Sheet'!D765 -> 0 | K20: ='Price Sheet'!D886 -> 0 | L20: ='Price Sheet'!D1006 -> 0 | M20: ='Price Sheet'!D1126 -> 0 | N20: ='Price Sheet'!D1246 -> 0 | O20: ='Price Sheet'!D1366 -> 0 | P20: ='Price Sheet'!D1486 -> 0 | Q20: ='Price Sheet'!D1606 -> 0
A21: LASER PRINTING for 8 1/2" x 11" or 8 1/2" x 14": Duplex 1/1 Black Over Black | C21: =D21 -> 0 | D21: ='Price Sheet'!D46 -> 0 | E21: ='Price Sheet'!D166 -> 0 | F21: ='Price Sheet'!D286 -> 0 | G21: ='Price Sheet'!D406 -> 0 | H21: ='Price Sheet'!D526 -> 0 | I21: ='Price Sheet'!D646 -> 0 | J21: ='Price Sheet'!D766 -> 0 | K21: ='Price Sheet'!D887 -> 0 | L21: ='Price Sheet'!D1007 -> 0 | M21: ='Price Sheet'!D1127 -> 0 | N21: ='Price Sheet'!D1247 -> 0 | O21: ='Price Sheet'!D1367 -> 0 | P21: ='Price Sheet'!D1487 -> 0 | Q21: ='Price Sheet'!D1607 -> 0
A22: LASER PRINTING for 8 1/2" x 11" or 8 1/2" x 14": Duplex 2/1 Black & Color Over Black | C22: =D22 -> 0 | D22: ='Price Sheet'!D47 -> 0 | E22: ='Price Sheet'!D167 -> 0 | F22: ='Price Sheet'!D287 -> 0 | G22: ='Price Sheet'!D407 -> 0 | H22: ='Price Sheet'!D527 -> 0 | I22: ='Price Sheet'!D647 -> 0 | J22: ='Price Sheet'!D767 -> 0 | K22: ='Price Sheet'!D888 -> 0 | L22: ='Price Sheet'!D1008 -> 0 | M22: ='Price Sheet'!D1128 -> 0 | N22: ='Price Sheet'!D1248 -> 0 | O22: ='Price Sheet'!D1368 -> 0 | P22: ='Price Sheet'!D1488 -> 0 | Q22: ='Price Sheet'!D1608 -> 0
A23: LASER PRINTING for 8 1/2" x 11" or 8 1/2" x 14": Duplex 2/2 Black & Color Over Black & Color | C23: =D23 -> 0 | D23: ='Price Sheet'!D48 -> 0 | E23: ='Price Sheet'!D168 -> 0 | F23: ='Price Sheet'!D288 -> 0 | G23: ='Price Sheet'!D408 -> 0 | H23: ='Price Sheet'!D528 -> 0 | I23: ='Price Sheet'!D648 -> 0 | J23: ='Price Sheet'!D768 -> 0 | K23: ='Price Sheet'!D889 -> 0 | L23: ='Price Sheet'!D1009 -> 0 | M23: ='Price Sheet'!D1129 -> 0 | N23: ='Price Sheet'!D1249 -> 0 | O23: ='Price Sheet'!D1369 -> 0 | P23: ='Price Sheet'!D1489 -> 0 | Q23: ='Price Sheet'!D1609 -> 0
A24: LASER PRINTING for 8 1/2" x 11" or 8 1/2" x 14": Duplex 4/1 Process Over Black | C24: =D24 -> 0 | D24: ='Price Sheet'!D49 -> 0 | E24: ='Price Sheet'!D169 -> 0 | F24: ='Price Sheet'!D289 -> 0 | G24: ='Price Sheet'!D409 -> 0 | H24: ='Price Sheet'!D529 -> 0 | I24: ='Price Sheet'!D649 -> 0 | J24: ='Price Sheet'!D769 -> 0 | K24: ='Price Sheet'!D890 -> 0 | L24: ='Price Sheet'!D1010 -> 0 | M24: ='Price Sheet'!D1130 -> 0 | N24: ='Price Sheet'!D1250 -> 0 | O24: ='Price Sheet'!D1370 -> 0 | P24: ='Price Sheet'!D1490 -> 0 | Q24: ='Price Sheet'!D1610 -> 0
A25: LASER PRINTING for 8 1/2" x 11" or 8 1/2" x 14": Duplex 4/2 Process Over Black & Color | C25: =D25 -> 0 | D25: ='Price Sheet'!D50 -> 0 | E25: ='Price Sheet'!D170 -> 0 | F25: ='Price Sheet'!D290 -> 0 | G25: ='Price Sheet'!D410 -> 0 | H25: ='Price Sheet'!D530 -> 0 | I25: ='Price Sheet'!D650 -> 0 | J25: ='Price Sheet'!D770 -> 0 | K25: ='Price Sheet'!D891 -> 0 | L25: ='Price Sheet'!D1011 -> 0 | M25: ='Price Sheet'!D1131 -> 0 | N25: ='Price Sheet'!D1251 -> 0 | O25: ='Price Sheet'!D1371 -> 0 | P25: ='Price Sheet'!D1491 -> 0 | Q25: ='Price Sheet'!D1611 -> 0
A26: LASER PRINTING for 8 1/2" x 11" or 8 1/2" x 14": Duplex 4/4 Process Color Over Process Color | C26: =D26 -> 0 | D26: ='Price Sheet'!D51 -> 0 | E26: ='Price Sheet'!D171 -> 0 | F26: ='Price Sheet'!D291 -> 0 | G26: ='Price Sheet'!D411 -> 0 | H26: ='Price Sheet'!D531 -> 0 | I26: ='Price Sheet'!D651 -> 0 | J26: ='Price Sheet'!D771 -> 0 | K26: ='Price Sheet'!D892 -> 0 | L26: ='Price Sheet'!D1012 -> 0 | M26: ='Price Sheet'!D1132 -> 0 | N26: ='Price Sheet'!D1252 -> 0 | O26: ='Price Sheet'!D1372 -> 0 | P26: ='Price Sheet'!D1492 -> 0 | Q26: ='Price Sheet'!D1612 -> 0
A27: LASER PRINTING for 11" x 17": Simplex 1/0 Black | C27: =D27 -> 0 | D27: ='Price Sheet'!D52 -> 0 | E27: ='Price Sheet'!D172 -> 0 | F27: ='Price Sheet'!D292 -> 0 | G27: ='Price Sheet'!D412 -> 0 | H27: ='Price Sheet'!D532 -> 0 | I27: ='Price Sheet'!D652 -> 0 | J27: ='Price Sheet'!D772 -> 0 | K27: ='Price Sheet'!D893 -> 0 | L27: ='Price Sheet'!D1013 -> 0 | M27: ='Price Sheet'!D1133 -> 0 | N27: ='Price Sheet'!D1253 -> 0 | O27: ='Price Sheet'!D1373 -> 0 | P27: ='Price Sheet'!D1493 -> 0 | Q27: ='Price Sheet'!D1613 -> 0
A28: LASER PRINTING for 11" x 17": Simplex 2/0 Black & Color | C28: =D28 -> 0 | D28: ='Price Sheet'!D53 -> 0 | E28: ='Price Sheet'!D173 -> 0 | F28: ='Price Sheet'!D293 -> 0 | G28: ='Price Sheet'!D413 -> 0 | H28: ='Price Sheet'!D533 -> 0 | I28: ='Price Sheet'!D653 -> 0 | J28: ='Price Sheet'!D773 -> 0 | K28: ='Price Sheet'!D894 -> 0 | L28: ='Price Sheet'!D1014 -> 0 | M28: ='Price Sheet'!D1134 -> 0 | N28: ='Price Sheet'!D1254 -> 0 | O28: ='Price Sheet'!D1374 -> 0 | P28: ='Price Sheet'!D1494 -> 0 | Q28: ='Price Sheet'!D1614 -> 0
... A61: LASER PRINTING for ENVELOPES Duplex 2/2 Black & Color Over Black & Color | C61: =D61 -> 0 | D61: ='Price Sheet'!D86 -> 0 | E61: ='Price Sheet'!D206 -> 0 | F61: ='Price Sheet'!D326 -> 0 | G61: ='Price Sheet'!D446 -> 0 | H61: ='Price Sheet'!D566 -> 0 | I61: ='Price Sheet'!D686 -> 0 | J61: ='Price Sheet'!D806 -> 0 | K61: ='Price Sheet'!D927 -> 0 | L61: ='Price Sheet'!D1047 -> 0 | M61: ='Price Sheet'!D1167 -> 0 | N61: ='Price Sheet'!D1287 -> 0 | O61: ='Price Sheet'!D1407 -> 0 | P61: ='Price Sheet'!D1527 -> 0 | Q61: ='Price Sheet'!D1647 -> 0
A62: Perforations and Foldings | C62: 1 - 999 | D62: 1000 - 2,499 | E62: 2,500 - 4,999 | F62: 5,000 - 9,999 | G62: 10,000 -24,999 | H62: 25,000 - 49,999 | I62: 50,000 - 99,999 | J62: 100,000 - 149,999 | K62: 150,000 - 199,999 | L62: 200,000 - 299,999 | M62: 300,000 - 399,999 | N62: 400,000 - 499,999 | O62: 500,000 - 749,999 | P62: 750,000 - 999,999 | Q62: 1MM - and Up
A63: PERFORATING: Perf. @ 3 1/2" from sheet edge to create a stub | C63: =D63 -> 0 | D63: ='Price Sheet'!D88 -> 0 | E63: ='Price Sheet'!D208 -> 0 | F63: ='Price Sheet'!D328 -> 0 | G63: ='Price Sheet'!D448 -> 0 | H63: ='Price Sheet'!D568 -> 0 | I63: ='Price Sheet'!D688 -> 0 | J63: ='Price Sheet'!D808 -> 0 | K63: ='Price Sheet'!D929 -> 0 | L63: ='Price Sheet'!D1049 -> 0 | M63: ='Price Sheet'!D1169 -> 0 | N63: ='Price Sheet'!D1289 -> 0 | O63: ='Price Sheet'!D1409 -> 0 | P63: ='Price Sheet'!D1529 -> 0 | Q63: ='Price Sheet'!D1649 -> 0
A64: PERFORATING:Perf. @ 3 3/4" from sheet edge to create a stub | C64: =D64 -> 0 | D64: ='Price Sheet'!D89 -> 0 | E64: ='Price Sheet'!D209 -> 0 | F64: ='Price Sheet'!D329 -> 0 | G64: ='Price Sheet'!D449 -> 0 | H64: ='Price Sheet'!D569 -> 0 | I64: ='Price Sheet'!D689 -> 0 | J64: ='Price Sheet'!D809 -> 0 | K64: ='Price Sheet'!D930 -> 0 | L64: ='Price Sheet'!D1050 -> 0 | M64: ='Price Sheet'!D1170 -> 0 | N64: ='Price Sheet'!D1290 -> 0 | O64: ='Price Sheet'!D1410 -> 0 | P64: ='Price Sheet'!D1530 -> 0 | Q64: ='Price Sheet'!D1650 -> 0
A65: PERFORATED PAPER 8 ½" x 11" White 60# | C65: =D65 -> 0 | D65: ='Price Sheet'!D90 -> 0 | E65: ='Price Sheet'!D210 -> 0 | F65: ='Price Sheet'!D330 -> 0 | G65: ='Price Sheet'!D450 -> 0 | H65: ='Price Sheet'!D570 -> 0 | I65: ='Price Sheet'!D690 -> 0 | J65: ='Price Sheet'!D810 -> 0 | K65: ='Price Sheet'!D931 -> 0 | L65: ='Price Sheet'!D1051 -> 0 | M65: ='Price Sheet'!D1171 -> 0 | N65: ='Price Sheet'!D1291 -> 0 | O65: ='Price Sheet'!D1411 -> 0 | P65: ='Price Sheet'!D1531 -> 0 | Q65: ='Price Sheet'!D1651 -> 0
A66: FOLDING: 8 1/2" x 11" Sheet folded to fit envelope | C66: =D66 -> 0 | D66: ='Price Sheet'!D91 -> 0 | E66: ='Price Sheet'!D211 -> 0 | F66: ='Price Sheet'!D331 -> 0 | G66: ='Price Sheet'!D451 -> 0 | H66: ='Price Sheet'!D571 -> 0 | I66: ='Price Sheet'!D691 -> 0 | J66: ='Price Sheet'!D811 -> 0 | K66: ='Price Sheet'!D932 -> 0 | L66: ='Price Sheet'!D1052 -> 0 | M66: ='Price Sheet'!D1172 -> 0 | N66: ='Price Sheet'!D1292 -> 0 | O66: ='Price Sheet'!D1412 -> 0 | P66: ='Price Sheet'!D1532 -> 0 | Q66: ='Price Sheet'!D1652 -> 0
A67: FOLDING: 8 1/2" x 14" Sheet folded to fit envelope | C67: =D67 -> 0 | D67: ='Price Sheet'!D92 -> 0 | E67: ='Price Sheet'!D212 -> 0 | F67: ='Price Sheet'!D332 -> 0 | G67: ='Price Sheet'!D452 -> 0 | H67: ='Price Sheet'!D572 -> 0 | I67: ='Price Sheet'!D692 -> 0 | J67: ='Price Sheet'!D812 -> 0 | K67: ='Price Sheet'!D933 -> 0 | L67: ='Price Sheet'!D1053 -> 0 | M67: ='Price Sheet'!D1173 -> 0 | N67: ='Price Sheet'!D1293 -> 0 | O67: ='Price Sheet'!D1413 -> 0 | P67: ='Price Sheet'!D1533 -> 0 | Q67: ='Price Sheet'!D1653 -> 0
A68: FOLDING: 11" x 17" Sheet folded to fit envelope | C68: =D68 -> 0 | D68: ='Price Sheet'!D93 -> 0 | E68: ='Price Sheet'!D213 -> 0 | F68: ='Price Sheet'!D333 -> 0 | G68: ='Price Sheet'!D453 -> 0 | H68: ='Price Sheet'!D573 -> 0 | I68: ='Price Sheet'!D693 -> 0 | J68: ='Price Sheet'!D813 -> 0 | K68: ='Price Sheet'!D934 -> 0 | L68: ='Price Sheet'!D1054 -> 0 | M68: ='Price Sheet'!D1174 -> 0 | N68: ='Price Sheet'!D1294 -> 0 | O68: ='Price Sheet'!D1414 -> 0 | P68: ='Price Sheet'!D1534 -> 0 | Q68: ='Price Sheet'!D1654 -> 0
A69: FOLDING: 25 1/2" x 11" Sheet folded to fit envelope | C69: =D69 -> 0 | D69: ='Price Sheet'!D94 -> 0 | E69: ='Price Sheet'!D214 -> 0 | F69: ='Price Sheet'!D334 -> 0 | G69: ='Price Sheet'!D454 -> 0 | H69: ='Price Sheet'!D574 -> 0 | I69: ='Price Sheet'!D694 -> 0 | J69: ='Price Sheet'!D814 -> 0 | K69: ='Price Sheet'!D935 -> 0 | L69: ='Price Sheet'!D1055 -> 0 | M69: ='Price Sheet'!D1175 -> 0 | N69: ='Price Sheet'!D1295 -> 0 | O69: ='Price Sheet'!D1415 -> 0 | P69: ='Price Sheet'!D1535 -> 0 | Q69: ='Price Sheet'!D1655 -> 0
A70: PRE-PRINTED FORMS - Offset Printing (Informational Documents - Worksheets, Instructions, ect., printed and kept in stock to be inserted as required. Inventory report will be required. Enter prices for printing only. Paper cost is not to be included) | C70: 1 - 999 | D70: 1000 - 2,499 | E70: 2,500 - 4,999 | F70: 5,000 - 9,999 | G70: 10,000 -24,999 | H70: 25,000 - 49,999 | I70: 50,000 - 99,999 | J70: 100,000 - 149,999 | K70: 150,000 - 199,999 | L70: 200,000 - 299,999 | M70: 300,000 - 399,999 | N70: 400,000 - 499,999 | O70: 500,000 - 749,999 | P70: 750,000 - 999,999 | Q70: 1MM - and Up
A71: PRE-PRINTED FORMS - Offset Printing: 8 1/2" X 11", Prints 1/0 | C71: =D71 -> 0 | D71: ='Price Sheet'!D96 -> 0 | E71: ='Price Sheet'!D336 -> 0 | F71: ='Price Sheet'!D456 -> 0 | G71: ='Price Sheet'!D576 -> 0 | H71: ='Price Sheet'!D696 -> 0 | I71: ='Price Sheet'!D817 -> 0 | J71: ='Price Sheet'!D937 -> 0 | K71: ='Price Sheet'!D1057 -> 0 | L71: ='Price Sheet'!D1177 -> 0 | M71: ='Price Sheet'!D1297 -> 0 | N71: ='Price Sheet'!D1297 -> 0 | O71: ='Price Sheet'!D1417 -> 0 | P71: ='Price Sheet'!D1537 -> 0 | Q71: ='Price Sheet'!D1657 -> 0
A72: PRE-PRINTED FORMS - Offset Printing: 8 1/2" X 11", Prints 1/1 | C72: =D72 -> 0 | D72: ='Price Sheet'!D97 -> 0 | E72: ='Price Sheet'!D337 -> 0 | F72: ='Price Sheet'!D457 -> 0 | G72: ='Price Sheet'!D577 -> 0 | H72: ='Price Sheet'!D697 -> 0 | I72: ='Price Sheet'!D818 -> 0 | J72: ='Price Sheet'!D938 -> 0 | K72: ='Price Sheet'!D1058 -> 0 | L72: ='Price Sheet'!D1178 -> 0 | M72: ='Price Sheet'!D1298 -> 0 | N72: ='Price Sheet'!D1298 -> 0 | O72: ='Price Sheet'!D1418 -> 0 | P72: ='Price Sheet'!D1538 -> 0 | Q72: ='Price Sheet'!D1658 -> 0
...

Sheet Items
A1: Minimum Order Charge for orders of less than 1000
A2: Paper: 8 1/2" x 11" White 60#
A3: Paper: 8 1/2" x 11" Color 60#
A4: Paper: 8 1/2" x 14" White 60#
A5: Paper: 8 1/2" x 14" Color 60#
A6: Paper: 11" x 17" White 60#
A7: Paper: 11" x 17" Color 60#
A8: Paper: 25 1/2" x 11" White 60#
A9: Paper: 25 1/2" x 11" Color 60#
A10: Paper: 4 1/4" x 6" Post Card White Hi Bulk Offset (per postal regulatons)
A11: Paper: 5 1/2" x 8 1/2" Post Card White Hi Bulk Offset (per postal regulatons)
A12: LASER PRINTING for 8 1/2" x 11" or 8 1/2" x 14": Simplex 1/0 Black
... A114: PMS Ink (with no magnetic properties)
