Workbook

Sheet CRYSTAL_PERSIST
V1: <CrystalAddin Version="4" ConsolidateParameter="True" EnableRefreshOrder="False" WebServiceURL="https://njsdw.dhs.state.nj.us:8443/dswsbobje/services/Session" CMSName="sdw-co-app3"><AddinModuleData ID="WEBI"><Webi_documents><Webi_document Connection_id="1"
V2: CUID="AWzd5F2sL7dNu.9IbzM_yKY" Document_name="SDWMED050M" CurrentReportDrillActive="False" ReportPath="/Medicaid/Monthy Managed Care and Public Stats Reports" HasPrompt="0" HasQueryContext="False" bHasPromptToBind="False"><Container ContainerCUID="ASKhCZ5
V3: t06ZPlkTpeMct2A8" ContainerKind="1"/><Data_providers/><Original_data_providers/><prompts/><QueryContexts/><WebiViews><WebiView view_id="1" refresh_order="-1" part_UREF="UIREF:RID=29:BID=16058" part_type="1" Conceal_data_when_saving="False" Keep_user_format
V4: ="True" Instance_by_user="False" Username="" Logon_User_Instance="False" Refresh_DB="True" Use_Report_Saved_Data="False" Use_specific_instance="False" specific_instance_cuid="" specific_instance_description="" Need_format="False" Custom_view_name="Managed
V5: Care Rpt Template document part" Last_refresh_status="1" Last_refresh_description="Failed to get the document information. (LO 26315) The Web Intelligence server cannot be reached. Contact your Business Objects administrator. (Error: RWI 00236)(6315)" Las
V6: t_refresh_time="2019-5-28T16:4:43" Last_refresh_time_taken="17487"><Regions><Region name="HHeading" DataRowCount="0" DataColCount="0"><LayoutManager LinkRows="False" LinkCols="False" Version="1.0" RegionName="HHeading"><CustomRows Axis="Row"/><CustomColumn
V7: s Axis="Column"/></LayoutManager></Region><Region name="DataGrid" DataRowCount="5" DataColCount="1"><LayoutManager LinkRows="False" LinkCols="True" Version="1.0" RegionName="DataGrid"><CustomRows Axis="Row"/><CustomColumns Axis="Column"/></LayoutManager></
V8: Region></Regions></WebiView></WebiViews><PromptBindings/><DataSourceParameterValues/></Webi_document><Webi_document Connection_id="2" CUID="AWzd5F2sL7dNu.9IbzM_yKY" Document_name="SDWMED050M" CurrentReportDrillActive="False" ReportPath="/Medicaid/Monthy Ma
V9: naged Care and Public Stats Reports" HasPrompt="0" HasQueryContext="False" bHasPromptToBind="False"><Container ContainerCUID="ASKhCZ5t06ZPlkTpeMct2A8" ContainerKind="1"/><Data_providers/><Original_data_providers/><prompts/><QueryContexts/><WebiViews><WebiV
V10: iew view_id="1" refresh_order="-1" part_UREF="UIREF:RID=29:BID=9648" part_type="6" Conceal_data_when_saving="False" Keep_user_format="True" Instance_by_user="False" Username="" Logon_User_Instance="False" Refresh_DB="True" Use_Report_Saved_Data="False" Use
V11: _specific_instance="False" specific_instance_cuid="" specific_instance_description="" Need_format="False" Custom_view_name="Managed Care Rpt Template document part (1)" Last_refresh_status="1" Last_refresh_description="Please refresh the document for the n
V12: ew settings to take effective." Last_refresh_time="2019-5-28T16:4:43" Last_refresh_time_taken="17487"><Regions><Region name="IndependentCell" DataRowCount="1" DataColCount="1"><LayoutManager LinkRows="False" LinkCols="False" Version="1.0" RegionName="Indep
... V244: ><DataSourceParameterValues/></Webi_document></Webi_documents></AddinModuleData></CrystalAddin>

Sheet Sheet1
A1: STATE OF NEW JERSEY
A2: DEPARTMENT OF HUMAN SERVICES
A3: DIVISION OF MEDICAL ASSISTANCE AND HEALTH SERVICES
A4: NEW JERSEY DMAHS MANAGED CARE REPORT - SUMMARY
A5: May 2019
A7: PAGE 1
A9: Run Date 05/28/2019
B11: Aetna | C11: Amerigroup | D11: Horizon | E11: United | F11: WellCare | G11: Pace | H11: FFS | I11: Total
A12: AGED | B12: 4541 | C12: 12035 | D12: 34702 | E12: 25763 | F12: 11784 | G12: 506 | H12: 7226 | I12: 96557
A14: Blind | B14: Aetna | C14: Amerigroup | D14: Horizon | E14: United | F14: WellCare | G14: Pace | H14: FFS
A15: ADULT | B15: 16 | C15: 103 | D15: 339 | E15: 206 | F15: 65 | G15: 1 | H15: 27 | I15: 757
A16: CHILD | C16: 5 | D16: 22 | E16: 10 | F16: 3 | H16: 3 | I16: 43
A18: Disabled | B18: Aetna | C18: Amerigroup | D18: Horizon | E18: United | F18: WellCare | G18: Pace | H18: FFS
A19: ADULT | B19: 3733 | C19: 21229 | D19: 83901 | E19: 48169 | F19: 9731 | G19: 620 | H19: 8444 | I19: 175827
A20: CHILD | B20: 757 | C20: 2836 | D20: 16220 | E20: 8145 | F20: 864 | H20: 560 | I20: 29382
B22: Aetna | C22: Amerigroup | D22: Horizon | E22: United | F22: WellCare | G22: Pace | H22: FFS
A23: Non ABD Children
A24: PLAN A | B24: 14825 | C24: 56310 | D24: 284800 | E24: 147126 | F24: 16401 | H24: 19802 | I24: 539264
A25: SCHIP PLAN A MED EXP | B25: 2460 | C25: 9793 | D25: 49838 | E25: 26758 | F25: 2943 | H25: 3353 | I25: 95145
A26: SCHIP PLAN B | B26: 119 | C26: 597 | D26: 3112 | E26: 1575 | F26: 145 | H26: 49 | I26: 5597
A27: SCHIP PLAN C | B27: 1449 | C27: 6470 | D27: 33959 | E27: 17748 | F27: 1174 | H27: 209 | I27: 61009
A28: SCHIP PLAN D | B28: 1529 | C28: 6436 | D28: 30213 | E28: 17580 | F28: 1006 | H28: 281 | I28: 57045
B30: Aetna | C30: Amerigroup | D30: Horizon | E30: United | F30: WellCare | G30: Pace | H30: FFS
A31: CHILDREN'S SERVICES | B31: 319 | C31: 2302 | D31: 11918 | E31: 6298 | F31: 351 | H31: 9148 | I31: 30336
B33: Aetna | C33: Amerigroup | D33: Horizon | E33: United | F33: WellCare | G33: Pace | H33: FFS
A34: Non ABD Adult
A35: PLAN A | B35: 3822 | C35: 10226 | D35: 48722 | E35: 23652 | F35: 3187 | H35: 7316 | I35: 96925
A36: ABP | B36: 25106 | C36: 54120 | D36: 255467 | E36: 127736 | F36: 24486 | G36: 6 | H36: 32305 | I36: 519226
A38: Aetna | B38: Amerigroup | C38: Horizon | D38: United | E38: WellCare | F38: Pace | G38: FFS
A39: 58676 | B39: 182462 | C39: 853213 | D39: 450766 | E39: 72140 | F39: 1133 | G39: 88723 | H39: 1707113
A41: STATE OF NEW JERSEY
A42: DEPARTMENT OF HUMAN SERVICES
A43: DIVISION OF MEDICAL ASSISTANCE AND HEALTH SERVICES
A44: NEW JERSEY DMAHS MANAGED CARE REPORT - SUMMARY
A45: May 2019
A47: PAGE 1
A49: Run Date 05/28/2019
C51: Aetna | E51: Amerigroup | G51: Horizon | I51: United | K51: WellCare | M51: Pace | O51: FFS
A52: 10399 | B52: Children in AFDC, NJC, DYFS and FamilyCare Plan A-C Newborn | C52: 118 | D52: 0.0020110437 | E52: 356 | F52: 0.0019510912 | G52: 1732 | H52: 0.0020299738 | I52: 938 | J52: 0.0020809023 | K52: 90 | L52: 0.0012475742
A53: 17399 | B53: Children in AFDC, NJC, DYFS and FamilyCare Plan A-C & DDD | C53: 20 | D53: 0.00034085486 | E53: 119 | F53: 0.00065219059 | G53: 702 | H53: 0.00082277227 | I53: 474 | J53: 0.0010515434 | K53: 16 | L53: 0.00022179096
...

Sheet Spreadsheet Table
A1: =Sheet1!A5&" NJ Family Care Managed Care Report - Summary by Eligibility Category" -> May 2019 NJ Family Care Managed Care Report - Summary by Eligibility Category
A2: Eligibility Category | B2: Aetna | C2: Amerigroup | D2: Horizon | E2: United | F2: WellCare | G2: Managed Care Total | H2: Pace | I2: FFS | J2: Total
A3: Aged | B3: =Sheet1!B12 -> 4541 | C3: =Sheet1!C12 -> 12035 | D3: =Sheet1!D12 -> 34702 | E3: =Sheet1!E12 -> 25763 | F3: =Sheet1!F12 -> 11784 | G3: =SUM(B3:F3) -> 88825 | H3: =Sheet1!G12 -> 506 | I3: =Sheet1!H12 -> 7226 | J3: =Sheet1!I12 -> 96557
A5: Blind | B5: =SUM(B6:B7) -> 16 | C5: =SUM(C6:C7) -> 108 | D5: =SUM(D6:D7) -> 361 | E5: =SUM(E6:E7) -> 216 | F5: =SUM(F6:F7) -> 68 | G5: =SUM(G6:G7) -> 769 | H5: =SUM(H6:H7) -> 1 | I5: =SUM(I6:I7) -> 30 | J5: =SUM(J6:J7) -> 800
A6: ADULT | B6: =Sheet1!B15 -> 16 | C6: =Sheet1!C15 -> 103 | D6: =Sheet1!D15 -> 339 | E6: =Sheet1!E15 -> 206 | F6: =Sheet1!F15 -> 65 | G6: =SUM(B6:F6) -> 729 | H6: =Sheet1!G15 -> 1 | I6: =Sheet1!H15 -> 27 | J6: =Sheet1!I15 -> 757
A7: CHILD | B7: =Sheet1!B16 -> 0 | C7: =Sheet1!C16 -> 5 | D7: =Sheet1!D16 -> 22 | E7: =Sheet1!E16 -> 10 | F7: =Sheet1!F16 -> 3 | G7: =SUM(B7:F7) -> 40 | H7: =Sheet1!G16 -> 0 | I7: =Sheet1!H16 -> 3 | J7: =Sheet1!I16 -> 43
A9: Disabled | B9: =SUM(B10:B11) -> 4490 | C9: =SUM(C10:C11) -> 24065 | D9: =SUM(D10:D11) -> 100121 | E9: =SUM(E10:E11) -> 56314 | F9: =SUM(F10:F11) -> 10595 | G9: =SUM(G10:G11) -> 195585 | H9: =SUM(H10:H11) -> 620 | I9: =SUM(I10:I11) -> 9004 | J9: =SUM(J10:J11) -> 205209
A10: ADULT | B10: =Sheet1!B19 -> 3733 | C10: =Sheet1!C19 -> 21229 | D10: =Sheet1!D19 -> 83901 | E10: =Sheet1!E19 -> 48169 | F10: =Sheet1!F19 -> 9731 | G10: =SUM(B10:F10) -> 166763 | H10: =Sheet1!G19 -> 620 | I10: =Sheet1!H19 -> 8444 | J10: =Sheet1!I19 -> 175827
A11: CHILD | B11: =Sheet1!B20 -> 757 | C11: =Sheet1!C20 -> 2836 | D11: =Sheet1!D20 -> 16220 | E11: =Sheet1!E20 -> 8145 | F11: =Sheet1!F20 -> 864 | G11: =SUM(B11:F11) -> 28822 | H11: =Sheet1!G20 -> 0 | I11: =Sheet1!H20 -> 560 | J11: =Sheet1!I20 -> 29382
A13: Non ABD Children | B13: =SUM(B14:B19) -> 20701 | C13: =SUM(C14:C19) -> 81908 | D13: =SUM(D14:D19) -> 413840 | E13: =SUM(E14:E19) -> 217085 | F13: =SUM(F14:F19) -> 22020 | G13: =SUM(G14:G19) -> 755554 | H13: =SUM(H14:H19) -> 0 | I13: =SUM(I14:I19) -> 32842 | J13: =SUM(J14:J19) -> 788396
A14: PLAN A | B14: =Sheet1!B24 -> 14825 | C14: =Sheet1!C24 -> 56310 | D14: =Sheet1!D24 -> 284800 | E14: =Sheet1!E24 -> 147126 | F14: =Sheet1!F24 -> 16401 | G14: =SUM(B14:F14) -> 519462 | H14: =Sheet1!G24 -> 0 | I14: =Sheet1!H24 -> 19802 | J14: =Sheet1!I24 -> 539264
A15: SCHIP PLAN A MED EXP | B15: =Sheet1!B25 -> 2460 | C15: =Sheet1!C25 -> 9793 | D15: =Sheet1!D25 -> 49838 | E15: =Sheet1!E25 -> 26758 | F15: =Sheet1!F25 -> 2943 | G15: =SUM(B15:F15) -> 91792 | H15: =Sheet1!G25 -> 0 | I15: =Sheet1!H25 -> 3353 | J15: =Sheet1!I25 -> 95145
A16: SCHIP PLAN B | B16: =Sheet1!B26 -> 119 | C16: =Sheet1!C26 -> 597 | D16: =Sheet1!D26 -> 3112 | E16: =Sheet1!E26 -> 1575 | F16: =Sheet1!F26 -> 145 | G16: =SUM(B16:F16) -> 5548 | H16: =Sheet1!G26 -> 0 | I16: =Sheet1!H26 -> 49 | J16: =Sheet1!I26 -> 5597
A17: SCHIP PLAN C | B17: =Sheet1!B27 -> 1449 | C17: =Sheet1!C27 -> 6470 | D17: =Sheet1!D27 -> 33959 | E17: =Sheet1!E27 -> 17748 | F17: =Sheet1!F27 -> 1174 | G17: =SUM(B17:F17) -> 60800 | H17: =Sheet1!G27 -> 0 | I17: =Sheet1!H27 -> 209 | J17: =Sheet1!I27 -> 61009
A18: SCHIP PLAN D | B18: =Sheet1!B28 -> 1529 | C18: =Sheet1!C28 -> 6436 | D18: =Sheet1!D28 -> 30213 | E18: =Sheet1!E28 -> 17580 | F18: =Sheet1!F28 -> 1006 | G18: =SUM(B18:F18) -> 56764 | H18: =Sheet1!G28 -> 0 | I18: =Sheet1!H28 -> 281 | J18: =Sheet1!I28 -> 57045
A19: CHILDREN'S SERVICES | B19: =Sheet1!B31 -> 319 | C19: =Sheet1!C31 -> 2302 | D19: =Sheet1!D31 -> 11918 | E19: =Sheet1!E31 -> 6298 | F19: =Sheet1!F31 -> 351 | G19: =SUM(B19:F19) -> 21188 | H19: =Sheet1!G31 -> 0 | I19: =Sheet1!H31 -> 9148 | J19: =Sheet1!I31 -> 30336
A21: Non ABD Adult | B21: =SUM(B22:B23) -> 28928 | C21: =SUM(C22:C23) -> 64346 | D21: =SUM(D22:D23) -> 304189 | E21: =SUM(E22:E23) -> 151388 | F21: =SUM(F22:F23) -> 27673 | G21: =SUM(G22:G23) -> 576524 | H21: =SUM(H22:H23) -> 6 | I21: =SUM(I22:I23) -> 39621 | J21: =SUM(J22:J23) -> 616151
A22: PLAN A | B22: =Sheet1!B35 -> 3822 | C22: =Sheet1!C35 -> 10226 | D22: =Sheet1!D35 -> 48722 | E22: =Sheet1!E35 -> 23652 | F22: =Sheet1!F35 -> 3187 | G22: =SUM(B22:F22) -> 89609 | H22: =Sheet1!G35 -> 0 | I22: =Sheet1!H35 -> 7316 | J22: =Sheet1!I35 -> 96925
A23: ABP | B23: =Sheet1!B36 -> 25106 | C23: =Sheet1!C36 -> 54120 | D23: =Sheet1!D36 -> 255467 | E23: =Sheet1!E36 -> 127736 | F23: =Sheet1!F36 -> 24486 | G23: =SUM(B23:F23) -> 486915 | H23: =Sheet1!G36 -> 6 | I23: =Sheet1!H36 -> 32305 | J23: =Sheet1!I36 -> 519226
A25: Total | B25: =Sheet1!A39 -> 58676 | C25: =Sheet1!B39 -> 182462 | D25: =Sheet1!C39 -> 853213 | E25: =Sheet1!D39 -> 450766 | F25: =Sheet1!E39 -> 72140 | G25: =SUM(B25:F25) -> 1617257 | H25: =Sheet1!F39 -> 1133 | I25: =Sheet1!G39 -> 88723 | J25: =Sheet1!H39 -> 1707113
A26: Produced by the New Jersey Department of Human Services, Division of Medical Assistance and Health Services, Office of Business Intelligence

Sheet Cap Codes
A1: =Sheet1!A5&" NJ Family Care Managed Care Report - Summary by Eligibility Category" -> May 2019 NJ Family Care Managed Care Report - Summary by Eligibility Category
A2: Code | B2: Capitation Code Description | C2: Aetna | E2: Amerigroup | G2: Horizon | I2: United | K2: WellCare | M2: Pace | O2: FFS | Q2: Total
A3: 10399 | B3: Children in AFDC, NJC, DYFS and FamilyCare Plan A-C Newborn | C3: =Sheet1!C52 -> 118 | D3: =Sheet1!D52 -> 0.0020110437 | E3: =Sheet1!E52 -> 356 | F3: =Sheet1!F52 -> 0.0019510912 | G3: =Sheet1!G52 -> 1732 | H3: =Sheet1!H52 -> 0.0020299738 | I3: =Sheet1!I52 -> 938 | J3: =Sheet1!J52 -> 0.0020809023 | ... L3: =Sheet1!L52 -> 0.0012475742 | Q3: =SUM(C3,E3,G3,I3,K3) -> 3234
A4: 17399 | B4: Children in AFDC, NJC, DYFS and FamilyCare Plan A-C & DDD | C4: =Sheet1!C53 -> 20 | D4: =Sheet1!D53 -> 0.00034085486 | E4: =Sheet1!E53 -> 119 | F4: =Sheet1!F53 -> 0.00065219059 | G4: =Sheet1!G53 -> 702 | H4: =Sheet1!H53 -> 0.00082277227 | I4: =Sheet1!I53 -> 474 | J4: =Sheet1!J53 -> 0.0010515434 | ... L4: =Sheet1!L53 -> 0.00022179096 | Q4: =SUM(C4,E4,G4,I4,K4) -> 1331
A5: 19399 | B5: Children in AFDC, NJC, DYFS and FamilyCare Plan A-C | C5: =Sheet1!C54 -> 18975 | D5: =Sheet1!D54 -> 0.32338605 | E5: =Sheet1!E54 -> 74799 | F5: =Sheet1!F54 -> 0.40994289 | G5: =Sheet1!G54 -> 380017 | H5: =Sheet1!H54 -> 0.44539523 | I5: =Sheet1!I54 -> 197469 | J5: =Sheet1!J54 -> 0.4380743 | ... L5: =Sheet1!L54 -> 0.28911838 | Q5: =SUM(C5,E5,G5,I5,K5) -> 692117
A6: 37399 | B6: Parents in AFDC and NJCPW & DDD, Plan A | C6: =Sheet1!C57 -> 1 | D6: =Sheet1!D57 -> 1.7042743e-05 | E6: =Sheet1!E57 -> 0 | F6: =Sheet1!F57 -> 0 | G6: =Sheet1!G57 -> 13 | H6: =Sheet1!H57 -> 1.5236524e-05 | I6: =Sheet1!I57 -> 6 | J6: =Sheet1!J57 -> 1.3310676e-05 | ... L6: =Sheet1!L57 -> 2.772387e-05 | Q6: =SUM(C6,E6,G6,I6,K6) -> 22
A7: 39499 | B7: Parents in AFDC and NJCPW, Plan A | C7: =Sheet1!C58 -> 3799 | D7: =Sheet1!D58 -> 0.064745381 | E7: =Sheet1!E58 -> 10180 | F7: =Sheet1!F58 -> 0.055792439 | G7: =Sheet1!G58 -> 48440 | H7: =Sheet1!H58 -> 0.056773631 | I7: =Sheet1!I58 -> 23522 | J7: =Sheet1!J58 -> 0.052182285 | ... L7: =Sheet1!L58 -> 0.043637372 | Q7: =SUM(C7,E7,G7,I7,K7) -> 89089
A8: 49499 | B8: DYFS with Blind or Disabled without Medicare & DDD, Plan A | C8: =Sheet1!C61 -> 1 | D8: =Sheet1!D61 -> 1.7042743e-05 | E8: =Sheet1!E61 -> 11 | F8: =Sheet1!F61 -> 6.0286525e-05 | G8: =Sheet1!G61 -> 64 | H8: =Sheet1!H61 -> 7.5010578e-05 | I8: =Sheet1!I61 -> 32 | J8: =Sheet1!J61 -> 7.099027e-05 | ... L8: =Sheet1!L61 -> 2.772387e-05 | Q8: =SUM(C8,E8,G8,I8,K8) -> 110
A9: 81299 | B9: DYFS with Blind or Disabled without Medicare, Plan A | C9: =Sheet1!C62 -> 7 | D9: =Sheet1!D62 -> 0.0001192992 | E9: =Sheet1!E62 -> 21 | F9: =Sheet1!F62 -> 0.00011509246 | G9: =Sheet1!G62 -> 222 | H9: =Sheet1!H62 -> 0.00026019294 | I9: =Sheet1!I62 -> 87 | J9: =Sheet1!J62 -> 0.0001930048 | ... L9: =Sheet1!L62 -> 9.7033546e-05 | Q9: =SUM(C9,E9,G9,I9,K9) -> 344
A10: 57499 | B10: ABP Parents | C10: =Sheet1!C65 -> 5173 | D10: =Sheet1!D65 -> 0.088162111 | E10: =Sheet1!E65 -> 20427 | F10: =Sheet1!F65 -> 0.11195208 | G10: =Sheet1!G65 -> 93927 | H10: =Sheet1!H65 -> 0.11008623 | I10: =Sheet1!I65 -> 52938 | J10: =Sheet1!J65 -> 0.11744009 | ... L10: =Sheet1!L65 -> 0.081189354 | Q10: =SUM(C10,E10,G10,I10,K10) -> 178322
A11: 59099 | B11: ABP Other Adults | C11: =Sheet1!C66 -> 19775 | D11: =Sheet1!D66 -> 0.33702025 | E11: =Sheet1!E66 -> 33286 | F11: =Sheet1!F66 -> 0.18242703 | G11: =Sheet1!G66 -> 159594 | H11: =Sheet1!H66 -> 0.1870506 | I11: =Sheet1!I66 -> 74008 | J11: =Sheet1!J66 -> 0.16418275 | ... L11: =Sheet1!L66 -> 0.25372886 | Q11: =SUM(C11,E11,G11,I11,K11) -> 304967
A12: 99399 | B12: FamilyCare Children, Plan D | C12: =Sheet1!C69 -> 1536 | D12: =Sheet1!D69 -> 0.026177654 | E12: =Sheet1!E69 -> 6449 | F12: =Sheet1!F69 -> 0.035344346 | G12: =Sheet1!G69 -> 30266 | H12: =Sheet1!H69 -> 0.035472971 | I12: =Sheet1!I69 -> 17608 | J12: =Sheet1!J69 -> 0.039062396 | ... L12: =Sheet1!L69 -> 0.013986693 | Q12: =SUM(C12,E12,G12,I12,K12) -> 56868
A13: 77399 | B13: ABD with Medicare & DDD, Plan A | C13: =Sheet1!C72 -> 227 | D13: =Sheet1!D72 -> 0.0038687027 | E13: =Sheet1!E72 -> 1394 | F13: =Sheet1!F72 -> 0.0076399469 | G13: =Sheet1!G72 -> 6491 | H13: =Sheet1!H72 -> 0.0076077134 | I13: =Sheet1!I72 -> 3749 | J13: =Sheet1!J72 -> 0.0083169538 | ... L13: =Sheet1!L72 -> 0.0086914333 | Q13: =SUM(C13,E13,G13,I13,K13) -> 12488
A14: 79599 | B14: ABD with Medicare, non-DDD, Plan A | C14: =Sheet1!C75 -> 2997 | D14: =Sheet1!D75 -> 0.051077101 | E14: =Sheet1!E75 -> 8918 | F14: =Sheet1!F75 -> 0.04887593 | G14: =Sheet1!G75 -> 44473 | H14: =Sheet1!H75 -> 0.052124147 | I14: =Sheet1!I75 -> 21173 | J14: =Sheet1!J75 -> 0.046971156 | ... L14: =Sheet1!L75 -> 0.083448849 | Q14: =SUM(C14,E14,G14,I14,K14) -> 83581
A15: 87399 | B15: ABD without Medicare & DDD, Plan A | C15: =Sheet1!C78 -> 354 | D15: =Sheet1!D78 -> 0.0060331311 | E15: =Sheet1!E78 -> 1848 | F15: =Sheet1!F78 -> 0.010128136 | G15: =Sheet1!G78 -> 7499 | H15: =Sheet1!H78 -> 0.00878913 | I15: =Sheet1!I78 -> 4613 | J15: =Sheet1!J78 -> 0.010233691 | ... L15: =Sheet1!L78 -> 0.0078458553 | Q15: =SUM(C15,E15,G15,I15,K15) -> 14880
A16: 89599 | B16: ABD without Medicare, non-DDD, Plan A | C16: =Sheet1!C81 -> 2409 | D16: =Sheet1!D81 -> 0.041055968 | E16: =Sheet1!E81 -> 9880 | F16: =Sheet1!F81 -> 0.054148261 | G16: =Sheet1!G81 -> 50486 | H16: =Sheet1!H81 -> 0.059171625 | I16: =Sheet1!I81 -> 23887 | J16: =Sheet1!J81 -> 0.052992018 | ... L16: =Sheet1!L81 -> 0.059121153 | Q16: =SUM(C16,E16,G16,I16,K16) -> 90927
A17: 89999 | B17: D – SNP | C17: =Sheet1!C84 -> 0 | D17: =Sheet1!D84 -> 0 | E17: =Sheet1!E84 -> 7624 | F17: =Sheet1!F84 -> 0.041784043 | G17: =Sheet1!G84 -> 9527 | H17: =Sheet1!H84 -> 0.011166028 | I17: =Sheet1!I84 -> 20985 | J17: =Sheet1!J84 -> 0.046554088 | ... L17: =Sheet1!L84 -> 0.030718048 | Q17: =SUM(C17,E17,G17,I17,K17) -> 40352
A18: 78199 | B18: Nursing Facility (SPC 61), Dual, Plan M | C18: =Sheet1!C87 -> 1939 | D18: =Sheet1!D87 -> 0.033045879 | E18: =Sheet1!E87 -> 2922 | F18: =Sheet1!F87 -> 0.016014293 | G18: =Sheet1!G87 -> 6221 | H18: =Sheet1!H87 -> 0.0072912626 | I18: =Sheet1!I87 -> 3553 | J18: =Sheet1!J87 -> 0.0078821384 | ... L18: =Sheet1!L87 -> 0.026309953 | Q18: =SUM(C18,E18,G18,I18,K18) -> 16533
A19: 78399 | B19: Skilled Nursing Facility Upper (SPC 63), Dual, Plan M | C19: =Sheet1!C88 -> 10 | D19: =Sheet1!D88 -> 0.00017042743 | E19: =Sheet1!E88 -> 20 | F19: =Sheet1!F88 -> 0.00010961186 | G19: =Sheet1!G88 -> 28 | H19: =Sheet1!H88 -> 3.2817128e-05 | I19: =Sheet1!I88 -> 10 | J19: =Sheet1!J88 -> 2.2184459e-05 | ... L19: =Sheet1!L88 -> 8.3171611e-05 | Q19: =SUM(C19,E19,G19,I19,K19) -> 74
A20: 78499 | B20: Skilled Nursing Facility Lower (SPC 64), Dual, Plan M | C20: =Sheet1!C89 -> 7 | D20: =Sheet1!D89 -> 0.0001192992 | E20: =Sheet1!E89 -> 26 | F20: =Sheet1!F89 -> 0.00014249542 | G20: =Sheet1!G89 -> 59 | H20: =Sheet1!H89 -> 6.9150376e-05 | I20: =Sheet1!I89 -> 15 | J20: =Sheet1!J89 -> 3.3276689e-05 | ... L20: =Sheet1!L89 -> 1.3861935e-05 | Q20: =SUM(C20,E20,G20,I20,K20) -> 108
A21: 79399 | B21: Community and Assisted Living (SPC 60, 62), Dual, Plan M | C21: =Sheet1!C90 -> 1020 | D21: =Sheet1!D90 -> 0.017383598 | E21: =Sheet1!E90 -> 3369 | F21: =Sheet1!F90 -> 0.018464119 | G21: =Sheet1!G90 -> 10284 | H21: =Sheet1!H90 -> 0.012053262 | I21: =Sheet1!I90 -> 4617 | J21: =Sheet1!J90 -> 0.010242565 | ... L21: =Sheet1!L90 -> 0.084738009 | Q21: =SUM(C21,E21,G21,I21,K21) -> 25403
A22: 88199 | B22: Nursing Facility (SPC 61), Non-Dual, Plan M | C22: =Sheet1!C91 -> 156 | D22: =Sheet1!D91 -> 0.0026586679 | E22: =Sheet1!E91 -> 272 | F22: =Sheet1!F91 -> 0.0014907214 | G22: =Sheet1!G91 -> 1002 | H22: =Sheet1!H91 -> 0.0011743844 | I22: =Sheet1!I91 -> 387 | J22: =Sheet1!J91 -> 0.00085853858 | ... L22: =Sheet1!L91 -> 0.0023981148 | Q22: =SUM(C22,E22,G22,I22,K22) -> 1990
A23: 88399 | B23: Skilled Nursing Facility Upper (SPC 63), Non-Dual, Plan M | C23: =Sheet1!C92 -> 1 | D23: =Sheet1!D92 -> 1.7042743e-05 | E23: =Sheet1!E92 -> 21 | F23: =Sheet1!F92 -> 0.00011509246 | G23: =Sheet1!G92 -> 67 | H23: =Sheet1!H92 -> 7.8526698e-05 | I23: =Sheet1!I92 -> 37 | J23: =Sheet1!J92 -> 8.20825e-05 | ... L23: =Sheet1!L92 -> 0 | Q23: =SUM(C23,E23,G23,I23,K23) -> 126
A24: 88499 | B24: Skilled Nursing Facility Lower (SPC 64), Non-Dual, Plan M | C24: =Sheet1!C93 -> 1 | D24: =Sheet1!D93 -> 1.7042743e-05 | E24: =Sheet1!E93 -> 13 | F24: =Sheet1!F93 -> 7.1247712e-05 | G24: =Sheet1!G93 -> 35 | H24: =Sheet1!H93 -> 4.102141e-05 | I24: =Sheet1!I93 -> 9 | J24: =Sheet1!J93 -> 1.9966013e-05 | ... L24: =Sheet1!L93 -> 0 | Q24: =SUM(C24,E24,G24,I24,K24) -> 58
A25: 89399 | B25: Community and Assisted Living (SPC 60, 62), Non-Dual, Plan M | C25: =Sheet1!C94 -> 148 | D25: =Sheet1!D94 -> 0.002522326 | E25: =Sheet1!E94 -> 506 | F25: =Sheet1!F94 -> 0.0027731802 | G25: =Sheet1!G94 -> 2061 | H25: =Sheet1!H94 -> 0.002415575 | I25: =Sheet1!I94 -> 647 | J25: =Sheet1!J94 -> 0.0014353345 | ... L25: =Sheet1!L94 -> 0.013335182 | Q25: =SUM(C25,E25,G25,I25,K25) -> 4324
A26: Error | B26: Cap Code Error | C26: =Sheet1!C159 -> 2 | D26: =C26/C27 -> 3.4085486e-05 | E26: =Sheet1!C160 -> 1 | F26: =E26/E27 -> 5.4805932e-06 | G26: =Sheet1!C161 -> 3 | H26: =G26/G27 -> 3.5161208e-06 | I26: =Sheet1!C162 -> 2 | J26: =I26/I27 -> 4.4368919e-06 | K26: =Sheet1!C163 -> 1 | L26: =K26/K27 -> 1.3861935e-05 | Q26: =SUM(C26,E26,G26,I26,K26) -> 9
B27: Total | C27: =Sheet1!B97 -> 58676 | E27: =Sheet1!C97 -> 182462 | G27: =Sheet1!D97 -> 853213 | I27: =Sheet1!E97 -> 450766 | K27: =Sheet1!F97 -> 72140 | M27: =Sheet1!G97 -> 1133 | O27: =Sheet1!H97 -> 88723 | Q27: =SUM(C27:P27) -> 1707113
A28: Produced by the New Jersey Department of Human Services, Division of Medical Assistance and Health Services, Office of Business Intelligence

Sheet Counties
A1: =Sheet1!A5&" NJ Family Care Managed Care Report - Summary by County of Residence" -> May 2019 NJ Family Care Managed Care Report - Summary by County of Residence
A2: County | B2: Aetna | D2: Amerigroup | F2: Horizon | H2: United | J2: WellCare | L2: All Plans | M2: Pace | N2: FFS | O2: Total
B3: Members | C3: % All Plans | D3: Members | E3: % All Plans | F3: Members | G3: % All Plans | H3: Members | I3: % All Plans | J3: Members | K3: % All Plans | L3: Members | M3: Members | N3: Members | O3: Members
A4: ATLANTIC | B4: =Sheet1!B115 -> 1162 | C4: =B4/$L4 -> 0.018408796 | D4: =Sheet1!C115 -> 4778 | E4: =D4/$L4 -> 0.075694686 | F4: =Sheet1!D115 -> 44978 | G4: =F4/$L4 -> 0.71255664 | H4: =Sheet1!E115 -> 11711 | I4: =H4/$L4 -> 0.18552961 | J4: =Sheet1!F115 -> 493 | K4: =J4/$L4 -> 0.0078102722 | L4: =B4+D4+F4+H4+J4 -> 63122 | M4: =Sheet1!G115 -> 85 | N4: =Sheet1!H115 -> 4461 | O4: =L4+M4+N4 -> 67668
A5: BERGEN | B5: =Sheet1!B127 -> 4321 | C5: =B5/$L5 -> 0.040538892 | D5: =Sheet1!C127 -> 19864 | E5: =D5/$L5 -> 0.18636069 | F5: =Sheet1!D127 -> 48896 | G5: =F5/$L5 -> 0.45873402 | H5: =Sheet1!E127 -> 23109 | I5: =H5/$L5 -> 0.21680474 | J5: =Sheet1!F127 -> 10399 | K5: =J5/$L5 -> 0.097561662 | L5: =B5+D5+F5+H5+J5 -> 106589 | M5: =Sheet1!G127 -> 0 | N5: =Sheet1!H127 -> 6279 | O5: =L5+M5+N5 -> 112868
A6: BURLINGTON | B6: =Sheet1!B118 -> 3042 | C6: =B6/$L6 -> 0.054756548 | D6: =Sheet1!C118 -> 5507 | E6: =D6/$L6 -> 0.099126991 | F6: =Sheet1!D118 -> 31111 | G6: =F6/$L6 -> 0.5600036 | H6: =Sheet1!E118 -> 15290 | I6: =H6/$L6 -> 0.27522275 | J6: =Sheet1!F118 -> 605 | K6: =J6/$L6 -> 0.010890109 | L6: =B6+D6+F6+H6+J6 -> 55555 | M6: =Sheet1!G118 -> 22 | N6: =Sheet1!H118 -> 4350 | O6: =L6+M6+N6 -> 59927
A7: CAMDEN | B7: =Sheet1!B121 -> 6470 | C7: =B7/$L7 -> 0.047301891 | D7: =Sheet1!C121 -> 14857 | E7: =D7/$L7 -> 0.10861889 | F7: =Sheet1!D121 -> 82485 | G7: =F7/$L7 -> 0.60304428 | H7: =Sheet1!E121 -> 31596 | I7: =H7/$L7 -> 0.230997 | J7: =Sheet1!F121 -> 1373 | K7: =J7/$L7 -> 0.010037944 | L7: =B7+D7+F7+H7+J7 -> 136781 | M7: =Sheet1!G121 -> 208 | N7: =Sheet1!H121 -> 6214 | O7: =L7+M7+N7 -> 143203
A8: CAPE MAY | B8: =Sheet1!B117 -> 373 | C8: =B8/$L8 -> 0.021929567 | D8: =Sheet1!C117 -> 1213 | E8: =D8/$L8 -> 0.071315186 | F8: =Sheet1!D117 -> 13058 | G8: =F8/$L8 -> 0.76771121 | H8: =Sheet1!E117 -> 2193 | I8: =H8/$L8 -> 0.12893174 | J8: =Sheet1!F117 -> 172 | K8: =J8/$L8 -> 0.010112293 | L8: =B8+D8+F8+H8+J8 -> 17009 | M8: =Sheet1!G117 -> 0 | N8: =Sheet1!H117 -> 1637 | O8: =L8+M8+N8 -> 18646
A9: CUMBERLAND | B9: =Sheet1!B110 -> 942 | C9: =B9/$L9 -> 0.021877976 | D9: =Sheet1!C110 -> 1438 | E9: =D9/$L9 -> 0.033397589 | F9: =Sheet1!D110 -> 35940 | G9: =F9/$L9 -> 0.83470748 | H9: =Sheet1!E110 -> 4256 | I9: =H9/$L9 -> 0.098845716 | J9: =Sheet1!F110 -> 481 | K9: =J9/$L9 -> 0.011171238 | L9: =B9+D9+F9+H9+J9 -> 43057 | M9: =Sheet1!G110 -> 257 | N9: =Sheet1!H110 -> 3258 | O9: =L9+M9+N9 -> 46572
A10: ESSEX | B10: =Sheet1!B128 -> 8601 | C10: =B10/$L10 -> 0.039464809 | D10: =Sheet1!C128 -> 19695 | E10: =D10/$L10 -> 0.090368494 | F10: =Sheet1!D128 -> 97863 | G10: =F10/$L10 -> 0.44903437 | H10: =Sheet1!E128 -> 81414 | I10: =H10/$L10 -> 0.37355982 | J10: =Sheet1!F128 -> 10368 | K10: =J10/$L10 -> 0.047572508 | L10: =B10+D10+F10+H10+J10 -> 217941 | M10: =Sheet1!G128 -> 1 | N10: =Sheet1!H128 -> 10243 | O10: =L10+M10+N10 -> 228185
A11: GLOUCESTER | B11: =Sheet1!B113 -> 1665 | C11: =B11/$L11 -> 0.038672365 | D11: =Sheet1!C113 -> 5081 | E11: =D11/$L11 -> 0.11801459 | F11: =Sheet1!D113 -> 23428 | G11: =F11/$L11 -> 0.54415385 | H11: =Sheet1!E113 -> 12397 | I11: =H11/$L11 -> 0.28794073 | J11: =Sheet1!F113 -> 483 | K11: =J11/$L11 -> 0.01121847 | L11: =B11+D11+F11+H11+J11 -> 43054 | M11: =Sheet1!G113 -> 8 | N11: =Sheet1!H113 -> 2267 | O11: =L11+M11+N11 -> 45329
A12: HUDSON | B12: =Sheet1!B122 -> 4637 | C12: =B12/$L12 -> 0.028305976 | D12: =Sheet1!C122 -> 16141 | E12: =D12/$L12 -> 0.098530678 | F12: =Sheet1!D122 -> 84611 | G12: =F12/$L12 -> 0.51649707 | H12: =Sheet1!E122 -> 45748 | I12: =H12/$L12 -> 0.27926284 | J12: =Sheet1!F122 -> 12680 | K12: =J12/$L12 -> 0.077403444 | L12: =B12+D12+F12+H12+J12 -> 163817 | M12: =Sheet1!G122 -> 119 | N12: =Sheet1!H122 -> 7455 | O12: =L12+M12+N12 -> 171391
A13: HUNTERDON | B13: =Sheet1!B130 -> 290 | C13: =B13/$L13 -> 0.034001641 | D13: =Sheet1!C130 -> 410 | E13: =D13/$L13 -> 0.048071286 | F13: =Sheet1!D130 -> 6032 | G13: =F13/$L13 -> 0.70723414 | H13: =Sheet1!E130 -> 1782 | I13: =H13/$L13 -> 0.20893422 | J13: =Sheet1!F130 -> 15 | K13: =J13/$L13 -> 0.0017587056 | L13: =B13+D13+F13+H13+J13 -> 8529 | M13: =Sheet1!G130 -> 0 | N13: =Sheet1!H130 -> 902 | O13: =L13+M13+N13 -> 9431
A14: MERCER | B14: =Sheet1!B114 -> 2465 | C14: =B14/$L14 -> 0.037487644 | D14: =Sheet1!C114 -> 3620 | E14: =D14/$L14 -> 0.055052848 | F14: =Sheet1!D114 -> 48984 | G14: =F14/$L14 -> 0.74494715 | H14: =Sheet1!E114 -> 8271 | I14: =H14/$L14 -> 0.12578511 | J14: =Sheet1!F114 -> 2415 | K14: =J14/$L14 -> 0.036727245 | L14: =B14+D14+F14+H14+J14 -> 65755 | M14: =Sheet1!G114 -> 306 | N14: =Sheet1!H114 -> 4471 | O14: =L14+M14+N14 -> 70532
A15: MIDDLESEX | B15: =Sheet1!B126 -> 4781 | C15: =B15/$L15 -> 0.038249836 | D15: =Sheet1!C126 -> 11379 | E15: =D15/$L15 -> 0.09103637 | F15: =Sheet1!D126 -> 67945 | G15: =F15/$L15 -> 0.54358609 | H15: =Sheet1!E126 -> 34990 | I15: =H15/$L15 -> 0.27993344 | J15: =Sheet1!F126 -> 5899 | K15: =J15/$L15 -> 0.047194265 | L15: =B15+D15+F15+H15+J15 -> 124994 | M15: =Sheet1!G126 -> 6 | N15: =Sheet1!H126 -> 7133 | O15: =L15+M15+N15 -> 132133
A16: MONMOUTH | B16: =Sheet1!B124 -> 1869 | C16: =B16/$L16 -> 0.024974945 | D16: =Sheet1!C124 -> 7080 | E16: =D16/$L16 -> 0.094608138 | F16: =Sheet1!D124 -> 41996 | G16: =F16/$L16 -> 0.56118127 | H16: =Sheet1!E124 -> 22680 | I16: =H16/$L16 -> 0.30306675 | J16: =Sheet1!F124 -> 1210 | K16: =J16/$L16 -> 0.016168905 | L16: =B16+D16+F16+H16+J16 -> 74835 | M16: =Sheet1!G124 -> 119 | N16: =Sheet1!H124 -> 4332 | O16: =L16+M16+N16 -> 79286
A17: MORRIS | B17: =Sheet1!B120 -> 1259 | C17: =B17/$L17 -> 0.032028289 | D17: =Sheet1!C120 -> 3003 | E17: =D17/$L17 -> 0.076394719 | F17: =Sheet1!D120 -> 17526 | G17: =F17/$L17 -> 0.44585209 | H17: =Sheet1!E120 -> 15640 | I17: =H17/$L17 -> 0.39787326 | J17: =Sheet1!F120 -> 1881 | K17: =J17/$L17 -> 0.047851637 | L17: =B17+D17+F17+H17+J17 -> 39309 | M17: =Sheet1!G120 -> 0 | N17: =Sheet1!H120 -> 3172 | O17: =L17+M17+N17 -> 42481
A18: OCEAN | B18: =Sheet1!B111 -> 3499 | C18: =B18/$L18 -> 0.026618689 | D18: =Sheet1!C111 -> 17113 | E18: =D18/$L18 -> 0.13018737 | F18: =Sheet1!D111 -> 49805 | G18: =F18/$L18 -> 0.37889219 | H18: =Sheet1!E111 -> 60159 | I18: =H18/$L18 -> 0.45766039 | J18: =Sheet1!F111 -> 873 | K18: =J18/$L18 -> 0.006641359 | L18: =B18+D18+F18+H18+J18 -> 131449 | M18: =Sheet1!G111 -> 0 | N18: =Sheet1!H111 -> 5181 | O18: =L18+M18+N18 -> 136630
A19: PASSAIC | B19: =Sheet1!B119 -> 6362 | C19: =B19/$L19 -> 0.043301004 | D19: =Sheet1!C119 -> 35864 | E19: =D19/$L19 -> 0.24409733 | F19: =Sheet1!D119 -> 68408 | G19: =F19/$L19 -> 0.46559809 | H19: =Sheet1!E119 -> 22783 | I19: =H19/$L19 -> 0.15506551 | J19: =Sheet1!F119 -> 13508 | K19: =J19/$L19 -> 0.091938064 | L19: =B19+D19+F19+H19+J19 -> 146925 | M19: =Sheet1!G119 -> 0 | N19: =Sheet1!H119 -> 5754 | O19: =L19+M19+N19 -> 152679
A20: SALEM | B20: =Sheet1!B123 -> 471 | C20: =B20/$L20 -> 0.034584037 | D20: =Sheet1!C123 -> 246 | E20: =D20/$L20 -> 0.018063 | F20: =Sheet1!D123 -> 9924 | G20: =F20/$L20 -> 0.72868786 | H20: =Sheet1!E123 -> 2687 | I20: =H20/$L20 -> 0.19729789 | J20: =Sheet1!F123 -> 291 | K20: =J20/$L20 -> 0.021367208 | L20: =B20+D20+F20+H20+J20 -> 13619 | M20: =Sheet1!G123 -> 2 | N20: =Sheet1!H123 -> 883 | O20: =L20+M20+N20 -> 14504
A21: SOMERSET | B21: =Sheet1!B112 -> 1495 | C21: =B21/$L21 -> 0.049410054 | D21: =Sheet1!C112 -> 3975 | E21: =D21/$L21 -> 0.13137456 | F21: =Sheet1!D112 -> 16057 | G21: =F21/$L21 -> 0.53068711 | H21: =Sheet1!E112 -> 6931 | I21: =H21/$L21 -> 0.22907096 | J21: =Sheet1!F112 -> 1799 | K21: =J21/$L21 -> 0.059457316 | L21: =B21+D21+F21+H21+J21 -> 30257 | M21: =Sheet1!G112 -> 0 | N21: =Sheet1!H112 -> 2116 | O21: =L21+M21+N21 -> 32373
A22: SUSSEX | B22: =Sheet1!B129 -> 459 | C22: =B22/$L22 -> 0.033510988 | D22: =Sheet1!C129 -> 1140 | E22: =D22/$L22 -> 0.083229904 | F22: =Sheet1!D129 -> 7558 | G22: =F22/$L22 -> 0.55179966 | H22: =Sheet1!E129 -> 3983 | I22: =H22/$L22 -> 0.2907936 | J22: =Sheet1!F129 -> 557 | K22: =J22/$L22 -> 0.040665839 | L22: =B22+D22+F22+H22+J22 -> 13697 | M22: =Sheet1!G129 -> 0 | N22: =Sheet1!H129 -> 1103 | O22: =L22+M22+N22 -> 14800
A23: UNION | B23: =Sheet1!B125 -> 4272 | C23: =B23/$L23 -> 0.040257452 | D23: =Sheet1!C125 -> 9369 | E23: =D23/$L23 -> 0.088289341 | F23: =Sheet1!D125 -> 46160 | G23: =F23/$L23 -> 0.43499157 | H23: =Sheet1!E125 -> 39842 | I23: =H23/$L23 -> 0.37545351 | J23: =Sheet1!F125 -> 6474 | K23: =J23/$L23 -> 0.061008133 | L23: =B23+D23+F23+H23+J23 -> 106117 | M23: =Sheet1!G125 -> 0 | N23: =Sheet1!H125 -> 5261 | O23: =L23+M23+N23 -> 111378
A24: WARREN | B24: =Sheet1!B116 -> 241 | C24: =B24/$L24 -> 0.016237704 | D24: =Sheet1!C116 -> 689 | E24: =D24/$L24 -> 0.046422315 | F24: =Sheet1!D116 -> 10445 | G24: =F24/$L24 -> 0.70374613 | H24: =Sheet1!E116 -> 3303 | I24: =H24/$L24 -> 0.22254413 | J24: =Sheet1!F116 -> 164 | K24: =J24/$L24 -> 0.011049724 | L24: =B24+D24+F24+H24+J24 -> 14842 | M24: =Sheet1!G116 -> 0 | N24: =Sheet1!H116 -> 804 | O24: =L24+M24+N24 -> 15646
A25: OTHER | B25: =Sheet1!B131 -> 0 | C25: =B25/$L25 -> 0 | D25: =Sheet1!C131 -> 0 | E25: =D25/$L25 -> 0 | F25: =Sheet1!D131 -> 3 | G25: =F25/$L25 -> 0.75 | H25: =Sheet1!E131 -> 1 | I25: =H25/$L25 -> 0.25 | J25: =Sheet1!F131 -> 0 | K25: =J25/$L25 -> 0 | L25: =B25+D25+F25+H25+J25 -> 4 | M25: =Sheet1!G131 -> 0 | N25: =Sheet1!H131 -> 1447 | O25: =L25+M25+N25 -> 1451
A26: Total | B26: =Sheet1!B132 -> 58676 | C26: =B26/$L26 -> 0.036281185 | D26: =Sheet1!C132 -> 182462 | E26: =D26/$L26 -> 0.1128219 | F26: =Sheet1!D132 -> 853213 | G26: =F26/$L26 -> 0.52756797 | H26: ='Spreadsheet Table'!E25 -> 450766 | I26: =H26/$L26 -> 0.27872255 | J26: =Sheet1!F132 -> 72140 | K26: =J26/$L26 -> 0.044606392 | L26: =B26+D26+F26+H26+J26 -> 1617257 | M26: =Sheet1!G132 -> 1133 | N26: ='Spreadsheet Table'!I25 -> 88723 | O26: =L26+M26+N26 -> 1707113
A27: Produced by the New Jersey Department of Human Services, Division of Medical Assistance and Health Services, Office of Business Intelligence

Sheet Waiver
A1: =Sheet1!A5&" NJ Family Care Managed Care Report - Summary by Waiver Program" -> May 2019 NJ Family Care Managed Care Report - Summary by Waiver Program
B2: Waiver Program Description | C2: Aetna | D2: Amerigroup | E2: Horizon | F2: United | G2: WellCare | H2: Pace | I2: FFS | J2: Total
A3: 07 | B3: DDD COMMUNITY CARE WAIVER | C3: =Sheet1!C145 -> 108 | D3: =Sheet1!D145 -> 1149 | E3: =Sheet1!E145 -> 5553 | F3: =Sheet1!F145 -> 3907 | G3: =Sheet1!G145 -> 510 | H3: =Sheet1!H145 -> 0 | I3: =Sheet1!I145 -> 224 | J3: =Sheet1!J145 -> 11451
A4: 60 | B4: MLTSS - HOME AND COMMUNITY-BASED SERVICES | C4: =Sheet1!C146 -> 989 | D4: =Sheet1!D146 -> 3393 | E4: =Sheet1!E146 -> 11018 | F4: =Sheet1!F146 -> 4413 | G4: =Sheet1!G146 -> 6889 | H4: =Sheet1!H146 -> 19 | I4: =Sheet1!I146 -> 229 | J4: =Sheet1!J146 -> 26950
A5: 61 | B5: MLTSS - NURSING FACILITY | C5: =Sheet1!C147 -> 2097 | D5: =Sheet1!D147 -> 3190 | E5: =Sheet1!E147 -> 7227 | F5: =Sheet1!F147 -> 3947 | G5: =Sheet1!G147 -> 2070 | H5: =Sheet1!H147 -> 0 | I5: =Sheet1!I147 -> 391 | J5: =Sheet1!J147 -> 18922
A6: 62 | B6: MLTSS - ASSISTED LIVING | C6: =Sheet1!C148 -> 179 | D6: =Sheet1!D148 -> 486 | E6: =Sheet1!E148 -> 1341 | F6: =Sheet1!F148 -> 851 | G6: =Sheet1!G148 -> 184 | H6: =Sheet1!H148 -> 0 | I6: =Sheet1!I148 -> 22 | J6: =Sheet1!J148 -> 3063
A7: 63 | B7: MLTSS - SKILLED NURSING FACILITY UPPER (PEDIATRIC AND VENT) | C7: =Sheet1!C149 -> 10 | D7: =Sheet1!D149 -> 39 | E7: =Sheet1!E149 -> 95 | F7: =Sheet1!F149 -> 45 | G7: =Sheet1!G149 -> 6 | H7: =Sheet1!H149 -> 0 | I7: =Sheet1!I149 -> 1 | J7: =Sheet1!J149 -> 196
A8: 64 | B8: MLTSS - SKILLED NURSING FACILITY LOWER (OTHER) | C8: =Sheet1!C150 -> 8 | D8: =Sheet1!D150 -> 39 | E8: =Sheet1!E150 -> 95 | F8: =Sheet1!F150 -> 23 | G8: =Sheet1!G150 -> 1 | H8: =Sheet1!H150 -> 0 | I8: =Sheet1!I150 -> 0 | J8: =Sheet1!J150 -> 166
A9: 65 | B9: MANAGED CARE EXEMPTION: NF MEMBERS | C9: =Sheet1!C151 -> 0 | D9: =Sheet1!D151 -> 0 | E9: =Sheet1!E151 -> 4 | F9: =Sheet1!F151 -> 0 | G9: =Sheet1!G151 -> 0 | H9: =Sheet1!H151 -> 0 | I9: =Sheet1!I151 -> 5727 | J9: =Sheet1!J151 -> 5731
A10: 66 | B10: MANAGED CARE EXEMPTION: SNF UPPER MEMBERS | C10: =Sheet1!C152 -> 0 | D10: =Sheet1!D152 -> 1 | E10: =Sheet1!E152 -> 0 | F10: =Sheet1!F152 -> 1 | G10: =Sheet1!G152 -> 1 | H10: =Sheet1!H152 -> 0 | I10: =Sheet1!I152 -> 128 | J10: =Sheet1!J152 -> 131
A11: 67 | B11: MANAGED CARE EXEMPTION: SNF LOWER MEMBERS | C11: =Sheet1!C153 -> 0 | D11: =Sheet1!D153 -> 0 | E11: =Sheet1!E153 -> 0 | F11: =Sheet1!F153 -> 0 | G11: =Sheet1!G153 -> 0 | H11: =Sheet1!H153 -> 0 | I11: =Sheet1!I153 -> 69 | J11: =Sheet1!J153 -> 69
B12: Total | C12: =Sheet1!C154 -> 3391 | D12: =Sheet1!D154 -> 8297 | E12: =Sheet1!E154 -> 25333 | F12: =Sheet1!F154 -> 13187 | G12: =Sheet1!G154 -> 9661 | H12: =Sheet1!H154 -> 19 | I12: =Sheet1!I154 -> 6791 | J12: =Sheet1!J154 -> 66679
A13: Produced by the New Jersey Department of Human Services, Division of Medical Assistance and Health Services, Office of Business Intelligence
