Workbook

Sheet SUMMARY
A1: JAN. 2020 | B1: Regular Mail | C1: Brown Mail | D1: Certified Mail | E1: TOTAL MAIL | G1: MPS Processed | H1: GRAND TOTAL | K1: Revenue
A2: 8 | E2: =SUM(B2:D2) -> 0 | H2: =SUM('1-2-2020:1-31-2020'!H2) -> 78326 | K2: =SUM(0.15*H2) -> 11748.9
A3: 10 | E3: =SUM(B3:D3) -> 0 | H3: =SUM('1-2-2020:1-31-2020'!F7) -> 0 | K3: =SUM(0.15*H3) -> 0
A4: 11 | E4: =SUM(B4:D4) -> 0 | H4: =SUM('1-2-2020:1-31-2020'!F8) -> 0 | K4: =SUM(0.15*H4) -> 0
A5: 46 | E5: =SUM(B5:D5) -> 0 | H5: =SUM('1-2-2020:1-31-2020'!F9) -> 0 | K5: =SUM(0.64*H5) -> 0
A6: 59 | E6: =SUM(B6:D6) -> 0 | H6: =SUM('1-2-2020:1-31-2020'!F10) -> 0 | K6: =SUM(0.37*H6) -> 0
A7: 111 | E7: =SUM(B7:D7) -> 0 | H7: =SUM('1-2-2020:1-31-2020'!F11) -> 0 | K7: =SUM(0.63*H7) -> 0
A8: 140 | E8: =SUM(B8:D8) -> 0 | H8: =SUM('1-2-2020:1-31-2020'!F12) -> 0 | K8: =SUM(0.15*H8) -> 0
A9: 188 | E9: =SUM(B9:D9) -> 0 | H9: =SUM('1-2-2020:1-31-2020'!F13) -> 0 | K9: =SUM(0.63*H9) -> 0
A10: 191 | E10: =SUM(B10:D10) -> 0 | H10: =SUM('1-2-2020:1-31-2020'!F14) -> 0 | K10: =SUM(0.64*H10) -> 0
A11: 192 | E11: =SUM(B11:D11) -> 0 | H11: =SUM('1-2-2020:1-31-2020'!F15) -> 0 | K11: =SUM(0.64*H11) -> 0
A12: 193 | E12: =SUM(B12:D12) -> 0 | H12: =SUM('1-2-2020:1-31-2020'!F16) -> 0 | K12: =SUM(0.37*H12) -> 0
A13: 194 | E13: =SUM(B13:D13) -> 0 | H13: =SUM('1-2-2020:1-31-2020'!F17) -> 0 | K13: =SUM(0.6*H13) -> 0
A14: 197 | E14: =SUM(B14:D14) -> 0 | H14: =SUM('1-2-2020:1-31-2020'!F18) -> 0 | K14: =SUM(0.64*H14) -> 0
A15: 199 | E15: =SUM(B15:D15) -> 0 | H15: =SUM('1-2-2020:1-31-2020'!F19) -> 0 | K15: =SUM(0.64*H15) -> 0
A16: 222 | E16: =SUM(B16:D16) -> 0 | H16: =SUM('1-2-2020:1-31-2020'!F20) -> 0 | K16: =SUM(0.37*H16) -> 0
A17: 241 | E17: =SUM(B17:D17) -> 0 | H17: =SUM('1-2-2020:1-31-2020'!F21) -> 0 | K17: =SUM(0.37*H17) -> 0
A18: 242 | E18: =SUM(B18:D18) -> 0 | H18: =SUM('1-2-2020:1-31-2020'!F22) -> 0 | K18: =SUM(0.37*H18) -> 0
A19: 244 | E19: =SUM(B19:D19) -> 0 | H19: =SUM('1-2-2020:1-31-2020'!F23) -> 0 | K19: =SUM(0.15*H19) -> 0
A20: 248 | E20: =SUM(B20:D20) -> 0 | H20: =SUM('1-2-2020:1-31-2020'!F24) -> 0 | K20: =SUM(0.37*H20) -> 0
A21: 252 | E21: =SUM(B21:D21) -> 0 | H21: =SUM('1-2-2020:1-31-2020'!F25) -> 0 | K21: =SUM(0.37*H21) -> 0
A22: 255 | E22: =SUM(B22:D22) -> 0 | H22: =SUM('1-2-2020:1-31-2020'!F26) -> 0 | K22: =SUM(0.64*H22) -> 0
A23: 257 | E23: =SUM(B23:D23) -> 0 | H23: =SUM('1-2-2020:1-31-2020'!F27) -> 0 | K23: =SUM(0.37*H23) -> 0
A24: 260 | E24: =SUM(B24:D24) -> 0 | H24: =SUM('1-2-2020:1-31-2020'!F28) -> 0 | K24: =SUM(0.64*H24) -> 0
A25: 265 | E25: =SUM(B25:D25) -> 0 | H25: =SUM('1-2-2020:1-31-2020'!F29) -> 0 | K25: =SUM(0.64*H25) -> 0
A26: 268 | E26: =SUM(B26:D26) -> 0 | H26: =SUM('1-2-2020:1-31-2020'!F30) -> 0 | K26: =SUM(0.64*H26) -> 0
A27: 270 | E27: =SUM(B27:D27) -> 0 | H27: =SUM('1-2-2020:1-31-2020'!F31) -> 0 | K27: =SUM(0.64*H27) -> 0
A28: 273 | E28: =SUM(B28:D28) -> 0 | H28: =SUM('1-2-2020:1-31-2020'!F32) -> 0 | K28: =SUM(0.64*H28) -> 0
A29: 274 | E29: =SUM(B29:D29) -> 0 | H29: =SUM('1-2-2020:1-31-2020'!F33) -> 0 | K29: =SUM(0.64*H29) -> 0
A30: 280 | E30: =SUM(B30:D30) -> 0 | H30: =SUM('1-2-2020:1-31-2020'!F34) -> 0 | K30: =SUM(0.64*H30) -> 0
A31: 282 | E31: =SUM(B31:D31) -> 0 | H31: =SUM('1-2-2020:1-31-2020'!F35) -> 0 | K31: =SUM(0.37*H31) -> 0
A32: 283 | E32: =SUM(B32:D32) -> 0 | H32: =SUM('1-2-2020:1-31-2020'!F36) -> 0 | K32: =SUM(0.64*H32) -> 0
A33: 333 | E33: =SUM(B33:D33) -> 0 | H33: =SUM('1-2-2020:1-31-2020'!F37) -> 0 | K33: =SUM(0.64*H33) -> 0
A34: 417 | E34: =SUM(B34:D34) -> 0 | H34: =SUM('1-2-2020:1-31-2020'!F38) -> 0 | K34: =SUM(0.37*H34) -> 0
A35: 437 | E35: =SUM(B35:D35) -> 0 | H35: =SUM('1-2-2020:1-31-2020'!F39) -> 0 | K35: =SUM(0.64*H35) -> 0
A36: 438 | E36: =SUM(B36:D36) -> 0 | H36: =SUM('1-2-2020:1-31-2020'!F40) -> 0 | K36: =SUM(0.64*H36) -> 0
A37: 440 | E37: =SUM(B37:D37) -> 0 | H37: =SUM('1-2-2020:1-31-2020'!F41) -> 0 | K37: =SUM(0.64*H37) -> 0
A38: 441 | E38: =SUM(B38:D38) -> 0 | H38: =SUM('1-2-2020:1-31-2020'!F42) -> 0 | K38: =SUM(0.64*H38) -> 0
A39: 448 | E39: =SUM(B39:D39) -> 0 | H39: =SUM('1-2-2020:1-31-2020'!F43) -> 0 | K39: =SUM(0.64*H39) -> 0
A40: 555 | E40: =SUM(B40:D40) -> 0 | H40: =SUM('1-2-2020:1-31-2020'!F44) -> 0 | K40: =SUM(0.63*H40) -> 0
...

Sheet NEW YEAR DAY
A1: JAN. 2020 | B1: Regular Mail | C1: Brown Mail | D1: Certified Mail | E1: TOTAL MAIL | G1: MPS Processed | H1: GRAND TOTAL | K1: Revenue
A2: 8 | E2: =SUM(B2:D2) -> 0 | H2: =SUM(E2+G2) -> 0 | K2: =SUM(0.15*H2) -> 0
A3: 10 | E3: =SUM(B3:D3) -> 0 | H3: =SUM(E3+G3) -> 0 | K3: =SUM(0.15*H3) -> 0
A4: 11 | E4: =SUM(B4:D4) -> 0 | H4: =SUM(E4+G4) -> 0 | K4: =SUM(0.15*H4) -> 0
A5: 46 | E5: =SUM(B5:D5) -> 0 | H5: =SUM(E5+G5) -> 0 | K5: =SUM(0.64*H5) -> 0
A6: 59 | E6: =SUM(B6:D6) -> 0 | H6: =SUM(E6+G6) -> 0 | K6: =SUM(0.37*H6) -> 0
A7: 111 | E7: =SUM(B7:D7) -> 0 | H7: =SUM(E7+G7) -> 0 | K7: =SUM(0.63*H7) -> 0
A8: 140 | E8: =SUM(B8:D8) -> 0 | H8: =SUM(E8+G8) -> 0 | K8: =SUM(0.15*H8) -> 0
A9: 188 | E9: =SUM(B9:D9) -> 0 | H9: =SUM(E9+G9) -> 0 | K9: =SUM(0.63*H9) -> 0
A10: 191 | E10: =SUM(B10:D10) -> 0 | H10: =SUM(E10+G10) -> 0 | K10: =SUM(0.64*H10) -> 0
A11: 192 | E11: =SUM(B11:D11) -> 0 | H11: =SUM(E11+G11) -> 0 | K11: =SUM(0.64*H11) -> 0
A12: 193 | E12: =SUM(B12:D12) -> 0 | H12: =SUM(E12+G12) -> 0 | K12: =SUM(0.37*H12) -> 0
A13: 194 | E13: =SUM(B13:D13) -> 0 | H13: =SUM(E13+G13) -> 0 | K13: =SUM(0.6*H13) -> 0
A14: 197 | E14: =SUM(B14:D14) -> 0 | H14: =SUM(E14+G14) -> 0 | K14: =SUM(0.64*H14) -> 0
A15: 199 | E15: =SUM(B15:D15) -> 0 | H15: =SUM(E15+G15) -> 0 | K15: =SUM(0.64*H15) -> 0
A16: 222 | E16: =SUM(B16:D16) -> 0 | H16: =SUM(E16+G16) -> 0 | K16: =SUM(0.37*H16) -> 0
A17: 241 | E17: =SUM(B17:D17) -> 0 | H17: =SUM(E17+G17) -> 0 | K17: =SUM(0.37*H17) -> 0
A18: 242 | E18: =SUM(B18:D18) -> 0 | H18: =SUM(E18+G18) -> 0 | K18: =SUM(0.37*H18) -> 0
A19: 244 | E19: =SUM(B19:D19) -> 0 | H19: =SUM(E19+G19) -> 0 | K19: =SUM(0.15*H19) -> 0
A20: 248 | E20: =SUM(B20:D20) -> 0 | H20: =SUM(E20+G20) -> 0 | K20: =SUM(0.37*H20) -> 0
A21: 252 | E21: =SUM(B21:D21) -> 0 | H21: =SUM(E21+G21) -> 0 | K21: =SUM(0.37*H21) -> 0
A22: 255 | E22: =SUM(B22:D22) -> 0 | H22: =SUM(E22+G22) -> 0 | K22: =SUM(0.64*H22) -> 0
A23: 257 | E23: =SUM(B23:D23) -> 0 | H23: =SUM(E23+G23) -> 0 | K23: =SUM(0.37*H23) -> 0
A24: 260 | E24: =SUM(B24:D24) -> 0 | H24: =SUM(E24+G24) -> 0 | K24: =SUM(0.64*H24) -> 0
A25: 265 | E25: =SUM(B25:D25) -> 0 | H25: =SUM(E25+G25) -> 0 | K25: =SUM(0.64*H25) -> 0
A26: 268 | E26: =SUM(B26:D26) -> 0 | H26: =SUM(E26+G26) -> 0 | K26: =SUM(0.64*H26) -> 0
A27: 270 | E27: =SUM(B27:D27) -> 0 | H27: =SUM(E27+G27) -> 0 | K27: =SUM(0.64*H27) -> 0
A28: 273 | E28: =SUM(B28:D28) -> 0 | H28: =SUM(E28+G28) -> 0 | K28: =SUM(0.64*H28) -> 0
A29: 274 | E29: =SUM(B29:D29) -> 0 | H29: =SUM(E29+G29) -> 0 | K29: =SUM(0.64*H29) -> 0
A30: 280 | E30: =SUM(B30:D30) -> 0 | H30: =SUM(E30+G30) -> 0 | K30: =SUM(0.64*H30) -> 0
A31: 282 | E31: =SUM(B31:D31) -> 0 | H31: =SUM(E31+G31) -> 0 | K31: =SUM(0.37*H31) -> 0
A32: 283 | E32: =SUM(B32:D32) -> 0 | H32: =SUM(E32+G32) -> 0 | K32: =SUM(0.64*H32) -> 0
A33: 333 | E33: =SUM(B33:D33) -> 0 | H33: =SUM(E33+G33) -> 0 | K33: =SUM(0.64*H33) -> 0
A34: 417 | E34: =SUM(B34:D34) -> 0 | H34: =SUM(E34+G34) -> 0 | K34: =SUM(0.37*H34) -> 0
A35: 437 | E35: =SUM(B35:D35) -> 0 | H35: =SUM(E35+G35) -> 0 | K35: =SUM(0.64*H35) -> 0
A36: 438 | E36: =SUM(B36:D36) -> 0 | H36: =SUM(E36+G36) -> 0 | K36: =SUM(0.64*H36) -> 0
A37: 440 | E37: =SUM(B37:D37) -> 0 | H37: =SUM(E37+G37) -> 0 | K37: =SUM(0.64*H37) -> 0
A38: 441 | E38: =SUM(B38:D38) -> 0 | H38: =SUM(E38+G38) -> 0 | K38: =SUM(0.64*H38) -> 0
A39: 448 | E39: =SUM(B39:D39) -> 0 | H39: =SUM(E39+G39) -> 0 | K39: =SUM(0.64*H39) -> 0
A40: 555 | E40: =SUM(B40:D40) -> 0 | H40: =SUM(E40+G40) -> 0 | K40: =SUM(0.63*H40) -> 0
...

Sheet 1-2-2020
A1: JAN. 2020 | B1: Regular Mail | C1: Brown Mail | D1: Certified Mail | E1: TOTAL MAIL | G1: MPS Processed | H1: GRAND TOTAL | K1: Revenue
A2: 8 | C2: 2 | D2: 5 | E2: =SUM(B2:D2) -> 7 | G2: 5913 | H2: =SUM(E2+G2) -> 5920 | K2: =SUM(0.15*H2) -> 888
A3: 10 | E3: =SUM(B3:D3) -> 0 | G3: 263 | H3: =SUM(E3+G3) -> 263 | K3: =SUM(0.15*H3) -> 39.45
A4: 11 | D4: 3 | E4: =SUM(B4:D4) -> 3 | G4: 952 | H4: =SUM(E4+G4) -> 955 | K4: =SUM(0.15*H4) -> 143.25
A5: 46 | C5: 7 | D5: 33 | E5: =SUM(B5:D5) -> 40 | G5: 576 | H5: =SUM(E5+G5) -> 616 | K5: =SUM(0.64*H5) -> 394.24
A6: 59 | C6: 2 | D6: 6 | E6: =SUM(B6:D6) -> 8 | G6: 197 | H6: =SUM(E6+G6) -> 205 | K6: =SUM(0.37*H6) -> 75.85
A7: 111 | B7: 25 | C7: 7 | D7: 21 | E7: =SUM(B7:D7) -> 53 | H7: =SUM(E7+G7) -> 53 | K7: =SUM(0.63*H7) -> 33.39
A8: 140 | E8: =SUM(B8:D8) -> 0 | G8: 57 | H8: =SUM(E8+G8) -> 57 | K8: =SUM(0.15*H8) -> 8.55
A9: 188 | B9: 2 | E9: =SUM(B9:D9) -> 2 | H9: =SUM(E9+G9) -> 2 | K9: =SUM(0.63*H9) -> 1.26
A10: 191 | E10: =SUM(B10:D10) -> 0 | H10: =SUM(E10+G10) -> 0 | K10: =SUM(0.64*H10) -> 0
A11: 192 | B11: 2 | E11: =SUM(B11:D11) -> 2 | H11: =SUM(E11+G11) -> 2 | K11: =SUM(0.64*H11) -> 1.28
A12: 193 | B12: 20 | D12: 2 | E12: =SUM(B12:D12) -> 22 | H12: =SUM(E12+G12) -> 22 | K12: =SUM(0.37*H12) -> 8.14
A13: 194 | B13: 3 | C13: 2 | D13: 3 | E13: =SUM(B13:D13) -> 8 | H13: =SUM(E13+G13) -> 8 | K13: =SUM(0.6*H13) -> 4.8
A14: 197 | E14: =SUM(B14:D14) -> 0 | H14: =SUM(E14+G14) -> 0 | K14: =SUM(0.64*H14) -> 0
A15: 199 | C15: 1 | D15: 1 | E15: =SUM(B15:D15) -> 2 | H15: =SUM(E15+G15) -> 2 | K15: =SUM(0.64*H15) -> 1.28
A16: 222 | B16: 2168 | C16: 5 | D16: 262 | E16: =SUM(B16:D16) -> 2435 | G16: 514 | H16: =SUM(E16+G16) -> 2949 | K16: =SUM(0.37*H16) -> 1091.13
A17: 241 | E17: =SUM(B17:D17) -> 0 | H17: =SUM(E17+G17) -> 0 | K17: =SUM(0.37*H17) -> 0
A18: 242 | B18: 1 | D18: 1 | E18: =SUM(B18:D18) -> 2 | H18: =SUM(E18+G18) -> 2 | K18: =SUM(0.37*H18) -> 0.74
A19: 244 | B19: 14 | C19: 16 | D19: 9 | E19: =SUM(B19:D19) -> 39 | H19: =SUM(E19+G19) -> 39 | K19: =SUM(0.15*H19) -> 5.85
A20: 248 | B20: 25 | C20: 2 | D20: 2 | E20: =SUM(B20:D20) -> 29 | H20: =SUM(E20+G20) -> 29 | K20: =SUM(0.37*H20) -> 10.73
A21: 252 | B21: 75 | C21: 8 | D21: 29 | E21: =SUM(B21:D21) -> 112 | H21: =SUM(E21+G21) -> 112 | K21: =SUM(0.37*H21) -> 41.44
A22: 255 | C22: 3 | D22: 20 | E22: =SUM(B22:D22) -> 23 | H22: =SUM(E22+G22) -> 23 | K22: =SUM(0.64*H22) -> 14.72
A23: 257 | B23: 125 | C23: 2 | D23: 3 | E23: =SUM(B23:D23) -> 130 | H23: =SUM(E23+G23) -> 130 | K23: =SUM(0.37*H23) -> 48.1
A24: 260 | C24: 1 | D24: 3 | E24: =SUM(B24:D24) -> 4 | H24: =SUM(E24+G24) -> 4 | K24: =SUM(0.64*H24) -> 2.56
A25: 265 | C25: 1 | E25: =SUM(B25:D25) -> 1 | H25: =SUM(E25+G25) -> 1 | K25: =SUM(0.64*H25) -> 0.64
A26: 268 | E26: =SUM(B26:D26) -> 0 | H26: =SUM(E26+G26) -> 0 | K26: =SUM(0.64*H26) -> 0
A27: 270 | E27: =SUM(B27:D27) -> 0 | H27: =SUM(E27+G27) -> 0 | K27: =SUM(0.64*H27) -> 0
A28: 273 | C28: 1 | E28: =SUM(B28:D28) -> 1 | H28: =SUM(E28+G28) -> 1 | K28: =SUM(0.64*H28) -> 0.64
A29: 274 | E29: =SUM(B29:D29) -> 0 | H29: =SUM(E29+G29) -> 0 | K29: =SUM(0.64*H29) -> 0
A30: 280 | C30: 1 | E30: =SUM(B30:D30) -> 1 | H30: =SUM(E30+G30) -> 1 | K30: =SUM(0.64*H30) -> 0.64
A31: 282 | B31: 2 | D31: 2 | E31: =SUM(B31:D31) -> 4 | H31: =SUM(E31+G31) -> 4 | K31: =SUM(0.37*H31) -> 1.48
A32: 283 | B32: 2 | C32: 1 | D32: 10 | E32: =SUM(B32:D32) -> 13 | H32: =SUM(E32+G32) -> 13 | K32: =SUM(0.64*H32) -> 8.32
A33: 333 | B33: 35 | C33: 7 | E33: =SUM(B33:D33) -> 42 | H33: =SUM(E33+G33) -> 42 | K33: =SUM(0.64*H33) -> 26.88
A34: 417 | B34: 111 | C34: 2 | D34: 3 | E34: =SUM(B34:D34) -> 116 | H34: =SUM(E34+G34) -> 116 | K34: =SUM(0.37*H34) -> 42.92
A35: 437 | B35: 2 | D35: 1 | E35: =SUM(B35:D35) -> 3 | H35: =SUM(E35+G35) -> 3 | K35: =SUM(0.64*H35) -> 1.92
A36: 438 | E36: =SUM(B36:D36) -> 0 | H36: =SUM(E36+G36) -> 0 | K36: =SUM(0.64*H36) -> 0
A37: 440 | C37: 3 | D37: 1 | E37: =SUM(B37:D37) -> 4 | H37: =SUM(E37+G37) -> 4 | K37: =SUM(0.64*H37) -> 2.56
A38: 441 | E38: =SUM(B38:D38) -> 0 | H38: =SUM(E38+G38) -> 0 | K38: =SUM(0.64*H38) -> 0
A39: 448 | B39: 3 | C39: 2 | D39: 1 | E39: =SUM(B39:D39) -> 6 | H39: =SUM(E39+G39) -> 6 | K39: =SUM(0.64*H39) -> 3.84
A40: 555 | B40: 94 | C40: 58 | D40: 44 | E40: =SUM(B40:D40) -> 196 | H40: =SUM(E40+G40) -> 196 | K40: =SUM(0.63*H40) -> 123.48
...

Sheet 1-3-2020
A1: JAN. 2020 | B1: Regular Mail | C1: Brown Mail | D1: Certified Mail | E1: TOTAL MAIL | G1: MPS Processed | H1: GRAND TOTAL | K1: Revenue
A2: 8 | D2: 2 | E2: =SUM(B2:D2) -> 2 | G2: 3795 | H2: =SUM(E2+G2) -> 3797 | K2: =SUM(0.15*H2) -> 569.55
A3: 10 | E3: =SUM(B3:D3) -> 0 | G3: 259 | H3: =SUM(E3+G3) -> 259 | K3: =SUM(0.15*H3) -> 38.85
A4: 11 | C4: 1 | D4: 2 | E4: =SUM(B4:D4) -> 3 | G4: 858 | H4: =SUM(E4+G4) -> 861 | K4: =SUM(0.15*H4) -> 129.15
A5: 46 | C5: 4 | D5: 21 | E5: =SUM(B5:D5) -> 25 | G5: 523 | H5: =SUM(E5+G5) -> 548 | K5: =SUM(0.64*H5) -> 350.72
A6: 59 | C6: 1 | D6: 2 | E6: =SUM(B6:D6) -> 3 | G6: 168 | H6: =SUM(E6+G6) -> 171 | K6: =SUM(0.37*H6) -> 63.27
A7: 111 | B7: 64 | C7: 30 | D7: 40 | E7: =SUM(B7:D7) -> 134 | H7: =SUM(E7+G7) -> 134 | K7: =SUM(0.63*H7) -> 84.42
A8: 140 | E8: =SUM(B8:D8) -> 0 | G8: 41 | H8: =SUM(E8+G8) -> 41 | K8: =SUM(0.15*H8) -> 6.15
A9: 188 | B9: 2 | E9: =SUM(B9:D9) -> 2 | H9: =SUM(E9+G9) -> 2 | K9: =SUM(0.63*H9) -> 1.26
A10: 191 | B10: 5 | E10: =SUM(B10:D10) -> 5 | H10: =SUM(E10+G10) -> 5 | K10: =SUM(0.64*H10) -> 3.2
A11: 192 | E11: =SUM(B11:D11) -> 0 | H11: =SUM(E11+G11) -> 0 | K11: =SUM(0.64*H11) -> 0
A12: 193 | B12: 17 | C12: 1 | D12: 6 | E12: =SUM(B12:D12) -> 24 | H12: =SUM(E12+G12) -> 24 | K12: =SUM(0.37*H12) -> 8.88
A13: 194 | B13: 4 | C13: 6 | D13: 5 | E13: =SUM(B13:D13) -> 15 | H13: =SUM(E13+G13) -> 15 | K13: =SUM(0.6*H13) -> 9
A14: 197 | E14: =SUM(B14:D14) -> 0 | H14: =SUM(E14+G14) -> 0 | K14: =SUM(0.64*H14) -> 0
A15: 199 | B15: 41 | D15: 2 | E15: =SUM(B15:D15) -> 43 | H15: =SUM(E15+G15) -> 43 | K15: =SUM(0.64*H15) -> 27.52
A16: 222 | B16: 2003 | C16: 2 | D16: 200 | E16: =SUM(B16:D16) -> 2205 | G16: 647 | H16: =SUM(E16+G16) -> 2852 | K16: =SUM(0.37*H16) -> 1055.24
A17: 241 | B17: 4 | D17: 1 | E17: =SUM(B17:D17) -> 5 | H17: =SUM(E17+G17) -> 5 | K17: =SUM(0.37*H17) -> 1.85
A18: 242 | B18: 2 | D18: 2 | E18: =SUM(B18:D18) -> 4 | H18: =SUM(E18+G18) -> 4 | K18: =SUM(0.37*H18) -> 1.48
A19: 244 | B19: 15 | C19: 9 | D19: 37 | E19: =SUM(B19:D19) -> 61 | H19: =SUM(E19+G19) -> 61 | K19: =SUM(0.15*H19) -> 9.15
A20: 248 | B20: 24 | C20: 2 | D20: 2 | E20: =SUM(B20:D20) -> 28 | H20: =SUM(E20+G20) -> 28 | K20: =SUM(0.37*H20) -> 10.36
A21: 252 | B21: 79 | C21: 3 | D21: 18 | E21: =SUM(B21:D21) -> 100 | H21: =SUM(E21+G21) -> 100 | K21: =SUM(0.37*H21) -> 37
A22: 255 | B22: 54 | D22: 12 | E22: =SUM(B22:D22) -> 66 | H22: =SUM(E22+G22) -> 66 | K22: =SUM(0.64*H22) -> 42.24
A23: 257 | B23: 134 | C23: 1 | D23: 2 | E23: =SUM(B23:D23) -> 137 | H23: =SUM(E23+G23) -> 137 | K23: =SUM(0.37*H23) -> 50.69
A24: 260 | B24: 24 | D24: 3 | E24: =SUM(B24:D24) -> 27 | H24: =SUM(E24+G24) -> 27 | K24: =SUM(0.64*H24) -> 17.28
A25: 265 | B25: 1 | E25: =SUM(B25:D25) -> 1 | H25: =SUM(E25+G25) -> 1 | K25: =SUM(0.64*H25) -> 0.64
A26: 268 | E26: =SUM(B26:D26) -> 0 | H26: =SUM(E26+G26) -> 0 | K26: =SUM(0.64*H26) -> 0
A27: 270 | B27: 1 | C27: 1 | E27: =SUM(B27:D27) -> 2 | H27: =SUM(E27+G27) -> 2 | K27: =SUM(0.64*H27) -> 1.28
A28: 273 | D28: 1 | E28: =SUM(B28:D28) -> 1 | H28: =SUM(E28+G28) -> 1 | K28: =SUM(0.64*H28) -> 0.64
A29: 274 | E29: =SUM(B29:D29) -> 0 | H29: =SUM(E29+G29) -> 0 | K29: =SUM(0.64*H29) -> 0
A30: 280 | B30: 2 | D30: 1 | E30: =SUM(B30:D30) -> 3 | H30: =SUM(E30+G30) -> 3 | K30: =SUM(0.64*H30) -> 1.92
A31: 282 | B31: 3 | D31: 1 | E31: =SUM(B31:D31) -> 4 | H31: =SUM(E31+G31) -> 4 | K31: =SUM(0.37*H31) -> 1.48
A32: 283 | B32: 4 | D32: 7 | E32: =SUM(B32:D32) -> 11 | H32: =SUM(E32+G32) -> 11 | K32: =SUM(0.64*H32) -> 7.04
A33: 333 | B33: 35 | C33: 1 | D33: 2 | E33: =SUM(B33:D33) -> 38 | H33: =SUM(E33+G33) -> 38 | K33: =SUM(0.64*H33) -> 24.32
A34: 417 | B34: 81 | D34: 4 | E34: =SUM(B34:D34) -> 85 | H34: =SUM(E34+G34) -> 85 | K34: =SUM(0.37*H34) -> 31.45
A35: 437 | B35: 3 | C35: 1 | E35: =SUM(B35:D35) -> 4 | H35: =SUM(E35+G35) -> 4 | K35: =SUM(0.64*H35) -> 2.56
A36: 438 | D36: 3 | E36: =SUM(B36:D36) -> 3 | H36: =SUM(E36+G36) -> 3 | K36: =SUM(0.64*H36) -> 1.92
A37: 440 | B37: 36 | D37: 2 | E37: =SUM(B37:D37) -> 38 | H37: =SUM(E37+G37) -> 38 | K37: =SUM(0.64*H37) -> 24.32
A38: 441 | B38: 2 | D38: 5 | E38: =SUM(B38:D38) -> 7 | H38: =SUM(E38+G38) -> 7 | K38: =SUM(0.64*H38) -> 4.48
A39: 448 | B39: 3 | D39: 1 | E39: =SUM(B39:D39) -> 4 | H39: =SUM(E39+G39) -> 4 | K39: =SUM(0.64*H39) -> 2.56
A40: 555 | B40: 168 | C40: 47 | D40: 81 | E40: =SUM(B40:D40) -> 296 | H40: =SUM(E40+G40) -> 296 | K40: =SUM(0.63*H40) -> 186.48
...

Sheet 1-6-2020
A1: JAN. 2020 | B1: Regular Mail | C1: Brown Mail | D1: Certified Mail | E1: TOTAL MAIL | G1: MPS Processed | H1: GRAND TOTAL | K1: Revenue
A2: 8 | D2: 7 | E2: =SUM(B2:D2) -> 7 | H2: =SUM(E2+G2) -> 7 | K2: =SUM(0.15*H2) -> 1.05
A3: 10 | E3: =SUM(B3:D3) -> 0 | G3: 557 | H3: =SUM(E3+G3) -> 557 | K3: =SUM(0.15*H3) -> 83.55
A4: 11 | D4: 5 | E4: =SUM(B4:D4) -> 5 | G4: 2182 | H4: =SUM(E4+G4) -> 2187 | K4: =SUM(0.15*H4) -> 328.05
A5: 46 | C5: 8 | D5: 67 | E5: =SUM(B5:D5) -> 75 | G5: 1262 | H5: =SUM(E5+G5) -> 1337 | K5: =SUM(0.64*H5) -> 855.68
A6: 59 | D6: 2 | E6: =SUM(B6:D6) -> 2 | G6: 362 | H6: =SUM(E6+G6) -> 364 | K6: =SUM(0.37*H6) -> 134.68
A7: 111 | B7: 81 | C7: 42 | D7: 31 | E7: =SUM(B7:D7) -> 154 | H7: =SUM(E7+G7) -> 154 | K7: =SUM(0.63*H7) -> 97.02
A8: 140 | E8: =SUM(B8:D8) -> 0 | G8: 120 | H8: =SUM(E8+G8) -> 120 | K8: =SUM(0.15*H8) -> 18
A9: 188 | B9: 6 | C9: 3 | D9: 3 | E9: =SUM(B9:D9) -> 12 | H9: =SUM(E9+G9) -> 12 | K9: =SUM(0.63*H9) -> 7.56
A10: 191 | E10: =SUM(B10:D10) -> 0 | H10: =SUM(E10+G10) -> 0 | K10: =SUM(0.64*H10) -> 0
A11: 192 | E11: =SUM(B11:D11) -> 0 | H11: =SUM(E11+G11) -> 0 | K11: =SUM(0.64*H11) -> 0
A12: 193 | B12: 33 | D12: 3 | E12: =SUM(B12:D12) -> 36 | H12: =SUM(E12+G12) -> 36 | K12: =SUM(0.37*H12) -> 13.32
A13: 194 | B13: 3 | C13: 7 | D13: 14 | E13: =SUM(B13:D13) -> 24 | H13: =SUM(E13+G13) -> 24 | K13: =SUM(0.6*H13) -> 14.4
A14: 197 | E14: =SUM(B14:D14) -> 0 | H14: =SUM(E14+G14) -> 0 | K14: =SUM(0.64*H14) -> 0
A15: 199 | B15: 61 | E15: =SUM(B15:D15) -> 61 | H15: =SUM(E15+G15) -> 61 | K15: =SUM(0.64*H15) -> 39.04
A16: 222 | B16: 6580 | C16: 8 | D16: 607 | E16: =SUM(B16:D16) -> 7195 | G16: 1893 | H16: =SUM(E16+G16) -> 9088 | K16: =SUM(0.37*H16) -> 3362.56
A17: 241 | B17: 13 | C17: 1 | D17: 3 | E17: =SUM(B17:D17) -> 17 | H17: =SUM(E17+G17) -> 17 | K17: =SUM(0.37*H17) -> 6.29
A18: 242 | B18: 8 | D18: 1 | E18: =SUM(B18:D18) -> 9 | H18: =SUM(E18+G18) -> 9 | K18: =SUM(0.37*H18) -> 3.33
A19: 244 | B19: 38 | C19: 45 | D19: 37 | E19: =SUM(B19:D19) -> 120 | H19: =SUM(E19+G19) -> 120 | K19: =SUM(0.15*H19) -> 18
A20: 248 | B20: 59 | C20: 18 | D20: 5 | E20: =SUM(B20:D20) -> 82 | H20: =SUM(E20+G20) -> 82 | K20: =SUM(0.37*H20) -> 30.34
A21: 252 | B21: 180 | C21: 1 | D21: 53 | E21: =SUM(B21:D21) -> 234 | H21: =SUM(E21+G21) -> 234 | K21: =SUM(0.37*H21) -> 86.58
A22: 255 | D22: 1 | E22: =SUM(B22:D22) -> 1 | H22: =SUM(E22+G22) -> 1 | K22: =SUM(0.64*H22) -> 0.64
A23: 257 | B23: 323 | C23: 2 | D23: 10 | E23: =SUM(B23:D23) -> 335 | H23: =SUM(E23+G23) -> 335 | K23: =SUM(0.37*H23) -> 123.95
A24: 260 | B24: 21 | C24: 2 | D24: 1 | E24: =SUM(B24:D24) -> 24 | H24: =SUM(E24+G24) -> 24 | K24: =SUM(0.64*H24) -> 15.36
A25: 265 | B25: 6 | D25: 1 | E25: =SUM(B25:D25) -> 7 | H25: =SUM(E25+G25) -> 7 | K25: =SUM(0.64*H25) -> 4.48
A26: 268 | B26: 6 | E26: =SUM(B26:D26) -> 6 | H26: =SUM(E26+G26) -> 6 | K26: =SUM(0.64*H26) -> 3.84
A27: 270 | B27: 4 | E27: =SUM(B27:D27) -> 4 | H27: =SUM(E27+G27) -> 4 | K27: =SUM(0.64*H27) -> 2.56
A28: 273 | B28: 1 | E28: =SUM(B28:D28) -> 1 | H28: =SUM(E28+G28) -> 1 | K28: =SUM(0.64*H28) -> 0.64
A29: 274 | B29: 5 | E29: =SUM(B29:D29) -> 5 | H29: =SUM(E29+G29) -> 5 | K29: =SUM(0.64*H29) -> 3.2
A30: 280 | B30: 7 | C30: 1 | E30: =SUM(B30:D30) -> 8 | H30: =SUM(E30+G30) -> 8 | K30: =SUM(0.64*H30) -> 5.12
A31: 282 | B31: 8 | D31: 2 | E31: =SUM(B31:D31) -> 10 | H31: =SUM(E31+G31) -> 10 | K31: =SUM(0.37*H31) -> 3.7
A32: 283 | B32: 8 | D32: 8 | E32: =SUM(B32:D32) -> 16 | H32: =SUM(E32+G32) -> 16 | K32: =SUM(0.64*H32) -> 10.24
A33: 333 | B33: 286 | C33: 39 | D33: 12 | E33: =SUM(B33:D33) -> 337 | H33: =SUM(E33+G33) -> 337 | K33: =SUM(0.64*H33) -> 215.68
A34: 417 | B34: 255 | C34: 2 | D34: 11 | E34: =SUM(B34:D34) -> 268 | H34: =SUM(E34+G34) -> 268 | K34: =SUM(0.37*H34) -> 99.16
A35: 437 | B35: 4 | C35: 1 | E35: =SUM(B35:D35) -> 5 | H35: =SUM(E35+G35) -> 5 | K35: =SUM(0.64*H35) -> 3.2
A36: 438 | B36: 3 | D36: 3 | E36: =SUM(B36:D36) -> 6 | H36: =SUM(E36+G36) -> 6 | K36: =SUM(0.64*H36) -> 3.84
A37: 440 | B37: 34 | D37: 2 | E37: =SUM(B37:D37) -> 36 | H37: =SUM(E37+G37) -> 36 | K37: =SUM(0.64*H37) -> 23.04
A38: 441 | B38: 2 | C38: 1 | D38: 4 | E38: =SUM(B38:D38) -> 7 | H38: =SUM(E38+G38) -> 7 | K38: =SUM(0.64*H38) -> 4.48
A39: 448 | B39: 3 | C39: 2 | D39: 1 | E39: =SUM(B39:D39) -> 6 | H39: =SUM(E39+G39) -> 6 | K39: =SUM(0.64*H39) -> 3.84
A40: 555 | B40: 232 | C40: 84 | D40: 103 | E40: =SUM(B40:D40) -> 419 | H40: =SUM(E40+G40) -> 419 | K40: =SUM(0.63*H40) -> 263.97
...

Sheet 1-7-2020
A1: JAN. 2020 | B1: Regular Mail | C1: Brown Mail | D1: Certified Mail | E1: TOTAL MAIL | G1: MPS Processed | H1: GRAND TOTAL | K1: Revenue
A2: 8 | D2: 4 | E2: =SUM(B2:D2) -> 4 | G2: 1930 | H2: =SUM(E2+G2) -> 1934 | K2: =SUM(0.15*H2) -> 290.1
A3: 10 | E3: =SUM(B3:D3) -> 0 | G3: 60 | H3: =SUM(E3+G3) -> 60 | K3: =SUM(0.15*H3) -> 9
A4: 11 | D4: 2 | E4: =SUM(B4:D4) -> 2 | G4: 226 | H4: =SUM(E4+G4) -> 228 | K4: =SUM(0.15*H4) -> 34.2
A5: 46 | C5: 13 | D5: 28 | E5: =SUM(B5:D5) -> 41 | G5: 208 | H5: =SUM(E5+G5) -> 249 | K5: =SUM(0.64*H5) -> 159.36
A6: 59 | D6: 1 | E6: =SUM(B6:D6) -> 1 | G6: 41 | H6: =SUM(E6+G6) -> 42 | K6: =SUM(0.37*H6) -> 15.54
A7: 111 | B7: 17 | C7: 15 | D7: 12 | E7: =SUM(B7:D7) -> 44 | H7: =SUM(E7+G7) -> 44 | K7: =SUM(0.63*H7) -> 27.72
A8: 140 | E8: =SUM(B8:D8) -> 0 | G8: 12 | H8: =SUM(E8+G8) -> 12 | K8: =SUM(0.15*H8) -> 1.8
A9: 188 | B9: 5 | E9: =SUM(B9:D9) -> 5 | H9: =SUM(E9+G9) -> 5 | K9: =SUM(0.63*H9) -> 3.15
A10: 191 | B10: 2 | E10: =SUM(B10:D10) -> 2 | H10: =SUM(E10+G10) -> 2 | K10: =SUM(0.64*H10) -> 1.28
A11: 192 | E11: =SUM(B11:D11) -> 0 | H11: =SUM(E11+G11) -> 0 | K11: =SUM(0.64*H11) -> 0
A12: 193 | B12: 9 | E12: =SUM(B12:D12) -> 9 | H12: =SUM(E12+G12) -> 9 | K12: =SUM(0.37*H12) -> 3.33
A13: 194 | B13: 2 | C13: 5 | D13: 5 | E13: =SUM(B13:D13) -> 12 | H13: =SUM(E13+G13) -> 12 | K13: =SUM(0.6*H13) -> 7.2
A14: 197 | E14: =SUM(B14:D14) -> 0 | H14: =SUM(E14+G14) -> 0 | K14: =SUM(0.64*H14) -> 0
A15: 199 | B15: 41 | D15: 1 | E15: =SUM(B15:D15) -> 42 | H15: =SUM(E15+G15) -> 42 | K15: =SUM(0.64*H15) -> 26.88
A16: 222 | B16: 1267 | C16: 4 | D16: 133 | E16: =SUM(B16:D16) -> 1404 | G16: 359 | H16: =SUM(E16+G16) -> 1763 | K16: =SUM(0.37*H16) -> 652.31
A17: 241 | B17: 18 | C17: 3 | D17: 1 | E17: =SUM(B17:D17) -> 22 | H17: =SUM(E17+G17) -> 22 | K17: =SUM(0.37*H17) -> 8.14
A18: 242 | B18: 11 | E18: =SUM(B18:D18) -> 11 | H18: =SUM(E18+G18) -> 11 | K18: =SUM(0.37*H18) -> 4.07
A19: 244 | C19: 12 | D19: 20 | E19: =SUM(B19:D19) -> 32 | H19: =SUM(E19+G19) -> 32 | K19: =SUM(0.15*H19) -> 4.8
A20: 248 | B20: 16 | C20: 4 | D20: 3 | E20: =SUM(B20:D20) -> 23 | H20: =SUM(E20+G20) -> 23 | K20: =SUM(0.37*H20) -> 8.51
A21: 252 | B21: 28 | C21: 4 | D21: 14 | E21: =SUM(B21:D21) -> 46 | H21: =SUM(E21+G21) -> 46 | K21: =SUM(0.37*H21) -> 17.02
A22: 255 | E22: =SUM(B22:D22) -> 0 | H22: =SUM(E22+G22) -> 0 | K22: =SUM(0.64*H22) -> 0
A23: 257 | B23: 46 | C23: 1 | D23: 6 | E23: =SUM(B23:D23) -> 53 | H23: =SUM(E23+G23) -> 53 | K23: =SUM(0.37*H23) -> 19.61
A24: 260 | B24: 8 | D24: 2 | E24: =SUM(B24:D24) -> 10 | H24: =SUM(E24+G24) -> 10 | K24: =SUM(0.64*H24) -> 6.4
A25: 265 | B25: 2 | E25: =SUM(B25:D25) -> 2 | H25: =SUM(E25+G25) -> 2 | K25: =SUM(0.64*H25) -> 1.28
A26: 268 | B26: 10 | E26: =SUM(B26:D26) -> 10 | H26: =SUM(E26+G26) -> 10 | K26: =SUM(0.64*H26) -> 6.4
A27: 270 | E27: =SUM(B27:D27) -> 0 | H27: =SUM(E27+G27) -> 0 | K27: =SUM(0.64*H27) -> 0
A28: 273 | E28: =SUM(B28:D28) -> 0 | H28: =SUM(E28+G28) -> 0 | K28: =SUM(0.64*H28) -> 0
A29: 274 | B29: 1 | E29: =SUM(B29:D29) -> 1 | H29: =SUM(E29+G29) -> 1 | K29: =SUM(0.64*H29) -> 0.64
A30: 280 | B30: 13 | D30: 1 | E30: =SUM(B30:D30) -> 14 | H30: =SUM(E30+G30) -> 14 | K30: =SUM(0.64*H30) -> 8.96
A31: 282 | C31: 1 | D31: 1 | E31: =SUM(B31:D31) -> 2 | H31: =SUM(E31+G31) -> 2 | K31: =SUM(0.37*H31) -> 0.74
A32: 283 | B32: 11 | D32: 1 | E32: =SUM(B32:D32) -> 12 | H32: =SUM(E32+G32) -> 12 | K32: =SUM(0.64*H32) -> 7.68
A33: 333 | B33: 70 | C33: 11 | D33: 16 | E33: =SUM(B33:D33) -> 97 | H33: =SUM(E33+G33) -> 97 | K33: =SUM(0.64*H33) -> 62.08
A34: 417 | B34: 45 | C34: 1 | D34: 4 | E34: =SUM(B34:D34) -> 50 | H34: =SUM(E34+G34) -> 50 | K34: =SUM(0.37*H34) -> 18.5
A35: 437 | E35: =SUM(B35:D35) -> 0 | H35: =SUM(E35+G35) -> 0 | K35: =SUM(0.64*H35) -> 0
A36: 438 | B36: 1 | D36: 2 | E36: =SUM(B36:D36) -> 3 | H36: =SUM(E36+G36) -> 3 | K36: =SUM(0.64*H36) -> 1.92
A37: 440 | B37: 31 | D37: 3 | E37: =SUM(B37:D37) -> 34 | H37: =SUM(E37+G37) -> 34 | K37: =SUM(0.64*H37) -> 21.76
A38: 441 | B38: 3 | C38: 1 | D38: 4 | E38: =SUM(B38:D38) -> 8 | H38: =SUM(E38+G38) -> 8 | K38: =SUM(0.64*H38) -> 5.12
A39: 448 | C39: 3 | D39: 1 | E39: =SUM(B39:D39) -> 4 | H39: =SUM(E39+G39) -> 4 | K39: =SUM(0.64*H39) -> 2.56
A40: 555 | B40: 40 | C40: 19 | D40: 36 | E40: =SUM(B40:D40) -> 95 | H40: =SUM(E40+G40) -> 95 | K40: =SUM(0.63*H40) -> 59.85
...

Sheet 1-8-2020
A1: JAN. 2020 | B1: Regular Mail | C1: Brown Mail | D1: Certified Mail | E1: TOTAL MAIL | G1: MPS Processed | H1: GRAND TOTAL | K1: Revenue
A2: 8 | D2: 3 | E2: =SUM(B2:D2) -> 3 | G2: 8051 | H2: =SUM(E2+G2) -> 8054 | K2: =SUM(0.15*H2) -> 1208.1
A3: 10 | E3: =SUM(B3:D3) -> 0 | G3: 209 | H3: =SUM(E3+G3) -> 209 | K3: =SUM(0.15*H3) -> 31.35
A4: 11 | D4: 3 | E4: =SUM(B4:D4) -> 3 | G4: 1050 | H4: =SUM(E4+G4) -> 1053 | K4: =SUM(0.15*H4) -> 157.95
A5: 46 | C5: 5 | D5: 28 | E5: =SUM(B5:D5) -> 33 | G5: 554 | H5: =SUM(E5+G5) -> 587 | K5: =SUM(0.64*H5) -> 375.68
A6: 59 | D6: 3 | E6: =SUM(B6:D6) -> 3 | G6: 136 | H6: =SUM(E6+G6) -> 139 | K6: =SUM(0.37*H6) -> 51.43
A7: 111 | B7: 37 | C7: 16 | D7: 16 | E7: =SUM(B7:D7) -> 69 | H7: =SUM(E7+G7) -> 69 | K7: =SUM(0.63*H7) -> 43.47
A8: 140 | E8: =SUM(B8:D8) -> 0 | H8: =SUM(E8+G8) -> 0 | K8: =SUM(0.15*H8) -> 0
A9: 188 | B9: 4 | E9: =SUM(B9:D9) -> 4 | H9: =SUM(E9+G9) -> 4 | K9: =SUM(0.63*H9) -> 2.52
A10: 191 | C10: 1 | E10: =SUM(B10:D10) -> 1 | H10: =SUM(E10+G10) -> 1 | K10: =SUM(0.64*H10) -> 0.64
A11: 192 | E11: =SUM(B11:D11) -> 0 | H11: =SUM(E11+G11) -> 0 | K11: =SUM(0.64*H11) -> 0
A12: 193 | B12: 8 | C12: 1 | E12: =SUM(B12:D12) -> 9 | H12: =SUM(E12+G12) -> 9 | K12: =SUM(0.37*H12) -> 3.33
A13: 194 | B13: 2 | C13: 4 | E13: =SUM(B13:D13) -> 6 | H13: =SUM(E13+G13) -> 6 | K13: =SUM(0.6*H13) -> 3.6
A14: 197 | E14: =SUM(B14:D14) -> 0 | H14: =SUM(E14+G14) -> 0 | K14: =SUM(0.64*H14) -> 0
A15: 199 | B15: 10 | C15: 1 | D15: 2 | E15: =SUM(B15:D15) -> 13 | H15: =SUM(E15+G15) -> 13 | K15: =SUM(0.64*H15) -> 8.32
A16: 222 | B16: 4276 | C16: 9 | D16: 419 | E16: =SUM(B16:D16) -> 4704 | G16: 1291 | H16: =SUM(E16+G16) -> 5995 | K16: =SUM(0.37*H16) -> 2218.15
A17: 241 | B17: 6 | C17: 1 | D17: 2 | E17: =SUM(B17:D17) -> 9 | H17: =SUM(E17+G17) -> 9 | K17: =SUM(0.37*H17) -> 3.33
A18: 242 | D18: 1 | E18: =SUM(B18:D18) -> 1 | H18: =SUM(E18+G18) -> 1 | K18: =SUM(0.37*H18) -> 0.37
A19: 244 | B19: 14 | C19: 8 | D19: 4 | E19: =SUM(B19:D19) -> 26 | H19: =SUM(E19+G19) -> 26 | K19: =SUM(0.15*H19) -> 3.9
A20: 248 | B20: 31 | C20: 24 | D20: 4 | E20: =SUM(B20:D20) -> 59 | H20: =SUM(E20+G20) -> 59 | K20: =SUM(0.37*H20) -> 21.83
A21: 252 | B21: 72 | C21: 3 | D21: 25 | E21: =SUM(B21:D21) -> 100 | H21: =SUM(E21+G21) -> 100 | K21: =SUM(0.37*H21) -> 37
A22: 255 | C22: 2 | E22: =SUM(B22:D22) -> 2 | H22: =SUM(E22+G22) -> 2 | K22: =SUM(0.64*H22) -> 1.28
A23: 257 | B23: 128 | D23: 5 | E23: =SUM(B23:D23) -> 133 | H23: =SUM(E23+G23) -> 133 | K23: =SUM(0.37*H23) -> 49.21
A24: 260 | C24: 1 | D24: 2 | E24: =SUM(B24:D24) -> 3 | H24: =SUM(E24+G24) -> 3 | K24: =SUM(0.64*H24) -> 1.92
A25: 265 | B25: 4 | D25: 1 | E25: =SUM(B25:D25) -> 5 | H25: =SUM(E25+G25) -> 5 | K25: =SUM(0.64*H25) -> 3.2
A26: 268 | B26: 4 | E26: =SUM(B26:D26) -> 4 | H26: =SUM(E26+G26) -> 4 | K26: =SUM(0.64*H26) -> 2.56
A27: 270 | E27: =SUM(B27:D27) -> 0 | H27: =SUM(E27+G27) -> 0 | K27: =SUM(0.64*H27) -> 0
A28: 273 | B28: 1 | E28: =SUM(B28:D28) -> 1 | H28: =SUM(E28+G28) -> 1 | K28: =SUM(0.64*H28) -> 0.64
A29: 274 | E29: =SUM(B29:D29) -> 0 | H29: =SUM(E29+G29) -> 0 | K29: =SUM(0.64*H29) -> 0
A30: 280 | B30: 5 | E30: =SUM(B30:D30) -> 5 | H30: =SUM(E30+G30) -> 5 | K30: =SUM(0.64*H30) -> 3.2
A31: 282 | B31: 6 | E31: =SUM(B31:D31) -> 6 | H31: =SUM(E31+G31) -> 6 | K31: =SUM(0.37*H31) -> 2.22
A32: 283 | D32: 4 | E32: =SUM(B32:D32) -> 4 | H32: =SUM(E32+G32) -> 4 | K32: =SUM(0.64*H32) -> 2.56
A33: 333 | B33: 211 | C33: 78 | D33: 9 | E33: =SUM(B33:D33) -> 298 | H33: =SUM(E33+G33) -> 298 | K33: =SUM(0.64*H33) -> 190.72
A34: 417 | B34: 111 | C34: 2 | D34: 5 | E34: =SUM(B34:D34) -> 118 | H34: =SUM(E34+G34) -> 118 | K34: =SUM(0.37*H34) -> 43.66
A35: 437 | E35: =SUM(B35:D35) -> 0 | H35: =SUM(E35+G35) -> 0 | K35: =SUM(0.64*H35) -> 0
A36: 438 | E36: =SUM(B36:D36) -> 0 | H36: =SUM(E36+G36) -> 0 | K36: =SUM(0.64*H36) -> 0
A37: 440 | B37: 9 | E37: =SUM(B37:D37) -> 9 | H37: =SUM(E37+G37) -> 9 | K37: =SUM(0.64*H37) -> 5.76
A38: 441 | C38: 1 | E38: =SUM(B38:D38) -> 1 | H38: =SUM(E38+G38) -> 1 | K38: =SUM(0.64*H38) -> 0.64
A39: 448 | B39: 2 | D39: 1 | E39: =SUM(B39:D39) -> 3 | H39: =SUM(E39+G39) -> 3 | K39: =SUM(0.64*H39) -> 1.92
A40: 555 | B40: 109 | C40: 41 | D40: 27 | E40: =SUM(B40:D40) -> 177 | H40: =SUM(E40+G40) -> 177 | K40: =SUM(0.63*H40) -> 111.51
...

Sheet 1-9-2020
A1: JAN. 2020 | B1: Regular Mail | C1: Brown Mail | D1: Certified Mail | E1: TOTAL MAIL | G1: MPS Processed | H1: GRAND TOTAL | K1: Revenue
A2: 8 | D2: 3 | E2: =SUM(B2:D2) -> 3 | G2: 5132 | H2: =SUM(E2+G2) -> 5135 | K2: =SUM(0.15*H2) -> 770.25
A3: 10 | E3: =SUM(B3:D3) -> 0 | G3: 144 | H3: =SUM(E3+G3) -> 144 | K3: =SUM(0.15*H3) -> 21.6
A4: 11 | D4: 3 | E4: =SUM(B4:D4) -> 3 | G4: 745 | H4: =SUM(E4+G4) -> 748 | K4: =SUM(0.15*H4) -> 112.2
A5: 46 | C5: 2 | D5: 28 | E5: =SUM(B5:D5) -> 30 | G5: 472 | H5: =SUM(E5+G5) -> 502 | K5: =SUM(0.64*H5) -> 321.28
A6: 59 | D6: 2 | E6: =SUM(B6:D6) -> 2 | G6: 133 | H6: =SUM(E6+G6) -> 135 | K6: =SUM(0.37*H6) -> 49.95
A7: 111 | B7: 31 | C7: 20 | D7: 10 | E7: =SUM(B7:D7) -> 61 | H7: =SUM(E7+G7) -> 61 | K7: =SUM(0.63*H7) -> 38.43
A8: 140 | B8: 40 | E8: =SUM(B8:D8) -> 40 | H8: =SUM(E8+G8) -> 40 | K8: =SUM(0.15*H8) -> 6
A9: 188 | B9: 4 | C9: 1 | E9: =SUM(B9:D9) -> 5 | H9: =SUM(E9+G9) -> 5 | K9: =SUM(0.63*H9) -> 3.15
A10: 191 | B10: 2 | E10: =SUM(B10:D10) -> 2 | H10: =SUM(E10+G10) -> 2 | K10: =SUM(0.64*H10) -> 1.28
A11: 192 | B11: 2 | E11: =SUM(B11:D11) -> 2 | H11: =SUM(E11+G11) -> 2 | K11: =SUM(0.64*H11) -> 1.28
A12: 193 | B12: 13 | D12: 1 | E12: =SUM(B12:D12) -> 14 | H12: =SUM(E12+G12) -> 14 | K12: =SUM(0.37*H12) -> 5.18
A13: 194 | B13: 4 | C13: 5 | D13: 5 | E13: =SUM(B13:D13) -> 14 | H13: =SUM(E13+G13) -> 14 | K13: =SUM(0.6*H13) -> 8.4
A14: 197 | E14: =SUM(B14:D14) -> 0 | H14: =SUM(E14+G14) -> 0 | K14: =SUM(0.64*H14) -> 0
A15: 199 | C15: 2 | D15: 1 | E15: =SUM(B15:D15) -> 3 | H15: =SUM(E15+G15) -> 3 | K15: =SUM(0.64*H15) -> 1.92
A16: 222 | B16: 3732 | C16: 7 | D16: 363 | E16: =SUM(B16:D16) -> 4102 | G16: 886 | H16: =SUM(E16+G16) -> 4988 | K16: =SUM(0.37*H16) -> 1845.56
A17: 241 | B17: 11 | C17: 3 | D17: 3 | E17: =SUM(B17:D17) -> 17 | H17: =SUM(E17+G17) -> 17 | K17: =SUM(0.37*H17) -> 6.29
A18: 242 | B18: 8 | D18: 1 | E18: =SUM(B18:D18) -> 9 | H18: =SUM(E18+G18) -> 9 | K18: =SUM(0.37*H18) -> 3.33
A19: 244 | B19: 10 | C19: 12 | D19: 15 | E19: =SUM(B19:D19) -> 37 | H19: =SUM(E19+G19) -> 37 | K19: =SUM(0.15*H19) -> 5.55
A20: 248 | B20: 60 | C20: 31 | D20: 5 | E20: =SUM(B20:D20) -> 96 | H20: =SUM(E20+G20) -> 96 | K20: =SUM(0.37*H20) -> 35.52
A21: 252 | B21: 66 | C21: 6 | D21: 16 | E21: =SUM(B21:D21) -> 88 | H21: =SUM(E21+G21) -> 88 | K21: =SUM(0.37*H21) -> 32.56
A22: 255 | B22: 133 | C22: 7 | D22: 10 | E22: =SUM(B22:D22) -> 150 | H22: =SUM(E22+G22) -> 150 | K22: =SUM(0.64*H22) -> 96
A23: 257 | B23: 164 | C23: 1 | D23: 9 | E23: =SUM(B23:D23) -> 174 | H23: =SUM(E23+G23) -> 174 | K23: =SUM(0.37*H23) -> 64.38
A24: 260 | B24: 10 | C24: 3 | D24: 1 | E24: =SUM(B24:D24) -> 14 | H24: =SUM(E24+G24) -> 14 | K24: =SUM(0.64*H24) -> 8.96
A25: 265 | B25: 3 | D25: 2 | E25: =SUM(B25:D25) -> 5 | H25: =SUM(E25+G25) -> 5 | K25: =SUM(0.64*H25) -> 3.2
A26: 268 | B26: 9 | D26: 2 | E26: =SUM(B26:D26) -> 11 | H26: =SUM(E26+G26) -> 11 | K26: =SUM(0.64*H26) -> 7.04
A27: 270 | E27: =SUM(B27:D27) -> 0 | H27: =SUM(E27+G27) -> 0 | K27: =SUM(0.64*H27) -> 0
A28: 273 | C28: 1 | E28: =SUM(B28:D28) -> 1 | H28: =SUM(E28+G28) -> 1 | K28: =SUM(0.64*H28) -> 0.64
A29: 274 | E29: =SUM(B29:D29) -> 0 | H29: =SUM(E29+G29) -> 0 | K29: =SUM(0.64*H29) -> 0
A30: 280 | B30: 16 | E30: =SUM(B30:D30) -> 16 | H30: =SUM(E30+G30) -> 16 | K30: =SUM(0.64*H30) -> 10.24
A31: 282 | B31: 3 | E31: =SUM(B31:D31) -> 3 | H31: =SUM(E31+G31) -> 3 | K31: =SUM(0.37*H31) -> 1.11
A32: 283 | B32: 6 | D32: 3 | E32: =SUM(B32:D32) -> 9 | H32: =SUM(E32+G32) -> 9 | K32: =SUM(0.64*H32) -> 5.76
A33: 333 | B33: 269 | C33: 62 | D33: 5 | E33: =SUM(B33:D33) -> 336 | H33: =SUM(E33+G33) -> 336 | K33: =SUM(0.64*H33) -> 215.04
A34: 417 | B34: 97 | C34: 2 | D34: 13 | E34: =SUM(B34:D34) -> 112 | H34: =SUM(E34+G34) -> 112 | K34: =SUM(0.37*H34) -> 41.44
A35: 437 | B35: 3 | C35: 1 | D35: 1 | E35: =SUM(B35:D35) -> 5 | H35: =SUM(E35+G35) -> 5 | K35: =SUM(0.64*H35) -> 3.2
A36: 438 | C36: 1 | D36: 2 | E36: =SUM(B36:D36) -> 3 | H36: =SUM(E36+G36) -> 3 | K36: =SUM(0.64*H36) -> 1.92
A37: 440 | B37: 28 | D37: 3 | E37: =SUM(B37:D37) -> 31 | H37: =SUM(E37+G37) -> 31 | K37: =SUM(0.64*H37) -> 19.84
A38: 441 | B38: 6 | D38: 3 | E38: =SUM(B38:D38) -> 9 | H38: =SUM(E38+G38) -> 9 | K38: =SUM(0.64*H38) -> 5.76
A39: 448 | B39: 7 | C39: 2 | E39: =SUM(B39:D39) -> 9 | H39: =SUM(E39+G39) -> 9 | K39: =SUM(0.64*H39) -> 5.76
A40: 555 | B40: 105 | C40: 50 | D40: 37 | E40: =SUM(B40:D40) -> 192 | H40: =SUM(E40+G40) -> 192 | K40: =SUM(0.63*H40) -> 120.96
...

Sheet 1-10-2020
A1: JAN. 2020 | B1: Regular Mail | C1: Brown Mail | D1: Certified Mail | E1: TOTAL MAIL | G1: MPS Processed | H1: GRAND TOTAL | K1: Revenue
A2: 8 | D2: 4 | E2: =SUM(B2:D2) -> 4 | G2: 4430 | H2: =SUM(E2+G2) -> 4434 | K2: =SUM(0.15*H2) -> 665.1
A3: 10 | E3: =SUM(B3:D3) -> 0 | G3: 118 | H3: =SUM(E3+G3) -> 118 | K3: =SUM(0.15*H3) -> 17.7
A4: 11 | D4: 1 | E4: =SUM(B4:D4) -> 1 | G4: 582 | H4: =SUM(E4+G4) -> 583 | K4: =SUM(0.15*H4) -> 87.45
A5: 46 | C5: 4 | D5: 49 | E5: =SUM(B5:D5) -> 53 | G5: 404 | H5: =SUM(E5+G5) -> 457 | K5: =SUM(0.64*H5) -> 292.48
A6: 59 | D6: 1 | E6: =SUM(B6:D6) -> 1 | G6: 116 | H6: =SUM(E6+G6) -> 117 | K6: =SUM(0.37*H6) -> 43.29
A7: 111 | B7: 29 | C7: 18 | D7: 19 | E7: =SUM(B7:D7) -> 66 | H7: =SUM(E7+G7) -> 66 | K7: =SUM(0.63*H7) -> 41.58
A8: 140 | E8: =SUM(B8:D8) -> 0 | G8: 45 | H8: =SUM(E8+G8) -> 45 | K8: =SUM(0.15*H8) -> 6.75
A9: 188 | B9: 4 | E9: =SUM(B9:D9) -> 4 | H9: =SUM(E9+G9) -> 4 | K9: =SUM(0.63*H9) -> 2.52
A10: 191 | B10: 5 | C10: 1 | E10: =SUM(B10:D10) -> 6 | H10: =SUM(E10+G10) -> 6 | K10: =SUM(0.64*H10) -> 3.84
A11: 192 | E11: =SUM(B11:D11) -> 0 | H11: =SUM(E11+G11) -> 0 | K11: =SUM(0.64*H11) -> 0
A12: 193 | B12: 12 | D12: 2 | E12: =SUM(B12:D12) -> 14 | H12: =SUM(E12+G12) -> 14 | K12: =SUM(0.37*H12) -> 5.18
A13: 194 | B13: 3 | C13: 6 | D13: 2 | E13: =SUM(B13:D13) -> 11 | H13: =SUM(E13+G13) -> 11 | K13: =SUM(0.6*H13) -> 6.6
A14: 197 | B14: 1 | E14: =SUM(B14:D14) -> 1 | H14: =SUM(E14+G14) -> 1 | K14: =SUM(0.64*H14) -> 0.64
A15: 199 | B15: 30 | D15: 1 | E15: =SUM(B15:D15) -> 31 | H15: =SUM(E15+G15) -> 31 | K15: =SUM(0.64*H15) -> 19.84
A16: 222 | B16: 3667 | C16: 6 | D16: 579 | E16: =SUM(B16:D16) -> 4252 | G16: 917 | H16: =SUM(E16+G16) -> 5169 | K16: =SUM(0.37*H16) -> 1912.53
A17: 241 | B17: 16 | C17: 5 | D17: 11 | E17: =SUM(B17:D17) -> 32 | H17: =SUM(E17+G17) -> 32 | K17: =SUM(0.37*H17) -> 11.84
A18: 242 | B18: 3 | E18: =SUM(B18:D18) -> 3 | H18: =SUM(E18+G18) -> 3 | K18: =SUM(0.37*H18) -> 1.11
A19: 244 | B19: 6 | C19: 12 | D19: 13 | E19: =SUM(B19:D19) -> 31 | H19: =SUM(E19+G19) -> 31 | K19: =SUM(0.15*H19) -> 4.65
A20: 248 | B20: 65 | C20: 30 | D20: 7 | E20: =SUM(B20:D20) -> 102 | H20: =SUM(E20+G20) -> 102 | K20: =SUM(0.37*H20) -> 37.74
A21: 252 | B21: 92 | C21: 10 | D21: 41 | E21: =SUM(B21:D21) -> 143 | H21: =SUM(E21+G21) -> 143 | K21: =SUM(0.37*H21) -> 52.91
A22: 255 | D22: 1 | E22: =SUM(B22:D22) -> 1 | H22: =SUM(E22+G22) -> 1 | K22: =SUM(0.64*H22) -> 0.64
A23: 257 | B23: 133 | D23: 10 | E23: =SUM(B23:D23) -> 143 | H23: =SUM(E23+G23) -> 143 | K23: =SUM(0.37*H23) -> 52.91
A24: 260 | B24: 9 | C24: 1 | D24: 1 | E24: =SUM(B24:D24) -> 11 | H24: =SUM(E24+G24) -> 11 | K24: =SUM(0.64*H24) -> 7.04
A25: 265 | B25: 3 | C25: 1 | D25: 4 | E25: =SUM(B25:D25) -> 8 | H25: =SUM(E25+G25) -> 8 | K25: =SUM(0.64*H25) -> 5.12
A26: 268 | B26: 6 | E26: =SUM(B26:D26) -> 6 | H26: =SUM(E26+G26) -> 6 | K26: =SUM(0.64*H26) -> 3.84
A27: 270 | E27: =SUM(B27:D27) -> 0 | H27: =SUM(E27+G27) -> 0 | K27: =SUM(0.64*H27) -> 0
A28: 273 | B28: 1 | D28: 2 | E28: =SUM(B28:D28) -> 3 | H28: =SUM(E28+G28) -> 3 | K28: =SUM(0.64*H28) -> 1.92
A29: 274 | B29: 4 | E29: =SUM(B29:D29) -> 4 | H29: =SUM(E29+G29) -> 4 | K29: =SUM(0.64*H29) -> 2.56
A30: 280 | B30: 10 | D30: 1 | E30: =SUM(B30:D30) -> 11 | H30: =SUM(E30+G30) -> 11 | K30: =SUM(0.64*H30) -> 7.04
A31: 282 | B31: 8 | E31: =SUM(B31:D31) -> 8 | H31: =SUM(E31+G31) -> 8 | K31: =SUM(0.37*H31) -> 2.96
A32: 283 | B32: 4 | C32: 1 | D32: 6 | E32: =SUM(B32:D32) -> 11 | H32: =SUM(E32+G32) -> 11 | K32: =SUM(0.64*H32) -> 7.04
A33: 333 | B33: 351 | C33: 62 | D33: 21 | E33: =SUM(B33:D33) -> 434 | H33: =SUM(E33+G33) -> 434 | K33: =SUM(0.64*H33) -> 277.76
A34: 417 | B34: 127 | C34: 1 | D34: 4 | E34: =SUM(B34:D34) -> 132 | H34: =SUM(E34+G34) -> 132 | K34: =SUM(0.37*H34) -> 48.84
A35: 437 | B35: 3 | D35: 1 | E35: =SUM(B35:D35) -> 4 | H35: =SUM(E35+G35) -> 4 | K35: =SUM(0.64*H35) -> 2.56
A36: 438 | B36: 1 | D36: 2 | E36: =SUM(B36:D36) -> 3 | H36: =SUM(E36+G36) -> 3 | K36: =SUM(0.64*H36) -> 1.92
A37: 440 | B37: 24 | C37: 2 | D37: 3 | E37: =SUM(B37:D37) -> 29 | H37: =SUM(E37+G37) -> 29 | K37: =SUM(0.64*H37) -> 18.56
A38: 441 | B38: 2 | C38: 2 | D38: 3 | E38: =SUM(B38:D38) -> 7 | H38: =SUM(E38+G38) -> 7 | K38: =SUM(0.64*H38) -> 4.48
A39: 448 | B39: 2 | D39: 1 | E39: =SUM(B39:D39) -> 3 | H39: =SUM(E39+G39) -> 3 | K39: =SUM(0.64*H39) -> 1.92
A40: 555 | B40: 89 | C40: 39 | D40: 57 | E40: =SUM(B40:D40) -> 185 | H40: =SUM(E40+G40) -> 185 | K40: =SUM(0.63*H40) -> 116.55
...

Sheet 1-13-2020
A1: JAN. 2020 | B1: Regular Mail | C1: Brown Mail | D1: Certified Mail | E1: TOTAL MAIL | G1: MPS Processed | H1: GRAND TOTAL | K1: Revenue
A2: 8 | D2: 6 | E2: =SUM(B2:D2) -> 6 | G2: 11951 | H2: =SUM(E2+G2) -> 11957 | K2: =SUM(0.15*H2) -> 1793.55
A3: 10 | E3: =SUM(B3:D3) -> 0 | G3: 215 | H3: =SUM(E3+G3) -> 215 | K3: =SUM(0.15*H3) -> 32.25
A4: 11 | D4: 2 | E4: =SUM(B4:D4) -> 2 | G4: 1223 | H4: =SUM(E4+G4) -> 1225 | K4: =SUM(0.15*H4) -> 183.75
A5: 46 | C5: 16 | D5: 74 | E5: =SUM(B5:D5) -> 90 | G5: 1038 | H5: =SUM(E5+G5) -> 1128 | K5: =SUM(0.64*H5) -> 721.92
A6: 59 | C6: 2 | D6: 5 | E6: =SUM(B6:D6) -> 7 | G6: 283 | H6: =SUM(E6+G6) -> 290 | K6: =SUM(0.37*H6) -> 107.3
A7: 111 | B7: 68 | C7: 39 | D7: 40 | E7: =SUM(B7:D7) -> 147 | H7: =SUM(E7+G7) -> 147 | K7: =SUM(0.63*H7) -> 92.61
A8: 140 | E8: =SUM(B8:D8) -> 0 | G8: 89 | H8: =SUM(E8+G8) -> 89 | K8: =SUM(0.15*H8) -> 13.35
A9: 188 | B9: 3 | C9: 9 | D9: 1 | E9: =SUM(B9:D9) -> 13 | H9: =SUM(E9+G9) -> 13 | K9: =SUM(0.63*H9) -> 8.19
A10: 191 | B10: 3 | E10: =SUM(B10:D10) -> 3 | H10: =SUM(E10+G10) -> 3 | K10: =SUM(0.64*H10) -> 1.92
A11: 192 | B11: 1 | E11: =SUM(B11:D11) -> 1 | H11: =SUM(E11+G11) -> 1 | K11: =SUM(0.64*H11) -> 0.64
A12: 193 | B12: 33 | C12: 1 | D12: 1 | E12: =SUM(B12:D12) -> 35 | H12: =SUM(E12+G12) -> 35 | K12: =SUM(0.37*H12) -> 12.95
A13: 194 | B13: 8 | C13: 10 | D13: 13 | E13: =SUM(B13:D13) -> 31 | H13: =SUM(E13+G13) -> 31 | K13: =SUM(0.6*H13) -> 18.6
A14: 197 | E14: =SUM(B14:D14) -> 0 | H14: =SUM(E14+G14) -> 0 | K14: =SUM(0.64*H14) -> 0
A15: 199 | B15: 54 | D15: 4 | E15: =SUM(B15:D15) -> 58 | H15: =SUM(E15+G15) -> 58 | K15: =SUM(0.64*H15) -> 37.12
A16: 222 | B16: 10224 | C16: 17 | D16: 735 | E16: =SUM(B16:D16) -> 10976 | G16: 2349 | H16: =SUM(E16+G16) -> 13325 | K16: =SUM(0.37*H16) -> 4930.25
A17: 241 | B17: 24 | C17: 8 | D17: 12 | E17: =SUM(B17:D17) -> 44 | H17: =SUM(E17+G17) -> 44 | K17: =SUM(0.37*H17) -> 16.28
A18: 242 | B18: 2 | D18: 1 | E18: =SUM(B18:D18) -> 3 | H18: =SUM(E18+G18) -> 3 | K18: =SUM(0.37*H18) -> 1.11
A19: 244 | B19: 35 | C19: 31 | D19: 35 | E19: =SUM(B19:D19) -> 101 | H19: =SUM(E19+G19) -> 101 | K19: =SUM(0.15*H19) -> 15.15
A20: 248 | B20: 175 | C20: 89 | D20: 15 | E20: =SUM(B20:D20) -> 279 | H20: =SUM(E20+G20) -> 279 | K20: =SUM(0.37*H20) -> 103.23
A21: 252 | B21: 214 | C21: 10 | D21: 46 | E21: =SUM(B21:D21) -> 270 | H21: =SUM(E21+G21) -> 270 | K21: =SUM(0.37*H21) -> 99.9
A22: 255 | B22: 7 | C22: 2 | D22: 4 | E22: =SUM(B22:D22) -> 13 | H22: =SUM(E22+G22) -> 13 | K22: =SUM(0.64*H22) -> 8.32
A23: 257 | B23: 305 | C23: 2 | D23: 16 | E23: =SUM(B23:D23) -> 323 | H23: =SUM(E23+G23) -> 323 | K23: =SUM(0.37*H23) -> 119.51
A24: 260 | B24: 16 | C24: 1 | D24: 8 | E24: =SUM(B24:D24) -> 25 | H24: =SUM(E24+G24) -> 25 | K24: =SUM(0.64*H24) -> 16
A25: 265 | B25: 10 | D25: 1 | E25: =SUM(B25:D25) -> 11 | H25: =SUM(E25+G25) -> 11 | K25: =SUM(0.64*H25) -> 7.04
A26: 268 | B26: 21 | D26: 3 | E26: =SUM(B26:D26) -> 24 | H26: =SUM(E26+G26) -> 24 | K26: =SUM(0.64*H26) -> 15.36
A27: 270 | B27: 1 | E27: =SUM(B27:D27) -> 1 | H27: =SUM(E27+G27) -> 1 | K27: =SUM(0.64*H27) -> 0.64
A28: 273 | E28: =SUM(B28:D28) -> 0 | H28: =SUM(E28+G28) -> 0 | K28: =SUM(0.64*H28) -> 0
A29: 274 | B29: 7 | E29: =SUM(B29:D29) -> 7 | H29: =SUM(E29+G29) -> 7 | K29: =SUM(0.64*H29) -> 4.48
A30: 280 | B30: 35 | C30: 9 | D30: 4 | E30: =SUM(B30:D30) -> 48 | H30: =SUM(E30+G30) -> 48 | K30: =SUM(0.64*H30) -> 30.72
A31: 282 | B31: 17 | C31: 4 | D31: 3 | E31: =SUM(B31:D31) -> 24 | H31: =SUM(E31+G31) -> 24 | K31: =SUM(0.37*H31) -> 8.88
A32: 283 | C32: 3 | D32: 14 | E32: =SUM(B32:D32) -> 17 | H32: =SUM(E32+G32) -> 17 | K32: =SUM(0.64*H32) -> 10.88
A33: 333 | B33: 1293 | C33: 201 | D33: 51 | E33: =SUM(B33:D33) -> 1545 | H33: =SUM(E33+G33) -> 1545 | K33: =SUM(0.64*H33) -> 988.8
A34: 417 | B34: 315 | C34: 6 | D34: 11 | E34: =SUM(B34:D34) -> 332 | H34: =SUM(E34+G34) -> 332 | K34: =SUM(0.37*H34) -> 122.84
A35: 437 | B35: 2 | E35: =SUM(B35:D35) -> 2 | H35: =SUM(E35+G35) -> 2 | K35: =SUM(0.64*H35) -> 1.28
A36: 438 | B36: 3 | C36: 1 | D36: 3 | E36: =SUM(B36:D36) -> 7 | H36: =SUM(E36+G36) -> 7 | K36: =SUM(0.64*H36) -> 4.48
A37: 440 | B37: 45 | C37: 1 | D37: 2 | E37: =SUM(B37:D37) -> 48 | H37: =SUM(E37+G37) -> 48 | K37: =SUM(0.64*H37) -> 30.72
A38: 441 | B38: 6 | C38: 1 | D38: 3 | E38: =SUM(B38:D38) -> 10 | H38: =SUM(E38+G38) -> 10 | K38: =SUM(0.64*H38) -> 6.4
A39: 448 | B39: 3 | C39: 2 | D39: 2 | E39: =SUM(B39:D39) -> 7 | H39: =SUM(E39+G39) -> 7 | K39: =SUM(0.64*H39) -> 4.48
A40: 555 | B40: 248 | C40: 82 | D40: 89 | E40: =SUM(B40:D40) -> 419 | H40: =SUM(E40+G40) -> 419 | K40: =SUM(0.63*H40) -> 263.97
...

Sheet 1-14-2020
A1: JAN. 2020 | B1: Regular Mail | C1: Brown Mail | D1: Certified Mail | E1: TOTAL MAIL | G1: MPS Processed | H1: GRAND TOTAL | K1: Revenue
A2: 8 | D2: 7 | E2: =SUM(B2:D2) -> 7 | G2: 1842 | H2: =SUM(E2+G2) -> 1849 | K2: =SUM(0.15*H2) -> 277.35
A3: 10 | E3: =SUM(B3:D3) -> 0 | G3: 26 | H3: =SUM(E3+G3) -> 26 | K3: =SUM(0.15*H3) -> 3.9
A4: 11 | E4: =SUM(B4:D4) -> 0 | G4: 125 | H4: =SUM(E4+G4) -> 125 | K4: =SUM(0.15*H4) -> 18.75
A5: 46 | C5: 6 | D5: 70 | E5: =SUM(B5:D5) -> 76 | G5: 161 | H5: =SUM(E5+G5) -> 237 | K5: =SUM(0.64*H5) -> 151.68
A6: 59 | C6: 3 | D6: 4 | E6: =SUM(B6:D6) -> 7 | G6: 38 | H6: =SUM(E6+G6) -> 45 | K6: =SUM(0.37*H6) -> 16.65
A7: 111 | B7: 13 | C7: 3 | D7: 13 | E7: =SUM(B7:D7) -> 29 | H7: =SUM(E7+G7) -> 29 | K7: =SUM(0.63*H7) -> 18.27
A8: 140 | E8: =SUM(B8:D8) -> 0 | G8: 16 | H8: =SUM(E8+G8) -> 16 | K8: =SUM(0.15*H8) -> 2.4
A9: 188 | B9: 8 | D9: 1 | E9: =SUM(B9:D9) -> 9 | H9: =SUM(E9+G9) -> 9 | K9: =SUM(0.63*H9) -> 5.67
A10: 191 | B10: 4 | E10: =SUM(B10:D10) -> 4 | H10: =SUM(E10+G10) -> 4 | K10: =SUM(0.64*H10) -> 2.56
A11: 192 | E11: =SUM(B11:D11) -> 0 | H11: =SUM(E11+G11) -> 0 | K11: =SUM(0.64*H11) -> 0
A12: 193 | B12: 16 | D12: 2 | E12: =SUM(B12:D12) -> 18 | H12: =SUM(E12+G12) -> 18 | K12: =SUM(0.37*H12) -> 6.66
A13: 194 | B13: 1 | C13: 2 | D13: 7 | E13: =SUM(B13:D13) -> 10 | H13: =SUM(E13+G13) -> 10 | K13: =SUM(0.6*H13) -> 6
A14: 197 | E14: =SUM(B14:D14) -> 0 | H14: =SUM(E14+G14) -> 0 | K14: =SUM(0.64*H14) -> 0
A15: 199 | B15: 33 | E15: =SUM(B15:D15) -> 33 | H15: =SUM(E15+G15) -> 33 | K15: =SUM(0.64*H15) -> 21.12
A16: 222 | B16: 650 | C16: 1 | D16: 1118 | E16: =SUM(B16:D16) -> 1769 | G16: 479 | H16: =SUM(E16+G16) -> 2248 | K16: =SUM(0.37*H16) -> 831.76
A17: 241 | B17: 46 | C17: 13 | D17: 19 | E17: =SUM(B17:D17) -> 78 | H17: =SUM(E17+G17) -> 78 | K17: =SUM(0.37*H17) -> 28.86
A18: 242 | B18: 11 | E18: =SUM(B18:D18) -> 11 | H18: =SUM(E18+G18) -> 11 | K18: =SUM(0.37*H18) -> 4.07
A19: 244 | B19: 8 | C19: 5 | D19: 25 | E19: =SUM(B19:D19) -> 38 | H19: =SUM(E19+G19) -> 38 | K19: =SUM(0.15*H19) -> 5.7
A20: 248 | B20: 21 | D20: 24 | E20: =SUM(B20:D20) -> 45 | H20: =SUM(E20+G20) -> 45 | K20: =SUM(0.37*H20) -> 16.65
A21: 252 | B21: 20 | C21: 6 | D21: 38 | E21: =SUM(B21:D21) -> 64 | H21: =SUM(E21+G21) -> 64 | K21: =SUM(0.37*H21) -> 23.68
A22: 255 | B22: 1 | E22: =SUM(B22:D22) -> 1 | H22: =SUM(E22+G22) -> 1 | K22: =SUM(0.64*H22) -> 0.64
A23: 257 | B23: 30 | C23: 1 | D23: 12 | E23: =SUM(B23:D23) -> 43 | H23: =SUM(E23+G23) -> 43 | K23: =SUM(0.37*H23) -> 15.91
A24: 260 | B24: 13 | C24: 1 | E24: =SUM(B24:D24) -> 14 | H24: =SUM(E24+G24) -> 14 | K24: =SUM(0.64*H24) -> 8.96
A25: 265 | B25: 3 | E25: =SUM(B25:D25) -> 3 | H25: =SUM(E25+G25) -> 3 | K25: =SUM(0.64*H25) -> 1.92
A26: 268 | B26: 16 | E26: =SUM(B26:D26) -> 16 | H26: =SUM(E26+G26) -> 16 | K26: =SUM(0.64*H26) -> 10.24
A27: 270 | E27: =SUM(B27:D27) -> 0 | H27: =SUM(E27+G27) -> 0 | K27: =SUM(0.64*H27) -> 0
A28: 273 | E28: =SUM(B28:D28) -> 0 | H28: =SUM(E28+G28) -> 0 | K28: =SUM(0.64*H28) -> 0
A29: 274 | E29: =SUM(B29:D29) -> 0 | H29: =SUM(E29+G29) -> 0 | K29: =SUM(0.64*H29) -> 0
A30: 280 | B30: 16 | C30: 3 | D30: 1 | E30: =SUM(B30:D30) -> 20 | H30: =SUM(E30+G30) -> 20 | K30: =SUM(0.64*H30) -> 12.8
A31: 282 | B31: 2 | D31: 4 | E31: =SUM(B31:D31) -> 6 | H31: =SUM(E31+G31) -> 6 | K31: =SUM(0.37*H31) -> 2.22
A32: 283 | B32: 6 | D32: 6 | E32: =SUM(B32:D32) -> 12 | H32: =SUM(E32+G32) -> 12 | K32: =SUM(0.64*H32) -> 7.68
A33: 333 | B33: 80 | C33: 44 | D33: 51 | E33: =SUM(B33:D33) -> 175 | H33: =SUM(E33+G33) -> 175 | K33: =SUM(0.64*H33) -> 112
A34: 417 | B34: 30 | C34: 5 | D34: 1 | E34: =SUM(B34:D34) -> 36 | H34: =SUM(E34+G34) -> 36 | K34: =SUM(0.37*H34) -> 13.32
A35: 437 | E35: =SUM(B35:D35) -> 0 | H35: =SUM(E35+G35) -> 0 | K35: =SUM(0.64*H35) -> 0
A36: 438 | B36: 1 | D36: 2 | E36: =SUM(B36:D36) -> 3 | H36: =SUM(E36+G36) -> 3 | K36: =SUM(0.64*H36) -> 1.92
A37: 440 | B37: 26 | C37: 1 | D37: 1 | E37: =SUM(B37:D37) -> 28 | H37: =SUM(E37+G37) -> 28 | K37: =SUM(0.64*H37) -> 17.92
A38: 441 | B38: 3 | D38: 2 | E38: =SUM(B38:D38) -> 5 | H38: =SUM(E38+G38) -> 5 | K38: =SUM(0.64*H38) -> 3.2
A39: 448 | B39: 1 | C39: 1 | E39: =SUM(B39:D39) -> 2 | H39: =SUM(E39+G39) -> 2 | K39: =SUM(0.64*H39) -> 1.28
A40: 555 | B40: 36 | C40: 15 | D40: 27 | E40: =SUM(B40:D40) -> 78 | H40: =SUM(E40+G40) -> 78 | K40: =SUM(0.63*H40) -> 49.14
...

Sheet 1-15-2020
A1: JAN. 2020 | B1: Regular Mail | C1: Brown Mail | D1: Certified Mail | E1: TOTAL MAIL | G1: MPS Processed | H1: GRAND TOTAL | K1: Revenue
A2: 8 | E2: =SUM(B2:D2) -> 0 | G2: 7586 | H2: =SUM(E2+G2) -> 7586 | K2: =SUM(0.15*H2) -> 1137.9
A3: 10 | E3: =SUM(B3:D3) -> 0 | G3: 117 | H3: =SUM(E3+G3) -> 117 | K3: =SUM(0.15*H3) -> 17.55
A4: 11 | D4: 2 | E4: =SUM(B4:D4) -> 2 | G4: 663 | H4: =SUM(E4+G4) -> 665 | K4: =SUM(0.15*H4) -> 99.75
A5: 46 | C5: 2 | D5: 42 | E5: =SUM(B5:D5) -> 44 | G5: 629 | H5: =SUM(E5+G5) -> 673 | K5: =SUM(0.64*H5) -> 430.72
A6: 59 | D6: 1 | E6: =SUM(B6:D6) -> 1 | G6: 120 | H6: =SUM(E6+G6) -> 121 | K6: =SUM(0.37*H6) -> 44.77
A7: 111 | B7: 45 | C7: 17 | D7: 12 | E7: =SUM(B7:D7) -> 74 | H7: =SUM(E7+G7) -> 74 | K7: =SUM(0.63*H7) -> 46.62
A8: 140 | E8: =SUM(B8:D8) -> 0 | G8: 60 | H8: =SUM(E8+G8) -> 60 | K8: =SUM(0.15*H8) -> 9
A9: 188 | C9: 1 | E9: =SUM(B9:D9) -> 1 | H9: =SUM(E9+G9) -> 1 | K9: =SUM(0.63*H9) -> 0.63
A10: 191 | E10: =SUM(B10:D10) -> 0 | H10: =SUM(E10+G10) -> 0 | K10: =SUM(0.64*H10) -> 0
A11: 192 | B11: 2 | E11: =SUM(B11:D11) -> 2 | H11: =SUM(E11+G11) -> 2 | K11: =SUM(0.64*H11) -> 1.28
A12: 193 | B12: 22 | C12: 1 | D12: 1 | E12: =SUM(B12:D12) -> 24 | H12: =SUM(E12+G12) -> 24 | K12: =SUM(0.37*H12) -> 8.88
A13: 194 | B13: 3 | C13: 7 | D13: 7 | E13: =SUM(B13:D13) -> 17 | H13: =SUM(E13+G13) -> 17 | K13: =SUM(0.6*H13) -> 10.2
A14: 197 | E14: =SUM(B14:D14) -> 0 | H14: =SUM(E14+G14) -> 0 | K14: =SUM(0.64*H14) -> 0
A15: 199 | B15: 9 | D15: 1 | E15: =SUM(B15:D15) -> 10 | H15: =SUM(E15+G15) -> 10 | K15: =SUM(0.64*H15) -> 6.4
A16: 222 | B16: 9754 | C16: 9 | D16: 1378 | E16: =SUM(B16:D16) -> 11141 | G16: 1752 | H16: =SUM(E16+G16) -> 12893 | K16: =SUM(0.37*H16) -> 4770.41
A17: 241 | B17: 100 | C17: 4 | D17: 13 | E17: =SUM(B17:D17) -> 117 | H17: =SUM(E17+G17) -> 117 | K17: =SUM(0.37*H17) -> 43.29
A18: 242 | B18: 5 | E18: =SUM(B18:D18) -> 5 | H18: =SUM(E18+G18) -> 5 | K18: =SUM(0.37*H18) -> 1.85
A19: 244 | B19: 18 | C19: 9 | D19: 7 | E19: =SUM(B19:D19) -> 34 | H19: =SUM(E19+G19) -> 34 | K19: =SUM(0.15*H19) -> 5.1
A20: 248 | B20: 155 | C20: 67 | D20: 14 | E20: =SUM(B20:D20) -> 236 | H20: =SUM(E20+G20) -> 236 | K20: =SUM(0.37*H20) -> 87.32
A21: 252 | B21: 76 | C21: 1 | D21: 23 | E21: =SUM(B21:D21) -> 100 | H21: =SUM(E21+G21) -> 100 | K21: =SUM(0.37*H21) -> 37
A22: 255 | D22: 2 | E22: =SUM(B22:D22) -> 2 | H22: =SUM(E22+G22) -> 2 | K22: =SUM(0.64*H22) -> 1.28
A23: 257 | B23: 107 | D23: 13 | E23: =SUM(B23:D23) -> 120 | H23: =SUM(E23+G23) -> 120 | K23: =SUM(0.37*H23) -> 44.4
A24: 260 | B24: 1 | C24: 1 | D24: 3 | E24: =SUM(B24:D24) -> 5 | H24: =SUM(E24+G24) -> 5 | K24: =SUM(0.64*H24) -> 3.2
A25: 265 | B25: 8 | D25: 1 | E25: =SUM(B25:D25) -> 9 | H25: =SUM(E25+G25) -> 9 | K25: =SUM(0.64*H25) -> 5.76
A26: 268 | D26: 1 | E26: =SUM(B26:D26) -> 1 | H26: =SUM(E26+G26) -> 1 | K26: =SUM(0.64*H26) -> 0.64
A27: 270 | E27: =SUM(B27:D27) -> 0 | H27: =SUM(E27+G27) -> 0 | K27: =SUM(0.64*H27) -> 0
A28: 273 | D28: 1 | E28: =SUM(B28:D28) -> 1 | H28: =SUM(E28+G28) -> 1 | K28: =SUM(0.64*H28) -> 0.64
A29: 274 | B29: 6 | E29: =SUM(B29:D29) -> 6 | H29: =SUM(E29+G29) -> 6 | K29: =SUM(0.64*H29) -> 3.84
A30: 280 | D30: 1 | E30: =SUM(B30:D30) -> 1 | H30: =SUM(E30+G30) -> 1 | K30: =SUM(0.64*H30) -> 0.64
A31: 282 | B31: 12 | D31: 6 | E31: =SUM(B31:D31) -> 18 | H31: =SUM(E31+G31) -> 18 | K31: =SUM(0.37*H31) -> 6.66
A32: 283 | B32: 1 | C32: 1 | D32: 3 | E32: =SUM(B32:D32) -> 5 | H32: =SUM(E32+G32) -> 5 | K32: =SUM(0.64*H32) -> 3.2
A33: 333 | B33: 814 | C33: 128 | D33: 38 | E33: =SUM(B33:D33) -> 980 | H33: =SUM(E33+G33) -> 980 | K33: =SUM(0.64*H33) -> 627.2
A34: 417 | B34: 140 | C34: 1 | D34: 4 | E34: =SUM(B34:D34) -> 145 | H34: =SUM(E34+G34) -> 145 | K34: =SUM(0.37*H34) -> 53.65
A35: 437 | B35: 2 | E35: =SUM(B35:D35) -> 2 | H35: =SUM(E35+G35) -> 2 | K35: =SUM(0.64*H35) -> 1.28
A36: 438 | B36: 1 | D36: 1 | E36: =SUM(B36:D36) -> 2 | H36: =SUM(E36+G36) -> 2 | K36: =SUM(0.64*H36) -> 1.28
A37: 440 | B37: 2 | D37: 1 | E37: =SUM(B37:D37) -> 3 | H37: =SUM(E37+G37) -> 3 | K37: =SUM(0.64*H37) -> 1.92
A38: 441 | E38: =SUM(B38:D38) -> 0 | H38: =SUM(E38+G38) -> 0 | K38: =SUM(0.64*H38) -> 0
A39: 448 | B39: 2 | E39: =SUM(B39:D39) -> 2 | H39: =SUM(E39+G39) -> 2 | K39: =SUM(0.64*H39) -> 1.28
A40: 555 | B40: 133 | C40: 34 | D40: 40 | E40: =SUM(B40:D40) -> 207 | H40: =SUM(E40+G40) -> 207 | K40: =SUM(0.63*H40) -> 130.41
...

Sheet 1-16-2020
A1: JAN. 2020 | B1: Regular Mail | C1: Brown Mail | D1: Certified Mail | E1: TOTAL MAIL | G1: MPS Processed | H1: GRAND TOTAL | K1: Revenue
A2: 8 | E2: =SUM(B2:D2) -> 0 | G2: 5892 | H2: =SUM(E2+G2) -> 5892 | K2: =SUM(0.15*H2) -> 883.8
A3: 10 | E3: =SUM(B3:D3) -> 0 | G3: 97 | H3: =SUM(E3+G3) -> 97 | K3: =SUM(0.15*H3) -> 14.55
A4: 11 | D4: 5 | E4: =SUM(B4:D4) -> 5 | G4: 477 | H4: =SUM(E4+G4) -> 482 | K4: =SUM(0.15*H4) -> 72.3
A5: 46 | C5: 8 | D5: 68 | E5: =SUM(B5:D5) -> 76 | G5: 455 | H5: =SUM(E5+G5) -> 531 | K5: =SUM(0.64*H5) -> 339.84
A6: 59 | D6: 8 | E6: =SUM(B6:D6) -> 8 | G6: 142 | H6: =SUM(E6+G6) -> 150 | K6: =SUM(0.37*H6) -> 55.5
A7: 111 | B7: 53 | C7: 20 | D7: 23 | E7: =SUM(B7:D7) -> 96 | H7: =SUM(E7+G7) -> 96 | K7: =SUM(0.63*H7) -> 60.48
A8: 140 | E8: =SUM(B8:D8) -> 0 | G8: 36 | H8: =SUM(E8+G8) -> 36 | K8: =SUM(0.15*H8) -> 5.4
A9: 188 | B9: 2 | D9: 6 | E9: =SUM(B9:D9) -> 8 | H9: =SUM(E9+G9) -> 8 | K9: =SUM(0.63*H9) -> 5.04
A10: 191 | B10: 1 | E10: =SUM(B10:D10) -> 1 | H10: =SUM(E10+G10) -> 1 | K10: =SUM(0.64*H10) -> 0.64
A11: 192 | E11: =SUM(B11:D11) -> 0 | H11: =SUM(E11+G11) -> 0 | K11: =SUM(0.64*H11) -> 0
A12: 193 | B12: 17 | D12: 4 | E12: =SUM(B12:D12) -> 21 | H12: =SUM(E12+G12) -> 21 | K12: =SUM(0.37*H12) -> 7.77
A13: 194 | B13: 2 | D13: 4 | E13: =SUM(B13:D13) -> 6 | H13: =SUM(E13+G13) -> 6 | K13: =SUM(0.6*H13) -> 3.6
A14: 197 | E14: =SUM(B14:D14) -> 0 | H14: =SUM(E14+G14) -> 0 | K14: =SUM(0.64*H14) -> 0
A15: 199 | B15: 23 | E15: =SUM(B15:D15) -> 23 | H15: =SUM(E15+G15) -> 23 | K15: =SUM(0.64*H15) -> 14.72
A16: 222 | B16: 8898 | C16: 11 | E16: =SUM(B16:D16) -> 8909 | G16: 1851 | H16: =SUM(E16+G16) -> 10760 | K16: =SUM(0.37*H16) -> 3981.2
A17: 241 | B17: 32 | C17: 10 | E17: =SUM(B17:D17) -> 42 | H17: =SUM(E17+G17) -> 42 | K17: =SUM(0.37*H17) -> 15.54
A18: 242 | B18: 9 | E18: =SUM(B18:D18) -> 9 | H18: =SUM(E18+G18) -> 9 | K18: =SUM(0.37*H18) -> 3.33
A19: 244 | B19: 18 | C19: 24 | E19: =SUM(B19:D19) -> 42 | H19: =SUM(E19+G19) -> 42 | K19: =SUM(0.15*H19) -> 6.3
A20: 248 | B20: 165 | C20: 91 | E20: =SUM(B20:D20) -> 256 | H20: =SUM(E20+G20) -> 256 | K20: =SUM(0.37*H20) -> 94.72
A21: 252 | B21: 102 | C21: 4 | E21: =SUM(B21:D21) -> 106 | H21: =SUM(E21+G21) -> 106 | K21: =SUM(0.37*H21) -> 39.22
A22: 255 | B22: 36 | E22: =SUM(B22:D22) -> 36 | H22: =SUM(E22+G22) -> 36 | K22: =SUM(0.64*H22) -> 23.04
A23: 257 | B23: 113 | C23: 1 | E23: =SUM(B23:D23) -> 114 | H23: =SUM(E23+G23) -> 114 | K23: =SUM(0.37*H23) -> 42.18
A24: 260 | B24: 3 | E24: =SUM(B24:D24) -> 3 | H24: =SUM(E24+G24) -> 3 | K24: =SUM(0.64*H24) -> 1.92
A25: 265 | B25: 15 | E25: =SUM(B25:D25) -> 15 | H25: =SUM(E25+G25) -> 15 | K25: =SUM(0.64*H25) -> 9.6
A26: 268 | B26: 18 | E26: =SUM(B26:D26) -> 18 | H26: =SUM(E26+G26) -> 18 | K26: =SUM(0.64*H26) -> 11.52
A27: 270 | B27: 2 | E27: =SUM(B27:D27) -> 2 | H27: =SUM(E27+G27) -> 2 | K27: =SUM(0.64*H27) -> 1.28
A28: 273 | E28: =SUM(B28:D28) -> 0 | H28: =SUM(E28+G28) -> 0 | K28: =SUM(0.64*H28) -> 0
A29: 274 | E29: =SUM(B29:D29) -> 0 | H29: =SUM(E29+G29) -> 0 | K29: =SUM(0.64*H29) -> 0
A30: 280 | B30: 13 | C30: 2 | E30: =SUM(B30:D30) -> 15 | H30: =SUM(E30+G30) -> 15 | K30: =SUM(0.64*H30) -> 9.6
A31: 282 | B31: 16 | C31: 1 | E31: =SUM(B31:D31) -> 17 | H31: =SUM(E31+G31) -> 17 | K31: =SUM(0.37*H31) -> 6.29
A32: 283 | B32: 6 | E32: =SUM(B32:D32) -> 6 | H32: =SUM(E32+G32) -> 6 | K32: =SUM(0.64*H32) -> 3.84
A33: 333 | B33: 900 | C33: 139 | E33: =SUM(B33:D33) -> 1039 | H33: =SUM(E33+G33) -> 1039 | K33: =SUM(0.64*H33) -> 664.96
A34: 417 | B34: 113 | C34: 4 | E34: =SUM(B34:D34) -> 117 | H34: =SUM(E34+G34) -> 117 | K34: =SUM(0.37*H34) -> 43.29
A35: 437 | B35: 2 | C35: 1 | E35: =SUM(B35:D35) -> 3 | H35: =SUM(E35+G35) -> 3 | K35: =SUM(0.64*H35) -> 1.92
A36: 438 | B36: 1 | C36: 1 | E36: =SUM(B36:D36) -> 2 | H36: =SUM(E36+G36) -> 2 | K36: =SUM(0.64*H36) -> 1.28
A37: 440 | B37: 36 | C37: 1 | E37: =SUM(B37:D37) -> 37 | H37: =SUM(E37+G37) -> 37 | K37: =SUM(0.64*H37) -> 23.68
A38: 441 | B38: 3 | E38: =SUM(B38:D38) -> 3 | H38: =SUM(E38+G38) -> 3 | K38: =SUM(0.64*H38) -> 1.92
A39: 448 | B39: 2 | C39: 1 | E39: =SUM(B39:D39) -> 3 | H39: =SUM(E39+G39) -> 3 | K39: =SUM(0.64*H39) -> 1.92
A40: 555 | B40: 93 | C40: 56 | E40: =SUM(B40:D40) -> 149 | H40: =SUM(E40+G40) -> 149 | K40: =SUM(0.63*H40) -> 93.87
...

Sheet 1-17-2020
A1: JAN. 2020 | B1: Regular Mail | C1: Brown Mail | D1: Certified Mail | E1: TOTAL MAIL | G1: MPS Processed | H1: GRAND TOTAL | K1: Revenue
A2: 8 | D2: 6 | E2: =SUM(B2:D2) -> 6 | G2: 5377 | H2: =SUM(E2+G2) -> 5383 | K2: =SUM(0.15*H2) -> 807.45
A3: 10 | E3: =SUM(B3:D3) -> 0 | G3: 68 | H3: =SUM(E3+G3) -> 68 | K3: =SUM(0.15*H3) -> 10.2
A4: 11 | E4: =SUM(B4:D4) -> 0 | G4: 438 | H4: =SUM(E4+G4) -> 438 | K4: =SUM(0.15*H4) -> 65.7
A5: 46 | C5: 9 | D5: 59 | E5: =SUM(B5:D5) -> 68 | G5: 352 | H5: =SUM(E5+G5) -> 420 | K5: =SUM(0.64*H5) -> 268.8
A6: 59 | D6: 4 | E6: =SUM(B6:D6) -> 4 | G6: 135 | H6: =SUM(E6+G6) -> 139 | K6: =SUM(0.37*H6) -> 51.43
A7: 111 | B7: 74 | C7: 17 | D7: 28 | E7: =SUM(B7:D7) -> 119 | H7: =SUM(E7+G7) -> 119 | K7: =SUM(0.63*H7) -> 74.97
A8: 140 | E8: =SUM(B8:D8) -> 0 | G8: 57 | H8: =SUM(E8+G8) -> 57 | K8: =SUM(0.15*H8) -> 8.55
A9: 188 | D9: 4 | E9: =SUM(B9:D9) -> 4 | H9: =SUM(E9+G9) -> 4 | K9: =SUM(0.63*H9) -> 2.52
A10: 191 | B10: 5 | E10: =SUM(B10:D10) -> 5 | H10: =SUM(E10+G10) -> 5 | K10: =SUM(0.64*H10) -> 3.2
A11: 192 | E11: =SUM(B11:D11) -> 0 | H11: =SUM(E11+G11) -> 0 | K11: =SUM(0.64*H11) -> 0
A12: 193 | B12: 18 | C12: 2 | D12: 9 | E12: =SUM(B12:D12) -> 29 | H12: =SUM(E12+G12) -> 29 | K12: =SUM(0.37*H12) -> 10.73
A13: 194 | C13: 5 | D13: 7 | E13: =SUM(B13:D13) -> 12 | H13: =SUM(E13+G13) -> 12 | K13: =SUM(0.6*H13) -> 7.2
A14: 197 | E14: =SUM(B14:D14) -> 0 | H14: =SUM(E14+G14) -> 0 | K14: =SUM(0.64*H14) -> 0
A15: 199 | B15: 15 | D15: 1 | E15: =SUM(B15:D15) -> 16 | H15: =SUM(E15+G15) -> 16 | K15: =SUM(0.64*H15) -> 10.24
A16: 222 | B16: 9835 | C16: 19 | D16: 2536 | E16: =SUM(B16:D16) -> 12390 | G16: 1815 | H16: =SUM(E16+G16) -> 14205 | K16: =SUM(0.37*H16) -> 5255.85
A17: 241 | B17: 37 | C17: 21 | D17: 23 | E17: =SUM(B17:D17) -> 81 | H17: =SUM(E17+G17) -> 81 | K17: =SUM(0.37*H17) -> 29.97
A18: 242 | B18: 5 | E18: =SUM(B18:D18) -> 5 | H18: =SUM(E18+G18) -> 5 | K18: =SUM(0.37*H18) -> 1.85
A19: 244 | B19: 14 | C19: 13 | D19: 17 | E19: =SUM(B19:D19) -> 44 | H19: =SUM(E19+G19) -> 44 | K19: =SUM(0.15*H19) -> 6.6
A20: 248 | B20: 256 | C20: 144 | D20: 51 | E20: =SUM(B20:D20) -> 451 | H20: =SUM(E20+G20) -> 451 | K20: =SUM(0.37*H20) -> 166.87
A21: 252 | B21: 64 | C21: 2 | D21: 28 | E21: =SUM(B21:D21) -> 94 | H21: =SUM(E21+G21) -> 94 | K21: =SUM(0.37*H21) -> 34.78
A22: 255 | E22: =SUM(B22:D22) -> 0 | H22: =SUM(E22+G22) -> 0 | K22: =SUM(0.64*H22) -> 0
A23: 257 | B23: 93 | C23: 1 | D23: 12 | E23: =SUM(B23:D23) -> 106 | H23: =SUM(E23+G23) -> 106 | K23: =SUM(0.37*H23) -> 39.22
A24: 260 | B24: 8 | D24: 2 | E24: =SUM(B24:D24) -> 10 | H24: =SUM(E24+G24) -> 10 | K24: =SUM(0.64*H24) -> 6.4
A25: 265 | B25: 9 | D25: 6 | E25: =SUM(B25:D25) -> 15 | H25: =SUM(E25+G25) -> 15 | K25: =SUM(0.64*H25) -> 9.6
A26: 268 | B26: 21 | E26: =SUM(B26:D26) -> 21 | H26: =SUM(E26+G26) -> 21 | K26: =SUM(0.64*H26) -> 13.44
A27: 270 | E27: =SUM(B27:D27) -> 0 | H27: =SUM(E27+G27) -> 0 | K27: =SUM(0.64*H27) -> 0
A28: 273 | B28: 1 | D28: 1 | E28: =SUM(B28:D28) -> 2 | H28: =SUM(E28+G28) -> 2 | K28: =SUM(0.64*H28) -> 1.28
A29: 274 | B29: 7 | E29: =SUM(B29:D29) -> 7 | H29: =SUM(E29+G29) -> 7 | K29: =SUM(0.64*H29) -> 4.48
A30: 280 | B30: 11 | C30: 2 | D30: 4 | E30: =SUM(B30:D30) -> 17 | H30: =SUM(E30+G30) -> 17 | K30: =SUM(0.64*H30) -> 10.88
A31: 282 | B31: 24 | D31: 16 | E31: =SUM(B31:D31) -> 40 | H31: =SUM(E31+G31) -> 40 | K31: =SUM(0.37*H31) -> 14.8
A32: 283 | B32: 6 | D32: 14 | E32: =SUM(B32:D32) -> 20 | H32: =SUM(E32+G32) -> 20 | K32: =SUM(0.64*H32) -> 12.8
A33: 333 | B33: 814 | C33: 196 | D33: 97 | E33: =SUM(B33:D33) -> 1107 | H33: =SUM(E33+G33) -> 1107 | K33: =SUM(0.64*H33) -> 708.48
A34: 417 | B34: 121 | C34: 1 | D34: 6 | E34: =SUM(B34:D34) -> 128 | H34: =SUM(E34+G34) -> 128 | K34: =SUM(0.37*H34) -> 47.36
A35: 437 | B35: 1 | D35: 1 | E35: =SUM(B35:D35) -> 2 | H35: =SUM(E35+G35) -> 2 | K35: =SUM(0.64*H35) -> 1.28
