Workbook

Sheet Year 1
A1: New Jersey Behavioral Risk Factor Survey, NJDOH
A3: Refer to Bid Solicitation Section 3.0 for task requirements and deliverables &
A4: Bid Solicitation Section 2.1 for definitions of "All Inclusive Hourly Rate" and "Firm Fixed Price" | E4: .
A6: Vendor {Bidder}: | B6: ABC Corp. | D6: Price Schedule
A8: Item | B8: Task/Deliverable | C8: Estimated Annual Quantity | D8: Unit | F8: Unit Price Year 1 | G8: Total Price Year 1
A9: 1 | B9: Completed Interview - Landline (English) See Section 3.3 of the Bid Solicitation. | C9: 4752 | D9: Each | E9: Required | F9: 0 | G9: =C9*F9 -> 0
A10: 2 | B10: Completed Interview - Landline (Spanish) See Section 3.3 of the Bid Solicitation. | C10: 198 | D10: Each | E10: Required | F10: 0 | G10: =C10*F10 -> 0
A11: 3 | B11: Completed Interview - Cell Phone (English) See Scetion 3.3 of the Bid Solicitation. | C11: 5263 | D11: Each | E11: Required | F11: 0 | G11: =C11*F11 -> 0
A12: 4 | B12: Completed Interview - Cell Phone (Spanish) See Section 3.3 of the Bid Solicitation. | C12: 786.5 | D12: Each | E12: Required | F12: 0 | G12: =C12*F12 -> 0
A13: 5 | B13: New Jersey Asthma Call-back Survey - Landline See Section 3.8 of the Bid Solicitation. | C13: 346.5 | D13: Each | E13: Required | F13: 0 | G13: =C13*F13 -> 0
A14: 6 | B14: New Jersey Asthma Call-back Survey - Cell Phone See Section 3.8 of the Bid Solicitation. | C14: 423.5 | D14: Each | E14: Required | F14: 0 | G14: =C14*F14 -> 0
A15: 7 | B15: Emerging Issues Addendum - Landline (1-5 Questions) See Section 3.9 of the Bid Solicitation. | C15: 1282.5 | D15: Each | E15: Required | F15: 0 | G15: =C15*F15 -> 0
A16: 8 | B16: Emerging Issues Addendum - Cell Phone (1-5 Questions) See Section 3.9 of the Bid Solicitation. | C16: 1567.5 | D16: Each | E16: Required | F16: 0 | G16: =C16*F16 -> 0
B17: Total Annual Price - Year 1 | G17: =SUM(G9:G16) -> 0
A19: 1 Quantities are estimates only and not a guaranteed volume.
A20: 2 Price to be used to rank cost of proposal for evaluation.
A21: 3 Quota for cell phone interviews as a proportion of all interviews to be completed in Year 1: 55%

Sheet Year 2
A1: New Jersey Behavioral Risk Factor Survey, NJDOH
A3: Refer to Bid Solicitation Section 3.0 for task requirements and deliverables &
A4: Bid Solicitation Section 2.1 for definitions of "All Inclusive Hourly Rate" and "Firm Fixed Price"
A6: ='Year 1'!A6 -> Vendor {Bidder}: | B6: ='Year 1'!B6 -> ABC Corp. | D6: Price Schedule
A8: Item | B8: Task/Deliverable | C8: Estimated Annual Quantity | D8: Unit | F8: Unit Price Year 2 | G8: Total Price Year 2
A9: 9 | B9: Completed Interview - Landline (English) See Section 3.3 of the Bid Solicitation. | C9: 4224 | D9: Each | E9: Required | F9: 0 | G9: =C9*F9 -> 0
A10: 10 | B10: Completed Interview - Landline (Spanish) See Section 3.3 of the Bid Solicitation. | C10: 176 | D10: Each | E10: Required | F10: 0 | G10: =C10*F10 -> 0
A11: 11 | B11: Completed Interview - Cell Phone (English) See Scetion 3.3 of the Bid Solicitation. | C11: 5742 | D11: Each | E11: Required | F11: 0 | G11: =C11*F11 -> 0
A12: 12 | B12: Completed Interview - Cell Phone (Spanish) See Section 3.3 of the Bid Solicitation. | C12: 858 | D12: Each | E12: Required | F12: 0 | G12: =C12*F12 -> 0
A13: 13 | B13: New Jersey Asthma Call-back Survey - Landline See Section 3.8 of the Bid Solicitation. | C13: 308 | D13: Each | E13: Required | F13: 0 | G13: =C13*F13 -> 0
A14: 14 | B14: New Jersey Asthma Call-back Survey - Cell Phone See Section 3.8 of the Bid Solicitation. | C14: 462 | D14: Each | E14: Required | F14: 0 | G14: =C14*F14 -> 0
A15: 15 | B15: Emerging Issues Addendum - Landline (1-5 Questions) See Section 3.9 of the Bid Solicitation. | C15: 1140 | D15: Each | E15: Required | F15: 0 | G15: =C15*F15 -> 0
A16: 16 | B16: Emerging Issues Addendum - Cell Phone (1-5 Questions) See Section 3.9 of the Bid Solicitation. | C16: 1710 | D16: Each | E16: Required | F16: 0 | G16: =C16*F16 -> 0
B17: Total Annual Price - Year 2 | G17: =SUM(G9:G16) -> 0
A19: 1 Quantities are estimates only and not a guaranteed volume.
A20: 2 Price to be used to rank cost of proposal for evaluation.
A21: 3 Quota for cell phone interviews as a proportion of all interviews to be completed in Year 2: 60%

Sheet Year 3
A1: New Jersey Behavioral Risk Factor Survey, NJDOH
A3: Refer to Bid Solicitation Section 3.0 for task requirements and deliverables &
A4: Bid Solicitation Section 2.1 for definitions of "All Inclusive Hourly Rate" and "Firm Fixed Price"
A6: ='Year 1'!A6 -> Vendor {Bidder}: | B6: ='Year 1'!B6 -> ABC Corp. | D6: Price Schedule
A8: Item | B8: Task/Deliverable | C8: Estimated Annual Quantity | D8: Unit | F8: Unit Price Year 3 | G8: Total Price Year 3
A9: 17 | B9: Completed Interview - Landline (English) See Section 3.3 of the Bid Solicitation. | C9: 3696 | D9: Each | E9: Required | F9: 0 | G9: =C9*F9 -> 0
A10: 18 | B10: Completed Interview - Landline (Spanish) See Section 3.3 of the Bid Solicitation. | C10: 154 | D10: Each | E10: Required | F10: 0 | G10: =C10*F10 -> 0
A11: 19 | B11: Completed Interview - Cell Phone (English) See Scetion 3.3 of the Bid Solicitation. | C11: 6220 | D11: Each | E11: Required | F11: 0 | G11: =C11*F11 -> 0
A12: 20 | B12: Completed Interview - Cell Phone (Spanish) See Section 3.3 of the Bid Solicitation. | C12: 929.5 | D12: Each | E12: Required | F12: 0 | G12: =C12*F12 -> 0
A13: 21 | B13: New Jersey Asthma Call-back Survey - Landline See Section 3.8 of the Bid Solicitation. | C13: 269.5 | D13: Each | E13: Required | F13: 0 | G13: =C13*F13 -> 0
A14: 22 | B14: New Jersey Asthma Call-back Survey - Cell Phone See Section 3.8 of the Bid Solicitation. | C14: 500.5 | D14: Each | E14: Required | F14: 0 | G14: =C14*F14 -> 0
A15: 23 | B15: Emerging Issues Addendum - Landline (1-5 Questions) See Section 3.9 of the Bid Solicitation. | C15: 997.5 | D15: Each | E15: Required | F15: 0 | G15: =C15*F15 -> 0
A16: 24 | B16: Emerging Issues Addendum - Cell Phone (1-5 Questions) See Section 3.9 of the Bid Solicitation. | C16: 1852.5 | D16: Each | E16: Required | F16: 0 | G16: =C16*F16 -> 0
B17: Total Annual Prices - Year 3 | G17: =SUM(G9:G16) -> 0
A19: 1 Estimated quantities are estimates only and not a guaranteed volume.
A20: 2 Price to be used to rank cost of proposal for evaluation.
A21: 3 Quota for cell phone interviews as a proportion of all interviews to be completed in Year 3: 65%

Sheet Summary
A1: New Jersey Behavioral Risk Factor Survey, NJDOH
A3: Refer to Bid Solicitation Section 3.0 for task requirements and deliverables &
A4: Bid Solicitation Section 2.1 for definitions of "All Inclusive Hourly Rate" and "Firm Fixed Price" | E4: DO NOT MANUALLY INPUT ANY NUMBERS, TOTALS WILL POPULATE !!!
F5: This tab is for DPP Use Only.
A6: ='Year 1'!A6 -> Vendor {Bidder}: | B6: ='Year 1'!B6 -> ABC Corp. | D6: Price Schedule
A8: Items | B8: Task/Deliverable | C8: Estimated Total Quantity | D8: Unit | F8: Total Price Year 1 | G8: Total Price Year 2 | H8: Total Price Year 3 | I8: Total Price Years 1 - 3
A9: 1,9,17 | B9: Completed Interview - Landline (English) See Section 3.3 of the Bid Solicitation. | C9: ='Year 1'!C9+'Year 2'!C9+'Year 3'!C9 -> 12672 | D9: Each | F9: ='Year 1'!G9 -> 0 | G9: ='Year 2'!G9 -> 0 | H9: ='Year 3'!G9 -> 0 | I9: =SUM(F9:H9) -> 0
A10: 2,10,18 | B10: Completed Interview - Landline (Spanish) See Section 3.3 of the Bid Solicitation. | C10: ='Year 1'!C10+'Year 2'!C10+'Year 3'!C10 -> 528 | D10: Each | F10: ='Year 1'!G10 -> 0 | G10: ='Year 2'!G10 -> 0 | H10: ='Year 3'!G10 -> 0 | I10: =SUM(F10:H10) -> 0
A11: 3,11,19 | B11: Completed Interview - Cell Phone (English) See Scetion 3.3 of the Bid Solicitation. | C11: ='Year 1'!C11+'Year 2'!C11+'Year 3'!C11 -> 17225 | D11: Each | F11: ='Year 1'!G11 -> 0 | G11: ='Year 2'!G11 -> 0 | H11: ='Year 3'!G11 -> 0 | I11: =SUM(F11:H11) -> 0
A12: 4,12,20 | B12: Completed Interview - Cell Phone (Spanish) See Section 3.3 of the Bid Solicitation. | C12: ='Year 1'!C12+'Year 2'!C12+'Year 3'!C12 -> 2574 | D12: Each | F12: ='Year 1'!G12 -> 0 | G12: ='Year 2'!G12 -> 0 | H12: ='Year 3'!G12 -> 0 | I12: =SUM(F12:H12) -> 0
A13: 5,13,21 | B13: New Jersey Asthma Call-back Survey - Landline See Section 3.8 of the Bid Solicitation. | C13: ='Year 1'!C13+'Year 2'!C13+'Year 3'!C13 -> 924 | D13: Each | F13: ='Year 1'!G13 -> 0 | G13: ='Year 2'!G13 -> 0 | H13: ='Year 3'!G13 -> 0 | I13: =SUM(F13:H13) -> 0
A14: 6,14,22 | B14: New Jersey Asthma Call-back Survey - Cell Phone See Section 3.8 of the Bid Solicitation. | C14: ='Year 1'!C14+'Year 2'!C14+'Year 3'!C14 -> 1386 | D14: Each | F14: ='Year 1'!G14 -> 0 | G14: ='Year 2'!G14 -> 0 | H14: ='Year 3'!G14 -> 0 | I14: =SUM(F14:H14) -> 0
A15: 7,15,23 | B15: Emerging Issues Addendum - Landline (1-5 Questions) See Section 3.9 of the Bid Solicitation. | C15: ='Year 1'!C15+'Year 2'!C15+'Year 3'!C15 -> 3420 | D15: Each | F15: ='Year 1'!G15 -> 0 | G15: ='Year 2'!G15 -> 0 | H15: ='Year 3'!G15 -> 0 | I15: =SUM(F15:H15) -> 0
A16: 8,16,24 | B16: Emerging Issues Addendum - Cell Phone (1-5 Questions) See Section 3.9 of the Bid Solicitation. | C16: ='Year 1'!C16+'Year 2'!C16+'Year 3'!C16 -> 5130 | D16: Each | F16: ='Year 1'!G16 -> 0 | G16: ='Year 2'!G16 -> 0 | H16: ='Year 3'!G16 -> 0 | I16: =SUM(F16:H16) -> 0
B17: Total Cumulative Prices - Year 1 - 3 | F17: ='Year 1'!G17 -> 0 | G17: ='Year 2'!G17 -> 0 | H17: ='Year 3'!G17 -> 0 | I17: =SUM(I9:I16) -> 0
A19: 1 Quantities are estimates only and not a guaranteed volume. | E19: DO NOT MANUALLY INPUT ANY NUMBERS, TOTALS WILL POPULATE !!!
A20: 2 Price to be used to rank cost of proposal for evaluation.
