Workbook

Sheet county
A1: Adams
A2: Alexander
A3: Bond
A4: Boone
A5: Brown
A6: Bureau
A7: Calhoun
A8: Carroll
A9: Cass
A10: Champaign
A11: Christian
A12: Clark
... A102: Woodford

Sheet Instructions
A1: Vendor Name | F1: Counties with Identical Pricing
A2: POC Name
A3: Vendor Mailing Address
A4: Please select County (drop down)
A6: Tabs:
A7: Instructions
A8: Outbound Long Distance Pricing
A9: Inbound Toll-free Pricing
A10: International Pricing
A11: Dedicated Voice Access Pricing
A12: POTS like service
A13: Related Professional Services
A14: SIP services
... A31: A. The State is seeking a single Vendor who can provide the full scope of the Voice Services across the State.
A33: B. The total number of points for Price is 500: | C33: Total for each tab reference below
A34: 34B through 45B will be tabulated | B34: Outbound Long Distance Pricing | C34: =SUM('Outbound Long Distance Pricing'!G63) -> 0
A35: individual price on tabs | B35: Inbound Toll-free Pricing | C35: =SUM('Inbound Toll-Free Pricing '!J22) -> 0
B36: International Pricing | C36: =SUM('International Pricing'!R20) -> 0
A37: overall price = | B37: Dedicated Voice Access Pricing | C37: =SUM('Dedicated Voice Access Pricing'!G13) -> 0
A38: max points X (lowest price / offerer price) | B38: POTS like service | C38: =SUM('POTS-Like Service'!G33) -> 0
B39: Related Professional Services | C39: =SUM('Related Professional Services'!F20) -> 0
A40: 500 * (500 / 500) = 500 (lowest price) (overall price) | B40: SIP | C40: =SUM('SIP Services'!F30) -> 0
A41: 500 * (500 / 700) = 357 (highest price) (overall price) | B41: Hosted Voice | C41: =SUM('Hosted Voice'!F32) -> 0
B42: Advanced Toll Free | C42: =SUM('Hosted Voice'!F31) -> 0
B43: Overall Price | C43: =SUM(C32:C41) -> 0
A48: add optional services to each tab with reference to the
A49: specific tab's "bucket" and not to exceed the service
A50: type that is being asked for
A51: Optional is unevaulated for pricing

Sheet Assumptions
A1: Assumptions
A3: Number | B3: RFP or Attachment Section | C3: Subject | D3: Assumption

Sheet Outbound Long Distance Pricing
A1: Outbound Long Distance Pricing
A2: Offerors must enter Pricing for all required line items marked in green.
A3: Instructions:
A4: 1. Vendors are to provide cost per minute (CPM), monthly recurring (MRC) and non-recurring (NRC) costs in the appropriate columns for the call types listed.
A5: 2. Provide the non-recurring (NRC) and monthly recurring (MRC) costs for all call types bid. Where NRC values are requested, Vendor's NRC cost is to be placed in column labeled "NRC" (column D of 2nd table in Option 1 below) . In column E of the 2nd table of Option 1, provide the applicable NRC costs that you would charge the State for this particular circuit type. If NRC doesn't apply, insert $0 in column E. The value in the Applicable NRC column will be used to calculate the Effective Monthly Cost.
A6: 3. Two options are provided: Option 1 utilizes Dedicated Circuits for outbound long distance services and Option 2 represents Switched long distance services.
A7: 4. Vendors may respond to Option 1 only, Option 2 only or both Options 1 and 2. Both options will be weighted equally.
A8: 5. Indicate "NB" for call types not being bid.
A9: 6. Current traffic figures are expressed as Monthly Minutes.
A10: 7. All rates should be fixed, regardless of time of day.
A11: 8. If FUSF charges will be applied, include the applicable charges in the rates provided in this worksheet. Use the 2nd Quarter 2026 FUSF rate (or portion of the rate, if applicable).
A12: 9. Vendor may provide notes or explanations in the Vendor Notes section.
A16: Monthly IntraState Minutes | B16: =SUM(D26:D32) -> 3778107.9
A17: Monthly InterState Minutes | B17: =SUM(D34:D40) -> 760620.4
A19: NOTE: Volumes do not include minutes from Universities.
A21: Vendor Response:
A23: Option 1: (Utilizes Dedicated Access Circuits)
A24: Call Type | D24: Monthly Minutes | E24: Cost per Minute (CPM) ($) | F24: Effective Total Monthly Cost
A25: IntraState IntraLATA
B26: Switched-Switched | D26: 258704.9 | F26: =D26*E26 -> 0
B27: Dedicated-Dedicated | D27: 150.9 | F27: =D27*E27 -> 0
B28: Switched-Dedicated | D28: 131350.8 | F28: =D28*E28 -> 0
A29: IntraState InterLATA
B30: Switched-Switched | D30: 1068000.2 | F30: =D30*E30 -> 0
B31: Dedicated-Dedicated | D31: 477731.2 | F31: =D31*E31 -> 0
B32: Switched-Dedicated | D32: 1842169.9 | F32: =D32*E32 -> 0
A33: InterState InterLATA
B34: Switched-Switched | D34: 290029.3 | F34: =D34*E34 -> 0
B35: Dedicated-Dedicated | D35: 148.4 | F35: =D35*E35 -> 0
B36: Switched-Dedicated | D36: 429344.2 | F36: =D36*E36 -> 0
A37: InterState IntraLATA
B38: Switched-Switched | D38: 1703.7 | F38: =D38*E38 -> 0
B39: Dedicated-Dedicated | D39: 0 | F39: =D39*E39 -> 0
B40: Switched-Dedicated | D40: 39394.8 | F40: =D40*E40 -> 0
B41: TOTAL: | D41: =SUM(D26:D40) -> 4538728.3 | F41: =SUM(F26:F40) -> 0
A44: Circuit Speed | B44: # of Circuits | D44: MRC ($/Line) | E44: NRC ($/Line) | F44: Applicable NRC ($/Line) | G44: Effective Monthly MRC * Lines + (NRC/60)
A45: T1 - Outbound Toll-Free | B45: 29 | G45: =D45*B45+(F45/60) -> 0
A46: T3 - Outbound / Inbound | B46: 1 | G46: =D46*B46+(F46/60) -> 0
A47: T3 to T1 Multiplex equipment | B47: 1 | G47: =D47*B47+(F47/60) -> 0
D48: =SUM(D45:D46) -> 0 | F48: =SUM(F45:F46) -> 0 | G48: =SUM(G45:G47) -> 0
...

Sheet Inbound Toll-Free Pricing 
A1: Inbound Toll-free Pricing
A2: Offerors must enter Pricing for all required line items marked in green.
A4: Instructions:
A5: 1. The State currently provides inbound toll-free (8XX) service throughout the State Agencies, universities and colleges. The State has approximately 123 dedicated T1s/PRIs for its use in providing inbound toll-free service; universities and colleges have additional dedicated and switched facilities.
A6: 2. Vendors are to provide cost per minute (CPM), monthly recurring (MRC) and non-recurring (NRC) costs in the appropriate columns for the call types listed.
A7: 3. Provide the non-recurring (NRC) and monthly recurring (MRC) costs for all call types bid. Where NRC values are requested, Vendor's NRC cost is to be placed in column labeled "NRC" (column D of 2nd table in Option 1 below) . In column E of the 2nd table of Option 1, provide the applicable NRC costs that you would charge the State for this particular circuit type. If NRC doesn't apply, insert $0 in column E. The value in the Applicable NRC column will be used to calculate the Effective Monthly Cost.
A8: 4. Two options are provided: Option 1 utilizes Dedicated Circuits for outbound long distance services and Option 2 represents Switched long distance services.
A9: 5. Vendors may respond to Option 1 only, Option 2 only or both Options 1 and 2.
A10: 6. Indicate "NB" for call types not being bid.
A11: 7. Current traffic figures are expressed as Monthly Minutes.
A12: 8. All rates should be fixed, regardless of time of day.
A13: 9. If FUSF charges will be applied, include the applicable charges in the rates provided in this worksheet. Use the 1st quarter 2020 FUSF rate (or portion of the rate, if applicable).
A14: 10. Vendor may provide notes or explanations in the Vendor Notes section.
A17: Monthly IntraState Minutes | B17: =SUM(C28:C32) -> 8822036.1
A18: Monthly InterState Minutes | B18: =SUM(C34:C38) -> 902049.58
A19: Monthly International Minutes | B19: =SUM(C40:C41) -> 6139
A21: NOTE: Volumes do not include minutes from Universities.
H22: Inbound Toll Free Pricing | I22: Total | J22: =E50+E63+D106+E106+F106+D114+E114+F114+D122+E122+F122+D132+E132+F132+K130 -> 0 | K22: Please enter total in BidBuy Line Item 5. Please read Vendor RFP Instructions.
A23: Vendor Response:
A25: Option 1: (Utilizes Dedicated Access Circuits)
A26: Call Type | C26: Monthly Minutes | D26: Cost Per Minute (CPM) ($) | E26: Effective Total Monthly Cost
A27: IntraState IntraLATA
B28: Switched-Switched | C28: 429908.93 | E28: =D28*C28 -> 0
B29: Switched-Dedicated / Dedicated-Switched | C29: 2323176.8 | E29: =D29*C29 -> 0
A30: IntraState InterLATA
B31: Switched-Switched | C31: 50485.583 | E31: =D31*C31 -> 0
B32: Switched-Dedicated / Dedicated-Switched | C32: 6018464.8 | E32: =D32*C32 -> 0
A33: InterState InterLATA
B34: Switched-Switched | C34: 17210.033 | E34: =D34*C34 -> 0
B35: Switched-Dedicated / Dedicated-Switched | C35: 884839.55 | E35: =D35*C35 -> 0
A36: InterState IntraLATA
B37: Switched-Switched | C37: 0 | E37: =D37*C37 -> 0
B38: Switched-Dedicated / Dedicated-Switched | C38: 0 | E38: =D38*C38 -> 0
A39: International
B40: Switched-Switched | C40: 191 | E40: =D40*C40 -> 0
B41: Switched-Dedicated / Dedicated-Switched | C41: 5948 | E41: =D41*C41 -> 0
B42: TOTAL: | C42: =SUM(C28:C41) -> 9730224.7 | D42: =SUM(D28:D41) -> 0 | E42: =SUM(E28:E41) -> 0
A46: Circuit Speed | B46: # of Circuits | C46: MRC ($/Line) | D46: NRC ($/Line) | E46: Applicable NRC ($/Line) | F46: Effective Monthly MRC * Lines + (NRC/60)
A47: Inbound Toll-Free | B47: 30 | F47: =C47*B47+(E47/60) -> 0
A48: Total: | B48: =SUM(B47:B47) -> 30 | C48: =SUM(C47:C47) -> 0 | E48: =SUM(E47:E47) -> 0 | F48: =SUM(F47:F47) -> 0
...

Sheet International Pricing
A1: International Pricing (for evaluation and contracting purposes)
A2: Offerors must enter Pricing for all required line items marked in green.
A4: Instructions
A5: 1. Vendor is to provide International calling rates for each of the countries listed in the table below.
A6: 2. Minutes in the Monthly Minutes column are representative of international outbound monthly minutes of use.
A7: 3. International Outbound is defined as originating in the US and terminating in the specified international country. International Inbound is defined as originating outside of the US and terminating at a State of Illinois Toll-Free (800) Number.
A8: 4. Vendor is to provide International Inbound rates (switched and dedicated) and (US Originated and non-US Originated calls). The State expects Vendor to provide the same percent discount as is provided for International Outbound calls.
A9: 5. Indicate "NR" for No Response for any countries that are not served by the Vendor.
A10: 6. Vendor is to provide unit pricing in the Cost per Minute (CPM) columns.
A11: 7. Where Monthly Minutes are provided, the Effective Monthly Cost will be calculated.
A12: 8. If any additional charges need to be provided for any of the services, Vendor may insert additional columns for rates/charges, and label accordingly.
A13: 9. If FUSF charges will be applied, include the applicable charges in the rates provided in this worksheet. Use the 2nd quarter 2026 FUSF rate (or portion of the rate, if applicable).
... A19: In addition, the State reserves the right to evaluate only those Vendors that provide coverage to those countries that constitute at least 90% of the State's monthly minutes.
A20: Monthly minutes do not include usage from Universities. | P20: International Pricing | Q20: Total | R20: =D263+E263+F263+G263+I263+J263 -> 0 | S20: Please enter total in BidBuy Line Item 6. Please read Verndor RFP Instructions
A22: Vendor Response:
D23: International Outbound | I23: International Inbound
A24: Country (Terminating Calls) | B24: Monthly Minutes by Type | C24: Monthly Minutes | D24: US Originated CPM Switched ($) | E24: Effective Monthly Cost - US Originated Switched | F24: US Originated CPM Dedicated ($) | G24: Effective Monthly Cost - US Originated Dedicated | I24: Non-US Originated CPM Switched ($) | J24: Non-US Originated CPM Dedicated ($)
A25: CANADA | B25: Dedicated | C25: 10877 | G25: =F25*C25 -> 0
B26: Switched | C26: 1286 | E26: =D26*C26 -> 0
A27: UK | B27: Dedicated | C27: 2642 | G27: =F27*C27 -> 0
B28: Switched | C28: 167 | E28: =D28*C28 -> 0
A29: KENYA | B29: Dedicated | C29: 2192 | G29: =F29*C29 -> 0
B30: Switched | C30: 22 | E30: =D30*C30 -> 0
A31: GERMANY | B31: Dedicated | C31: 1411 | G31: =F31*C31 -> 0
B32: Switched | C32: 99 | E32: =D32*C32 -> 0
A33: MEXICO | B33: Dedicated | C33: 1006 | G33: =F33*C33 -> 0
B34: Switched | C34: 175 | E34: =D34*C34 -> 0
A35: ITALY | B35: Dedicated | C35: 838 | G35: =F35*C35 -> 0
B36: Switched | C36: 312 | E36: =D36*C36 -> 0
A37: FRANCE | B37: Dedicated | C37: 1023 | G37: =F37*C37 -> 0
B38: Switched | C38: 55 | E38: =D38*C38 -> 0
A39: CHINA | B39: Dedicated | C39: 889 | G39: =F39*C39 -> 0
B40: Switched | C40: 81 | E40: =D40*C40 -> 0
A41: POLAND | B41: Dedicated | C41: 598 | G41: =F41*C41 -> 0
B42: Switched | C42: 0
A43: COLOMBIA | B43: Dedicated | C43: 228 | G43: =F43*C43 -> 0
B44: Switched | C44: 231 | E44: =D44*C44 -> 0
A45: INDIA | B45: Dedicated | C45: 370 | G45: =F45*C45 -> 0
B46: Switched | C46: 81 | E46: =D46*C46 -> 0
A47: GREECE | B47: Dedicated | C47: 433 | G47: =F47*C47 -> 0
...

Sheet Dedicated Voice Access Pricing
A1: Dedicated Voice Access Pricing and Related Hardware
A2: Offerors must enter Pricing for all required line items marked in green.
A4: Instructions:
A5: 1. The State requires pricing for dedicated circuits supporting outbound and inbound toll-free services.
A6: 2. Vendor is to provide the monthly recurring charges associated with the circuit types indicated in the MRC column.
A7: 3. Include any Non-Recurring Charges that are associated with accessing these services in the NRC column.
A8: 4. Use the Vendor Notes section to explain the Non-Recurring Charges, as required.
A9: 5. Insert additional rows, as necessary.
A12: Vendor Response:
E13: Dedicated Voice Access | F13: Total | G13: =B19+C19+B24+C24+B31+C31 -> 0 | H13: Please enter total in BidBuy Line Item 7. Please read Vendor RFP Instructions
A14: Do FUSF charges apply? (enter Yes or No):
A16: Outbound Voice - Dedicated Access Circuits
A17: Circuit Speed | B17: MRC ($/Line) | C17: NRC ($/Line)
A18: Outbound Toll-Free SIP
A19: Total | B19: =SUM(B18:B18) -> 0 | C19: =SUM(C18:C18) -> 0
A21: Inbound Voice - Dedicated Access Circuits
A22: Circuit Speed | B22: MRC ($/Line) | C22: NRC ($/Line)
A23: Inbound Toll-Free SIP
A24: Total | B24: =SUM(B23:B23) -> 0 | C24: =SUM(C23:C23) -> 0
A27: Dedicated Access Circuits between IXC and State Agencies
A28: Circuit Speed | B28: MRC ($/Line) | C28: NRC ($/Line)
A29: Inbound and Outbound SIP
A30: related hardware
A31: Total | B31: =SUM(B29:B29) -> 0 | C31: =SUM(C29:C29) -> 0
A33: Vendor Notes (optional):
A39: OPTIONAL SERVICES: Please fill in optional services related only to this tab's category, and optional services cannot exceed 20% of the total evaluated categoty. Optional services must be within line of intent and scope of this tab.
A40: Type | C40: MRC | D40: NRC | E40: Cost Per Minute (CPM) ($) | F40: Effective Total Monthly Cost
F41: 0
F42: =D42*E42 -> 0
F43: =D43*E43 -> 0
F44: =D44*E44 -> 0
B45: TOTAL: | C45: =SUM(C41:C44) -> 0 | D45: =SUM(D41:D44) -> 0 | E45: =SUM(E41:E44) -> 0 | F45: =SUM(F41:F44) -> 0
A48: Vendor Notes (Optional)

Sheet POTS-Like Service
A1: POTS-like Voice Services P93 SSC (Sector Switching Center)
A2: Offerors must enter Pricing for all required line items marked in green.
A4: Basic Monthly Charges
A6: Instructions:
A7: 1. Vendor must clearly identify associated prices as a per line cost for each line type being proposed to the State.
A8: 2. The Basic Monthly Charge must include the following basic feature set: Automatic Callback/Ring Again, Call Forwarding (Variable), Call Hold/Consultation Hold, Call Transfer - All, Conference Calling/3 Way, Last Number Redial, Speed Calling - Short and Touch-Tone.
A9: 3. The State desires unlimited local and intraLATA toll calling. In the table below, Vendor is to provide unbundled and bundled pricing for local calling and intraLATA toll calling.
A10: 4. Provide the non-recurring (NRC) and monthly recurring (MRC) costs for all line types. Vendor's NRC cost is to be placed in column D. In column E, provide the applicable NRC costs that you would charge the State for this line type. If NRC doesn't apply, insert $0 in column E. The value in column E will be used to calculate the Effective Monthly Cost.
A11: 5. If FUSF charges will be applied, include the applicable charges in the rates provided in this worksheet. Use the 2nd quarter 2021 FUSF rate (or portion of the rate, if applicable).
A12: 6. In the Vendor Notes section below the table, indicate whether any conditions apply to the proposed charges (for example, whether any minimum commitment levels are applicable).
A13: Please reference the XXXXX Excel sheet for the required number of POTS lines per county. Vendors must provide services capable of fully supporting and replacing both modern analog and digital POTS services used for alarm, elevator, fire panel, fax, and remote‑location lines in areas where ICN is not available.
A15: Line Type | B15: Number of Lines
A16: Digital/ Analog Voice | B16: 9500
A17: TOTAL LINES: | B17: =SUM(B16:B16) -> 9500
A19: University Centrex Lines (for information purposes) | B19: 91490 | C19: See reference table A all POTS/business lines in state and address number needed. Ex. 201 W. Adams has 5 POTS
A21: Vendor Response:
A22: Line Type | B22: Monthly Recurring Charge (MRC) ($/Line) Local | C22: Monthly Recurring Charge (MRC) ($/Line) Local + Toll | D22: Non-Recurring Charge (NRC) ($/Line) | E22: Applicable Non-Recurring Charge (NRC) ($/Line)
A23: Digital/ Analog Voice
A25: Vendor Notes:
A30: For Evaluation Purposes Only
B31: Effective Monthly Charge (MRC * Lines) + (NRC/60)
B32: Local | C32: Local + Toll
B33: =SUM(B23:B23)*B17+SUM(E23:E23)/60 -> 0 | C33: =SUM(C23:C23)*B17+SUM(E23:E23)/60 -> 0 | E33: Centrex Like Voice Services | F33: Total | G33: =B33+C33 -> 0 | H33: Please enter in BidBuy Line Item 8. Please read Vendor RFP Instructions
A36: Services & Charges
A37: 1. The State has identified desirable features as part of their POTS-like service. For each of the services listed, indicate any charges associated with those features. The Monthly Charge column should contain the monthy recurring charge, per line, associated with the feature.
A38: 2. Non-Recurring charges should contain any one-time charges associated with the line type, on a per line basis. Applicable non-recurring programming charges should be entered in the NRC Programming Charge column.
A39: 3. If no charge is associated with a feature, indicate N/A for "not applicable" in the appropriate cell.
A40: 4. If FUSF charges will be applied, include the applicable charges in the rates provided in this worksheet. Use the 3rd quarter 2025 FUSF rate (or portion of the rate, if applicable).
A41: 5. If Vendor offers additional Centrex-like features or services, Vendor may add additional lines to this table and indicate the associated charges for the services, if applicable.
A43: Vendor Response:
A44: 911 delivery to PSAP per Line Charge: ($/Line):
A46: For the feature specifications in the table below, provide the Non-Recurring Programming Charge ($/Line):
A47: Other Items Not Evaluated
A48: Desirable Feature Specification | B48: Monthly Charge ($/Line)
A49: Caller ID / Caller ID with Name
A50: Call Forwarding (Busy, Don’t Answer, Per Key)
A51: Call Waiting / Cancel Call Waiting / Call Waiting ID
A52: Call Park / Call Pickup / Directed Call Pickup
A53: Distinctive Ringing / Call Waiting Tone
A54: Message Waiting Indicators (Visual, Audible, CLASS FSK)
...

Sheet Business POTS Service
A1: Business POTS Service
A3: Instructions:
A4: 1. Vendor must clearly identify associated prices as a per line cost for each line type being proposed to the State.
A5: 2. The Basic Monthly Charge column should contain the monthly recurring charges as a per line cost associated with each line type.
A6: 3. Provide the non-recurring (NRC) and monthly recurring (MRC) costs for all line types. Vendor's NRC cost is to be placed in column D. In column E, provide the applicable NRC costs that you would charge the State for this line type. If NRC doesn't apply, insert $0 in column E. The value in column E will be used to calculate the Effective Monthly Cost.
A7: 4. If FUSF charges will be applied, include the applicable charges in the rates provided in this worksheet. Use the 2nd quarter 2021 FUSF rate (or portion of the rate, if applicable).
A9: Number of Business POTS Lines | B9: 250
A10: Number of ISDN/PRI, POTS-Based | B10: 3
A12: Vendor Response:
A13: Line Type | B13: Basic Monthly Charge ($/Line) Local | C13: Basic Monthly Charge ($/Line) Local + Toll | D13: Non-Recurring ($/Line) | E13: Applicable Non-Recurring ($/Line)
A14: Business POTS Lines
A15: ISDN/PRI POTS Based
A17: For Evaluation Purposes Only
B18: Effective Monthly Charge (MRC * Lines) + (NRC/60)
B19: Local | C19: Local + Toll
B20: =(($B$9*B14)+($B$10*B15))+(($B$9*E14)+($B$10*E15)/60) -> 0 | C20: =(($B$9*C14)+($B$10*C15))+(($B$9*E14)+($B$10*E15)/60) -> 0 | E20: Business POTS Services | F20: Total | G20: =B20+C20 -> 0 | H20: Please enter total In BidBuy Line Item 9. Please read Vendor RFP Instructions
A23: Services & Charges
A24: Instructions:
A25: 1. This table can be used by the Vendor to indicate additional features that would be offered to the State. Indicate any charges associated with those features.
A26: 2. The Monthly Charge column should contain the monthy recurring charge, per line, associated with the feature.
A27: 3. Non-Recurring charges should contain any one-time charges associated with the line type, on a per line basis. Applicable non-recurring programming charges should be entered in the NRC Programming Charge column.
A28: 4. If FUSF charges will be applied, include the applicable charges in the rates provided in this worksheet. Use the 2nd quarter 2021 FUSF rate (or portion of the rate, if applicable).
A29: 5. If no charge is associated with a feature, indicate N/A for "not applicable" in the appropriate cell.
A31: Vendor Response:
A33: 911 delivery to PSAP per Line Charge: ($/Line):
A35: For feature specifications provided by Vendor below, provide the Non-Recurring Programming Charge ($/Line):
A37: Desirable Feature Specification | B37: Monthly Charge ($/Line)
A45: Total | B45: =SUM(B38:B44) -> 0

Sheet Directory Asst & Operator Srvcs
A1: Directory Assistance and Operator Services
A3: Instructions:
A4: 1. Directory Assistance and Operator Services are a basic need for all State telephone users.Vendor must clearly identify associated prices for the call types that they are proposing to the State. Although no traffic data is provided for Operator Services, Vendors are to provide unit pricing (expressed in cost per minute or cost per call) for the services listed. It is assumed that the vendor will provide a single rate, regardless of time of day.
A5: 2. If FUSF charges will be applied, include the applicable charges in the rates provided in this worksheet. Use the 2nd quarter 2021 FUSF rate (or portion of the rate, if applicable).
A6: 3. Vendor may insert additional rows in the table for additional services.
A7: 4. For Operator Services, Vendor is asked to provide their best rates.
A9: Vendor Response:
A10: Call Type | B10: Monthly Number of Calls | C10: Cost per Minute (CPM) | D10: Cost per Call | E10: Effective Monthly Cost # of monthly calls * Cost of call
A11: Local DA | B11: 27602 | E11: =D11*B11 -> 0
A12: National DA | B12: 1122 | E12: =D12*B12 -> 0
A13: Total | E13: =SUM(E11:E12) -> 0
A14: Operator Services
A15: Third-Party Billed Calls
A16: Operator-Assisted Calls
A17: Person-to-Person
A18: Sent Paid
A19: Busy Line Verification
A20: Busy Line Interrupt
A21: Inmate Collect
A22: Others (please specify)
A23: Total | C23: =SUM(C15:C22) -> 0 | D23: =SUM(D15:D22) -> 0
E25: Directory Assistance & Operator Services | F25: Total | G25: =E11+E12 -> 0 | H25: Please enter total in BidBuy Line Item 10. Please read Vendor RFP Instructions.

Sheet Internet Access
A1: Internet Access - DSL Pricing
A3: Instructions:
A4: 1. The State currently provides Internet access via DSL to those locations that do not have access to the State's WAN/LAN. Vendor is to provide pricing on their service offerings and feature packages.
A5: 2. For each service offering, Vendor is to provide the speed of the service, in Mbytes, in the Service Speed column.
A6: 3. Provide the non-recurring (NRC) and monthly recurring (MRC) costs for all line types. Vendor's NRC cost is to be placed in column C. In column D, provide the applicable NRC costs that you would charge the State for this offering. If NRC doesn't apply, insert $0 in column D. The value in column D will be used to calculate the Effective Monthly Cost.
A7: 4. If FUSF charges will be applied, include the applicable charges in the rates provided in this worksheet use the 2nd quarter 2021 FUSF rate (or portion of the rate, if applicable).
A8: 5. Vendor may provide name of service or any additional information in the Comments column.
A10: Total Number of DSL Lines | B10: 30
A12: Vendor Response:
A13: Service Speed | B13: Monthly Recurring Charge (MRC) ($) | C13: Non-recurring Charge (NRC) ($) | D13: Applicable Non-recurring Charge (NRC) ($) | E13: Effective Cost per Mbyte MRC + (NRC/60) | F13: Vendor Notes
E14: =B14+(D14/60) -> 0
E15: =B15+(D15/60) -> 0
E16: =B16+(D16/60) -> 0
E17: =B17+(D17/60) -> 0
A18: Total | E18: =SUM(E14:E17) -> 0
A21: Optional Features
A22: Vendor may supply optional services/features and the prices for those services/features. The Monthly Recurring column should contain the monthly recurring charges per line associated with the line type. The Non-Recurring column should contain any one-time charges associated with the line type, on a per line basis. Vendor may insert additional lines as needed.
A24: Vendor Response:
A25: Feature Name / Description | B25: Monthly Recurring ($/line) | C25: Non-Recurring ($/line) | D25: Applicable Non-Recurring ($/line)
A29: Total | B29: =SUM(B26:B28) -> 0 | C29: =SUM(C26:C28) -> 0 | D29: =SUM(D26:D28) -> 0
E30: Internet Access | F30: Total | G30: =E18+B29+C29+D29 -> 0 | H30: Please enter total in BidBuy Line Item 11. Please read Vendor RFP Instructions.

Sheet Related Professional Services
A1: Related Professional Services
A2: Offerors must enter Pricing for all required line items marked in green.
A3: Instructions:
A5: 2. Scope of Services
A6: Respondents must include a detailed quote for professional services necessary to support implementation, configuration, testing, and ongoing support of the proposed solution. This should encompass, but not be limited to:
A8: Category of Professional Service | B8: Standard Hourly Rate | C8: Overtime Rate
A9: Installation Coordinator
A10: Senior Installation Coordinator
A11: Maintenance Support
A12: Senior Maintenance Support
A13: Technical Analyst
A14: Network and Services Design Engineer
A15: Programmer / Software Developer
A16: Billing Analyst
A17: Project Manager
A18: Senior Project Manager
A19: Total | B19: =SUM(B9:B18) -> 0 | C19: =SUM(C9:C18) -> 0
D20: Related Professional Services | E20: Total | F20: =B19+C19 -> 0 | G20: Please enter total in BidBuy Line Item 11. Please read Vendor RFP Instructions
A22: OPTIONAL SERVICES: Please fill in optional services related only to this tab's category, and optional services cannot exceed 20% of the total evaluated categoty. Optional services must be within line of intent and scope of this tab.
A24: Type | C24: MRC | D24: NRC | E24: Cost Per Minute (CPM) ($) | F24: Effective Total Monthly Cost
F25: 0
F26: =D26*E26 -> 0
F27: =D27*E27 -> 0
F28: =D28*E28 -> 0
B29: TOTAL: | C29: =SUM(C25:C28) -> 0 | D29: =SUM(D25:D28) -> 0 | E29: =SUM(E25:E28) -> 0 | F29: =SUM(F25:F28) -> 0
A32: Vendor Notes (Optional)
A43: Job Title | B43: Job Title Role
A44: Installation Coordinator | B44: Oversees scheduling, logistics, and communication for service installations. Ensures all prerequisites and activities are coordinated between teams and stakeholders.
A45: Senior Installation Coordinator | B45: Leads and manages complex or multi site installation efforts. Provides oversight, escalations, and guidance to ensure smooth, timely deployment.
A46: Maintenance Support | B46: Provides day to day operational support, resolving standard service issues and performing routine updates. Serves as the first line for troubleshooting and customer assistance.
A47: Senior Maintenance Support | B47: Handles advanced or escalated support issues and performs in depth analysis to resolve complex problems. Guides maintenance processes and supports continuous improvement.
A48: Technical Analyst | B48: Analyzes business and technical requirements, documents processes, and supports testing and validation activities. Ensures solutions align with customer needs and system capabilities.
A49: Network and Services Design Engineer | B49: Creates high level and detailed designs for network and service solutions to meet project and operational requirements. Ensures designs are scalable, secure, and aligned with organizational standards
A50: Programmer / Software Developer | B50: Develops or customizes software, automations, and integrations to support service delivery. Ensures applications meet requirements and operate reliably within the environment.
A51: Billing Analyst | B51: Reviews, reconciles, and analyzes billing and usage data to ensure accuracy and cost control. Identifies variances, trends, and optimization opportunities.
A52: Project Manager | B52: Plans, coordinates, and manages project tasks, timelines, risks, and communications. Ensures project deliverables are completed on schedule and within scope.
A53: Senior Project Manager | B53: Oversees large or complex projects and provides leadership across multiple workstreams. Manages executive communication, governance, and strategic planning to ensure program success.

Sheet SIP Services
A1: SIP Services
A2: Offerors must enter Pricing for all required line items marked in green.
A3: Instructions:
A5: 2. Scope of Services
A6: The vendor shall provide the following SIP-related services:
A7: SIP trunking to connect the existing PBX/VoIP system to the Public Switched Telephone Network (PSTN).
A8: Number porting for all existing DID numbers.
A9: Support for inbound and outbound voice calls, toll-free, and emergency (E911) services.
A10: Redundancy and failover capabilities to ensure high availability (minimum 99.99% uptime).
A11: Support for encryption for secure voice traffic.
A12: Scalable capacity to accommodate future growth in call volume or locations.
A13: Quality of Service (QoS) monitoring and proactive issue resolution.
... A15: internet bandwidth
A17: SIP Services | B17: MRC | C17: NRC
A18: Core SIP Service Features
A19: Advanced Call Handling
A20: Fax over IP
A21: E911 services
A22: Advanced Failover Capabilities
A23: Encryption (TLS/SRTP)
A24: QOS monitoring
A25: 24/7 technical support and incident response.
A26: support of SIP interoperability standards; fiber to copper handoffs for PBX support
A27: internet bandwidth - 5M @ 24 channels
A28: internet bandwidth - 250M @ 5000 channels
A29: Total | B29: =SUM(B18:B28) -> 0 | C29: =SUM(C18:C28) -> 0
D30: Related Professional Services | E30: Total | F30: =B29+C29 -> 0 | G30: Please enter total in BidBuy Line Item 11. Please read Vendor RFP Instructions
A32: OPTIONAL SERVICES: Please fill in optional services related only to this tab's category, and optional services cannot exceed 20% of the total evaluated categoty. Optional services must be within line of intent and scope of this tab.
A34: Type | C34: MRC | D34: NRC | E34: Cost Per Minute (CPM) ($) | F34: Effective Total Monthly Cost
F35: 0
F36: =D36*E36 -> 0
F37: =D37*E37 -> 0
F38: =D38*E38 -> 0
B39: TOTAL: | C39: =SUM(C35:C38) -> 0 | D39: =SUM(D35:D38) -> 0 | E39: =SUM(E35:E38) -> 0 | F39: =SUM(F35:F38) -> 0
A42: Vendor Notes (Optional)

Sheet Microwave
A1: Microwave
A2: Offerors must enter Pricing for all required line items marked in green.
A3: Instructions:
A4: OPTIONAL SERVICES: Please fill in optional services related only to this tab's category, and optional services cannot exceed 20% of the total evaluated categoty. Optional services must be within line of intent and scope of this tab.
A7: Scope of Services
A8: The vendor shall furnish all labor, materials, equipment, and management necessary to design, implement, operate, and maintain a microwave system capable of meeting or exceeding the following requirements:
A9: Microwave Connectivity: Provide point-to-point and/or point-to-multipoint microwave links between designated sites, ensuring stable and high-throughput communication.
A10: Bandwidth Assurance: Deliver minimum committed bandwidth as defined in the technical specifications, with support for burstable capacity where applicable.
A11: Redundancy & Fault Tolerance: Deploy a resilient architecture with failover capabilities to ensure continuous service during equipment or link failure.
A12: Monitoring & Maintenance: Offer 24/7 proactive monitoring, remote diagnostics, and on-site maintenance support with defined SLAs.
A13: Regulatory Compliance: Ensure full compliance with FCC regulations for microwave frequency use, licensing, and emissions standards.
A14: Network Integration: Seamlessly integrate with existing infrastructure including routers, switches, firewalls, and other Layer 2/3 devices.
... A18: Documentation & Training: Deliver complete system documentation and offer training for customer personnel on system operation and troubleshooting.
A20: Category of Professional Service | B20: MRC | C20: NRC
A21: Point-to-point and point-to-multipoint microwave connectivity
A22: Bandwidth specification and performance validation
A23: Hosted or vendor-supplied radio access hardware
A24: 24/7 monitoring, maintenance, and support services
A25: Regulatory licensing assistance (if applicable)
A26: System integration and commissioning
A27: Documentation and training
A28: Total | B28: =SUM(B21:B27) -> 0 | C28: =SUM(C21:C27) -> 0
D29: Related Professional Services | E29: Total | F29: =B28+C28 -> 0 | G29: Please enter total in BidBuy Line Item 11. Please read Vendor RFP Instructions
A31: Type | C31: MRC | D31: NRC | E31: Cost Per Minute (CPM) ($) | F31: Effective Total Monthly Cost
F32: 0
F33: =D33*E33 -> 0
F34: =D34*E34 -> 0
F35: =D35*E35 -> 0
B36: TOTAL: | C36: =SUM(C32:C35) -> 0 | D36: =SUM(D32:D35) -> 0 | E36: =SUM(E32:E35) -> 0 | F36: =SUM(F32:F35) -> 0
A39: Vendor Notes (Optional)

Sheet 911 Service
A1: 911 Service
A2: Instructions: | B2: Weighted 10%
A3: Vendors are asked to complete entries in the light green shaded areas.

Sheet Hosted Voice
A1: Hosted Voice
A2: Offerors must enter Pricing for all required line items marked in green.
A3: Instructions:
A5: 1. Overview
A6: Vendor must provide Hosted Voice over Internet Protocol (VoIP) services that deliver a fully managed, cloud-based voice communication system. The proposed solution must:
A7: Replace or integrate with the State/Agency’s existing telephony infrastructure.
A8: Ensure high reliability, with service continuity and failover capabilities.
A9: Offer scalable architecture to support future growth in users, locations, and features.
A10: Demonstrate cost efficiency through competitive pricing and reduced operational overhead.
A11: Provide enhanced functionality, including advanced call handling, unified communications, and administrative controls.
A13: Core Hosted Voice Service | B13: MRC | C13: NRC
A14: Cloud-hosted PBX (fully managed VoIP platform) | B14: 0 | C14: 0
A15: Contact Center / Call Queue Options | B15: 0 | C15: 0
A16: Automatic Call Distribution (ACD) | B16: 0 | C16: 0
A17: Skill-based and queue-based routing | B17: 0 | C17: 0
A18: Agent and supervisor dashboards | B18: 0 | C18: 0
A19: Real-time and historical reporting | B19: 0 | C19: 0
A20: Call monitoring, whisper, barge-in features | B20: 0 | C20: 0
A21: Integration with CRM systems (Salesforce, Dynamics, etc.) | B21: 0 | C21: 0
A22: SIP trunking and PSTN connectivity | B22: 0 | C22: 0
A23: Direct Inward Dialing (DID) assignment and management | B23: 0 | C23: 0
A24: Auto-attendant / IVR setup and management | B24: 0 | C24: 0
A25: Voicemail with email integration | B25: 0 | C25: 0
... A30: Quality of Service (QoS) monitoring | B30: 0 | C30: 0
A31: Total | B31: =SUM(B14:B30) -> 0 | C31: =SUM(C14:C30) -> 0
D32: Related Professional Services | E32: Total | F32: =B31+C31 -> 0 | G32: Please enter total in BidBuy Line Item 11. Please read Vendor RFP Instructions
A33: OPTIONAL SERVICES: Please fill in optional services related only to this tab's category, and optional services cannot exceed 20% of the total evaluated categoty. Optional services must be within line of intent and scope of this tab.
A35: Type | C35: MRC | D35: NRC | E35: Cost Per Minute (CPM) ($) | F35: Effective Total Monthly Cost
F36: 0
F37: =D37*E37 -> 0
F38: =D38*E38 -> 0
F39: =D39*E39 -> 0
B40: TOTAL: | C40: =SUM(C36:C39) -> 0 | D40: =SUM(D36:D39) -> 0 | E40: =SUM(E36:E39) -> 0 | F40: =SUM(F36:F39) -> 0
A43: Vendor Notes (Optional)

Sheet Reference Table 1
A1: Reference Table 1:
A2: Dedicated Outbound T1 and One T3 Voice Access Circuits (These circuits may be considered for removal if economically justified.)
A3: Centrex To IXC POP
A4: MCN 032530
A5: 1800-006-7175
A6: As of 5/2008
A9: AT&T Circuit ID | B9: Service | C9: NPA/NXX | D9: Location Name | E9: SBC Circuit ID | F9: ISDN
A10: DHEC 200656.100 | B10: SDN | C10: 309/671 | D10: Peoria Centrex, BAN 217 H09-9015 648 | E10: HCFS732691 | F10: N
A11: DHEC 179059.100 | B11: SDN | C11: 618/344 | D11: Collinsville Centrex _Springfield BAN 217 H09 9013 649 | E11: HCFS732690 | F11: N
A12: DHEC 602773.100 | B12: SDN | C12: 815/987 | D12: Rockford Centrex, BAN 217 H09-9002 648 | E12: HCFS732689 | F12: N
A13: DHEC 817518.10 | B13: SDN - ch 10 of DS3 | C13: 217/492 | D13: ATT CO Centrex - Springfield, BAN 217 H09-9013 649 | E13: HCFS732127 | F13: N
A14: DHEC 817518.100 | B14: SDN - ch 1of DS3 | C14: 217/492 | D14: ATT CO Centrex - Springfield, BAN 217 H09-9013 649 | E14: HCFS732118 | F14: N
A15: DHEC 817518.11 | B15: SDN - ch 11 of DS3 | C15: 217/492 | D15: ATT CO Centrex - Springfield, BAN 217 H09-9013 649 | E15: HCFS732128 | F15: N
A16: DHEC 817518.12 | B16: SDN - ch 12 of DS3 | C16: 217/492 | D16: ATT CO Centrex - Springfield, BAN 217 H09-9013 649 | E16: HCFS732129 | F16: N
A17: DHEC 817518.13 | B17: SDN - ch 13 of DS3 | C17: 217/492 | D17: ATT CO Centrex - Springfield, BAN 217 H09-9013 649 | E17: HCFS732130 | F17: N
A18: DHEC 817518.14 | B18: SDN - ch 14 of DS3 | C18: 217/492 | D18: ATT CO Centrex - Springfield, BAN 217 H09-9013 649 | E18: HCFS732131 | F18: N
A19: DHEC 817518.15 | B19: SDN - ch 15 of DS3 | C19: 217/492 | D19: ATT CO Centrex - Springfield, BAN 217 H09-9013 649 | E19: HCFS732132 | F19: N
A20: DHEC 817518.16 | B20: SDN - ch 16 of DS3 | C20: 217/492 | D20: ATT CO Centrex - Springfield, BAN 217 H09-9013 649 | E20: HCFS732133 | F20: N
... A39: DNEC 478942 (T3) | B39: SDN (T3) | C39: 217/492 | D39: ATT CO Centrex - Springfield, BAN 217 H09-9013 | E39: HFFS702196 | F39: N

Sheet Reference Table 2
A1: Reference Table 2:
A2: Dedicated Inbound T1 Voice Access Circuits (These circuits may be considered for removal if economically justified)
A3: IXC POP To Centrex
A4: MCN 710910
A5: 8850-001-8804
A6: As of 5/2008
A9: AT&T Circuit ID | B9: Service | C9: NPA/NXX | D9: Location Name | E9: ISDN
A10: DHEC 342956.024 | B10: M800 | C10: 217-492 | D10: ATT CO Centrex - Springfield | E10: N
A11: DHEC 342956.025 | B11: M800 | C11: 217-492 | D11: ATT CO Centrex - Springfield | E11: N
A12: DHEC 342956.026 | B12: M800 | C12: 217-492 | D12: ATT CO Centrex - Springfield | E12: N
A13: DHEC 342956.027 | B13: M800 | C13: 217-492 | D13: ATT CO Centrex - Springfield | E13: N
A14: DHEC.342956.019 | B14: M800 | C14: 217-785 | D14: ATT CO Centrex - Springfield | E14: N
A15: DHEC.342956.018 | B15: M800 | C15: 217-785 | D15: ATT CO Centrex - Springfield | E15: N
A16: DHEC.342956.017 | B16: M800 | C16: 217-785 | D16: ATT CO Centrex - Springfield | E16: N
A17: DHEC.342956.13 | B17: M800 | C17: 217-785 | D17: ATT CO Centrex - Springfield | E17: N
A18: DHEC.342956.14 | B18: M800 | C18: 217-785 | D18: ATT CO Centrex - Springfield | E18: N
A19: DHEC.342956.15 | B19: M800 | C19: 217-785 | D19: ATT CO Centrex - Springfield | E19: N
A20: DHEC.342956.16 | B20: M800 | C20: 217-785 | D20: ATT CO Centrex - Springfield | E20: N
... A39: DHEC 647871 | B39: M800 | C39: 217/492 | D39: ATT CO Centrex - Springfield (for DCFS) | E39: N

Sheet Reference Table 3
A1: Reference Table 3:
A2: Dedicated Inbound & Outbound T1 Voice Access Circuits
A3: IXC POP to Agencies (These circuits must continue to be provided to agencies as Dedicated T1s.)
A4: MCN 710910
A5: 8850-001-8804
A6: As of 5/2008
A9: AT&T Circuit ID | B9: Service | C9: NPA/NXX | D9: Location Name | E9: ISDN | F9: Related D Channel
A10: DHEC 229956.100 | B10: M800 | C10: 217-524 | D10: UIC Specialized Care, 3135 Old Jacksonville Rd., Springfield | E10: Y | F10: KZET 983791.124
A11: DHEC 216213.100 | B11: M800 | C11: 217-524 | D11: IDPFR, 320 W. Washington, Springfield il | E11: Y | F11: KZET 857575.124
A12: DHEC 388283.100 | B12: M800 | C12: 630-241 | D12: Tollway/Transcore, 2100 Western Ct. Lisle, IL | E12: Y | F12: KZET 810416.124
A13: DHEC 388283.200 | B13: M800 | C13: 630-241 | D13: Tollway/Transcore, 2100 Western Ct. Lisle, IL | E13: Y | F13: KZET 810415.224
A14: DHEC 388283.300 | B14: M800 | C14: 630-241 | D14: Tollway/Transcore, 2100 Western Ct. Lisle, IL | E14: Y | F14: KZET 810414.324
A15: DHEC 388283.400 | B15: M800 | C15: 630-241 | D15: Tollway/Transcore, 2100 Western Ct. Lisle, IL | E15: Y | F15: KZET 810974.424
A16: DHEC 388283.500 | B16: M800 | C16: 630-241 | D16: Tollway/Transcore, 2100 Western Ct. Lisle, IL | E16: Y | F16: KZET 810973.524
A17: DHEC 388283.600 | B17: M800 | C17: 630-241 | D17: Tollway/Transcore, 2100 Western Ct. Lisle, IL | E17: Y | F17: KZET 810972.624
A18: DHEC 388283.700 | B18: M800 | C18: 630-241 | D18: Tollway/Transcore, 2100 Western Ct. Lisle, IL | E18: Y | F18: KZET 985949.724
A19: DHEC 388283.800 | B19: M800 | C19: 630-241 | D19: Tollway/Transcore, 2100 Western Ct. Lisle, IL | E19: Y | F19: kZET 985948.824
A20: DHEC 399283.900 | B20: M800 | C20: 630-241 | D20: Tollway/Transcore, 2100 Western Ct. Lisle, IL | E20: Y | F20: KZET 985972.924
... A24: DHEC 206231.200 | B24: M800 | C24: 217-524 | D24: IDOR, 101 W. Jefferson, Chicago IL | E24: Y | F24: KZET 853965.224
A25: DHEC 206231.300 | B25: M800 | C25: 217-524 | D25: IDOR, 101 W. Jefferson, Chicago IL | E25: Y
A26: DHEC 126810.200 | B26: M800 | C26: 217-524 | D26: Teacher's Retirement Service, 2815 W Washington, Sprfld 62702 | E26: Y | F26: Kzet126810.224
A27: DHEC 126810.100 | B27: M800 | C27: 217-524 | D27: Teacher's Retirement Service, 2815 W Washington, Sprfld 62702 | E27: Y | F27: Kzet126810.124
A28: DHEC.229064.001 | B28: M800 | C28: 217-524 | D28: DHS,201 W Adams, Springfield IL 62701 | E28: N
A29: DHEC.229064.002 | B29: M800 | C29: 217-524 | D29: DHS,201 W Adams, Springfield IL 62701 | E29: N
A30: DHEC.229064.003 | B30: M800 | C30: 217-524 | D30: DHS,201 W Adams, Springfield IL 62701 | E30: N
A31: DHEC 229064.004 | B31: M800 | C31: 217-524 | D31: CMS,201 W Adams, Springfield IL 62701 | E31: N
A32: DHEC.291238.100 | B32: M800 | C32: 217-786 | D32: IEMA, 4800 Rodger St., Springfield IL | E32: Y | F32: kzet.969958.124
A33: DHEC.251821.200 | B33: M800 | C33: 217-785 | D33: IL Supreme Ct., 3101 Old Jacksonville Rd., Springfield, IL 62704 | E33: Y | F33: KZET 563114.224
A34: DHEC 349666.100 | B34: m800 | C34: 217-782 | D34: DCFS, 201 W. Adams Springfield, IL | E34: Y | F34: KZET 349666.124
A35: DHEC.236828.100 | B35: M800 | C35: 217-558 | D35: DHS, 100 South Grand Ave East, Springfield, IL | E35: Y | F35: KZET 919860.124
A36: DHEC.236828.200 | B36: M800 | C36: 217-558 | D36: DHS, 100 South Grand Ave East, Springfield, IL | E36: Y | F36: KZET 919859.224
A37: DHEC.236828.300 | B37: M800 | C37: 217-558 | D37: DHS, 100 South Grand Ave East, Springfield, IL | E37: Y | F37: KZET 919896.324
A38: DHEC.236828.400 | B38: M800 | C38: 217-558 | D38: DHS,100 South Grand Ave East, Springfield, IL | E38: Y | F38: KZET 919895.424
A39: DHEC.236828.500 | B39: M800 | C39: 217-558 | D39: DHS,100 South Grand Ave East, Springfield, IL | E39: Y | F39: KZET 919894.524
A40: DHEC 236828.600 | B40: M800 | C40: 217-558 | D40: DHS, 100 South Grand Ave East, Springfield, IL | E40: Y | F40: KZET 919910.624
A41: DHEC 236828.700 | B41: M800 | C41: 217-558 | D41: DHS, 100 South Grand Ave East, Springfield, IL | E41: Y | F41: KZET 919909.724
A42: DHEC 236828.800 | B42: M800 | C42: 217-558 | D42: DHS,100 South Grand Ave East, Springfield, IL | E42: Y | F42: KZET 919908.824
A43: DHEC 236828.900 | B43: M800 | C43: 217-558 | D43: DHS,100 South Grand Ave East, Springfield, IL | E43: Y | F43: KZET 920837.924
... A46: DHEC 236830.300 | B46: M800 | C46: 217-558 | D46: DHS, 100 South Grand Ave East, Springfield, IL | E46: Y | F46: KZET 626798.324
A47: DHEC 225443.004 | B47: M800 | C47: 217-639 | D47: CMR-700 W. Lincoln, Charleston | E47: N
...

Sheet Reference Table 4 PRI's
A1: As of 5/2021
A3: Inventory Number | B3: Description | C3: Catalog Group | D3: Service Catalog | E3: Cost Center Code | F3: Cost Center Description | G3: Vendor | H3: First Name | I3: Last Name | J3: Employee Number | K3: Primary Location | L3: Secondary Location | M3: Status | N3: Bill To Inventory Number | O3: Billing Group | P3: MRC Price Type | Q3: MRC Override Price | R3: Available Date | S3: Last Usage Date | T3: Finalized Date | U3: Install Date | V3: Remove Date | W3: Billing Start Date | X3: Billing End Date | Y3: Number Recycled Bills | Z3: Number of Payments | AA3: Depreciation Start Date | AB3: Depreciation End Date | AC3: Depreciation Months | AD3: Original Value | AE3: Depreciation Remaining | AF3: Assignable Quantity | AG3: Capacity | AH3: Auth Code 1 | AI3: Auth Code 2 | AJ3: Alt Number 1 | AK3: Alt Number 2 | AL3: Calling Card 1 | AM3: Calling Card 2 | AN3: Local Loop 1 | AO3: Local Loop 2 | AP3: Last SR Number | AQ3: Last Order Number | AR3: MRC Bill Date | AS3: Do Not Reuse | AT3: Geo Code | AU3: Geo Description | AV3: B CHANNELS | AW3: MASTER BILLING ACCOUNT # | AX3: BILLING ACCOUNT # | AY3: CIRCUIT # | AZ3: COMMENTS | BA3: D CHANNELS | BB3: HISTORY1 | BC3: INCOMING 800 NUMBER | BD3: INVENTORY DETAIL | BE3: MAINTENANCE T&C | BF3: PDN | BG3: POINT TO NUMBER | BH3: SWITCH NUMBER | BI3: TGN | BJ3: TRAFFIC | BK3: FUSF8 | BL3: FUSF9 | BM3: NBTSP | BN3: SBTSP | BO3: SILBB | BP3: SILBC | BQ3: SILIC | BR3: SIVIC
A4: 101AURARC0LK | C4: BusLines | D4: SILPB | E4: 4260507U01 | F4: DOC: FOX VALLEY ATC | G4: 00002 | K4: USILAURCR001. | M4: ACTIVE | P4: PRICE1 | Q4: 0 | R4: 42090 | T4: 42090 | U4: 42061 | W4: 42061 | Y4: 0 | Z4: 0 | AC4: 0 | AD4: 0 | AE4: 0 | AF4: 0 | AG4: 0 | AP4: 125736-20 | AQ4: 125736 | AS4: 0 | AV4: IDZD.162155.001LB THRU 023LB | AW4: 217M624567 | AX4: 630R050055 | AY4: 101T1ZFAURRILARDC0AURRILLKH00 | BA4: DZZD.160622.001LB | BD4: 101T1ZFAURRILARDC0AURRILLKH00 | BF4: 6308976561 | BH4: 1111111111 | BI4: 410 | BJ4: 2-WAY
A5: 101BKTAA00ED | B5: 101T1ZFBKTPILAAH00CENLILCEDC0 | C5: BusLines | D5: SILPB | E5: 4265400X01 | F5: DOC: CENTRALIA CC | G5: 00018 | K5: USILCTRCR001. | M5: ACTIVE | P5: PRICE1 | Q5: 0 | R5: 42622 | T5: 42622 | U5: 37729 | W5: 37729 | Y5: 0 | Z5: 0 | AC5: 0 | AD5: 0 | AE5: 0 | AF5: 0 | AG5: 0 | AP5: 146831-4 | AQ5: 146831 | AY5: 101T1ZFBKTPILAAH00CENLILCEDC0 | BB5: CIRCUIT ID: 101T1ZFBKTPILAAH00CENLILCEDC0 B CHANNELS: .IDZD.658697.001LB THRU 023LB D CHANNEL: .DZZD.658697.001LB | BD5: 101T1ZFBKTPILAAH00CENLILCEDC0 | BF5: 6185334111 | BH5: 6185330430 | BN5: SBC LEC TSP AGENCY MRC
A6: 101BLIBIC0FL | B6: 101T1ZFBLISILBIDC0BLISILFLH00 | C6: BusLines | D6: SILPB | E6: 4447226U01 | F6: DHS -SOUTH SUBURBAN DISTRICT | G6: 00002 | K6: USILBLIDH001. | M6: ACTIVE | P6: PRICE1 | Q6: 0 | R6: 43658 | T6: 43658 | U6: 39402 | W6: 39402 | Y6: 0 | Z6: 0 | AC6: 0 | AD6: 0 | AE6: 0 | AF6: 0 | AG6: 0 | AP6: 176372-69 | AQ6: 176372 | AV6: .IDZD.099020.001LB THRU 023LB | AW6: 217M624567 | AX6: 708R061250 | AY6: 101T1ZFBLISILBIDC0BLISILFLH00 | BA6: .DZZD.099020.001LB | BB6: 101T1ZFBLISILBIDC0BLISILFLH00 DID RANGES: 708-293-(4750-4791),(4793-4799), (6400-6449), (6470-6472,6476-6499) 708-385 (3385-3394) 708-239 (3400-3409) | BF6: 7082934700 | BH6: 1111111111 | BI6: 1104 | BJ6: BOTH
A7: 101BRTCS01EL | B7: 101T1ZFBRTLILCSH01ELGNILELDC0 | C7: CntrxLines | D7: SILPC | E7: 4225002X01 | F7: DNR: LANDS/SPRING GROVE | G7: 00002 | K7: USILBRLNR001. | M7: ACTIVE | P7: PRICE1 | Q7: 0 | T7: 37480 | U7: 37480 | W7: 37480 | Y7: 0 | Z7: 0 | AC7: 0 | AD7: 0 | AE7: 0 | AF7: 0 | AG7: 0 | AX7: 312M233500 | BB7: CIRCUIT ID 101T1ZFBRTLILCSH01ELGNILELDC0B CHANNELS .IDZD.851505.001.LB THRU023LB D CHANNEL .DZZD.851505.001.LB | BD7: 101T1ZFBRTLILCSH01ELGNILELDC0 | BH7: 8479312059
A8: 101CENBT00CE | B8: 101T1ZFCENLILBTH00CENLILCEDC0 | C8: BusLines | D8: SILPB | E8: 4446580X01 | F8: MURRAY DEVELOPMENTAL CENTER | G8: 00002 | K8: USILCTRMH001. | M8: ACTIVE | P8: PRICE1 | Q8: 0 | R8: 39357 | T8: 39357 | U8: 38972 | W8: 38972 | Y8: 0 | Z8: 0 | AC8: 0 | AD8: 0 | AE8: 0 | AF8: 0 | AG8: 0 | AP8: 28210-42 | AQ8: 28210 | AS8: 0 | AX8: 618R263162 217M624567 | AY8: 101T1ZFCENLILBTH00CENLILCEDC0 | BB8: CIRCUIT ID 101T1ZFCENLILBTH00CENLILCEDC0B CHANNELS IDZD.395977.001LB THRU 023LB D CHANNEL DZZD.395977.001LB TRUNK GRP 0403 | BD8: 101T1ZFCENLILBTH00CENLILCEDC0 | BF8: 6185321754 | BH8: 1111111111
A9: 101CENCEC0VD | C9: BusLines | D9: SILPB | E9: 4269400X01 | F9: DOC: VANDALIA CC | G9: 00002 | K9: USILVAN01001. | M9: ACTIVE | P9: PRICE1 | Q9: 0 | R9: 42292 | T9: 42292 | U9: 42271 | W9: 42271 | Y9: 0 | Z9: 0 | AC9: 0 | AD9: 0 | AE9: 0 | AF9: 0 | AG9: 0 | AP9: 135820-3 | AQ9: 135820 | AS9: 0 | AV9: .IDZD.101798.001 THRU 023LB | AX9: 618R261744 217M624567 | AY9: 101T1ZFCENLILCEDC0VANDILVDH00 | BA9: .DZZD.101897.001LB | BD9: 101T1ZFCENLILCEDC0VANDILVDH00 | BF9: 6182838744 | BH9: 1111111111 | BI9: 1004 | BJ9: BOTH WAYS
A10: 101CHCFRC1MA | B10: ISDN Prime Circuit 101.T1ZF.CHCGILFRDC1.CHCIILMAH53, that is Billed on Account 312-Z89-0086-224, is a standalone, and Line 312-793-1672, is the Point-To-Number for Toll, and has 5-Digital Dialing Capability. | C10: CntrxLines | D10: SILPC | E10: 3506206C21 | F10: DRIVER SERVICES DIRKSEN CENTREX | G10: 00002 | K10: USIL5FRSA011. | M10: ACTIVE | P10: PRICE1 | Q10: 0 | R10: 44043 | T10: 44043 | U10: 44007 | W10: 44007 | Y10: 0 | Z10: 0 | AC10: 0 | AD10: 0 | AE10: 0 | AF10: 0 | AG10: 0 | AP10: 183210-4 | AQ10: 183210 | AS10: 0 | AV10: IDZD.003303.001-LB THRU 023LB | AY10: 101T1ZFCHCGILFRDC1 | BA10: DZZD.003326.001LB | BD10: 101T1ZFCHCGILFRDC1 | BF10: 3127931672 | BH10: 3127933500 | BI10: 950 | BJ10: BOTH | BQ10: ISDN I/C 5-DIGIT DL, AMER
A11: 101CHCFRC1SZ | B11: CHICAGO, 33 S STATE ST | C11: VOIP | D11: SIVPC | E11: CRFVOIPPRI | F11: DoIT ENTERPRISE VOIP PRI | G11: 00002 | K11: USIL5WAE1011. | M11: ACTIVE | P11: PRICE1 | Q11: 0 | R11: 42223 | T11: 42223 | U11: 37985 | W11: 37985 | Y11: 0 | Z11: 0 | AC11: 0 | AD11: 0 | AE11: 0 | AF11: 0 | AG11: 0 | AP11: 134461-2 | AQ11: 134461 | AV11: .IDZD.389334.001LB - 23LB | AX11: 312M233500 | AY11: 101T1ZFCHCGILFRDC1CHCYILSZH00 | AZ11: TRUNK GROUP WITH CIRCUITS 101CHCFRC1SZ & 102CHCFRC1SZ OVERFLOW TO TRUNK GROUP WITH 111CHCFRC1SZ & 112CHCFRC1SZ, THEN STOP. NUMBERS ON THIS PRI HAVE SERVICE ADDRESSES OF BOTH 33 S STATE ST., AND 36 S WABASH ST., CHICAGO. 8/14/2013 PO 107888 EMM | BA11: .DZZD389334.001LB AND DZZD389334.002LB | BF11: 3127930633 | BH11: 3127933500 | BI11: 960 | BJ11: BOTH | BR11: VOIP PRI I/C 5-DIGIT DIALING
A12: 101CHCMOC0UA | B12: 101T1ZFCHCGILMODC0CHCUILUAH00 | C12: CntrxLines | D12: SILPC | E12: 4250400X01 | F12: DJJ - HEALY SCHOOL | G12: 00002 | K12: USIL116CR003. | M12: ACTIVE | P12: PRICE1 | Q12: 0 | R12: 43382 | T12: 43382 | U12: 43249 | W12: 43249 | Y12: 0 | Z12: 0 | AC12: 0 | AD12: 0 | AE12: 0 | AF12: 0 | AG12: 0 | AP12: 168478-24 | AQ12: 168478 | AS12: 0 | AV12: .IDZD.000008 THRU 023LB | AX12: 312M233500 | AY12: 101T1ZFCHCGILMODC0CHCUILUAH00 | BA12: .DZZD.000060.001LB | BD12: 101T1ZFCHCGILMODC0CHCUILUAH00 | BF12: 3126333729 | BH12: 3126333999 | BI12: 2004 | BJ12: BOTH
A13: 101CHCMOC0VX | B13: 101T1ZFCHCGILMODC0CHCJILVXH02 | C13: CntrxLines | D13: SILPC | E13: 4260812X01 | F13: PAROLE ADMINISTRATION DIST 1 | G13: 00002 | K13: USIL116AF001. | M13: ACTIVE | P13: PRICE1 | Q13: 0 | R13: 39833 | T13: 39833 | U13: 39825 | W13: 39825 | Y13: 0 | Z13: 0 | AC13: 0 | AD13: 0 | AE13: 0 | AF13: 0 | AG13: 0 | AP13: 47979-4 | AQ13: 47979 | AS13: 0 | BB13: CIRCUIT ID: 101T1ZFCHCGILMODC0CHCJILVXH02 B CHANNELS: .IDZD.006933.001 THRU 023LB D CHANNEL: .DZZD.006933.001LB B CHANNEL TRUNK GROUP: 0365 D CHANNEL TRUNK GROUP: 0366 PDN: 312 633-3652 | BF13: 3126333652 | BH13: 3126333999
A14: 101CHCMOC0WK | B14: 101T1ZFCHCGILMODC0CHCKILWKH01 | C14: CntrxLines | D14: SILPC | E14: 4883086U01 | F14: DORS-CENTER/REHAB+ED-CHICAGO | G14: 00002 | K14: USIL116RS001. | M14: ACTIVE | P14: PRICE1 | Q14: 0 | R14: 41892 | T14: 41892 | U14: 39827 | W14: 39827 | Y14: 0 | Z14: 0 | AC14: 0 | AD14: 0 | AE14: 0 | AF14: 0 | AG14: 0 | AP14: 120228-4 | AQ14: 120228 | AV14: IDZD.162262.001 THRU 023LB | AX14: 312M233500 | AY14: 101T1ZFCHCGILMODC0CHCKILWKH01 | BA14: DZZD.162262.001LB | BD14: CIRCUIT ID: 101T1ZFCHCGILMODC0CHCKILWKH01 | BF14: 3124333111 | BH14: 3126333999
A15: 101CHCMOC1ML | C15: BusLines | D15: SILPB | E15: 5570500L39 | F15: I-PASS CALL CENTER | G15: 00002 | K15: USIL116AC001. | M15: ACTIVE | P15: PRICE1 | Q15: 0 | R15: 41555 | T15: 41555 | U15: 41530 | W15: 41530 | Y15: 0 | Z15: 0 | AC15: 0 | AD15: 0 | AE15: 0 | AF15: 0 | AG15: 0 | AP15: 114410-2 | AQ15: 114410 | AS15: 0 | AV15: IDZD.311161.001 - 023LB | AX15: 312R180504 | AY15: 101T1ZFCHCGILMODC1CHCSILMLH02 | BA15: DZZD.311679.001LB | BD15: 101T1ZFCHCGILMODC1CHCSILMLH02 | BF15: 3124556303 | BH15: 1111111111 | BI15: 405 | BJ15: BOTH
A16: 101CNTAJ01CN | B16: 101T1ZFCNTNILAJH01CNTNILCNDC0 | C16: BusLines | D16: SILPB | E16: 4266900X01 | F16: DOC: IL RIVER CC | G16: 00002 | K16: USILCNTCR001. | M16: ACTIVE | P16: PRICE1 | Q16: 0 | R16: 42558 | T16: 42558 | U16: 42541 | W16: 42541 | Y16: 0 | Z16: 0 | AC16: 0 | AD16: 0 | AE16: 0 | AF16: 0 | AG16: 0 | AP16: 144965-3 | AQ16: 144965 | AS16: 0 | AV16: .IDZD.124723.001LB THRU 023LB | AX16: 217M624567 | AY16: 101T1ZFCNTNILAJH01CNTNILCNDC0 | BA16: .DZZD.125855.001LB | BD16: 101T1ZFCNTNILAJH01CNTNILCNDC0 | BF16: 3096472256 | BH16: 309R262030 | BI16: 2000/2001 | BJ16: BOTH
A17: 101CSHAA00JO | B17: 101T1ZFCSHLILAAH00JOLTILJODC1 | C17: BusLines | D17: SILPB | E17: 4269200X01 | F17: DOC: STATEVILLE CC | G17: 00018 | K17: USILCSHCC001. | M17: ACTIVE | P17: PRICE1 | Q17: 0 | R17: 41331 | T17: 41331 | U17: 36245 | W17: 36245 | Y17: 0 | Z17: 0 | AC17: 0 | AD17: 0 | AE17: 0 | AF17: 0 | AG17: 0 | AP17: 105710-3 | AQ17: 105710 | AX17: 217M624567 | AY17: 101T1ZFCSHLILAAH00JOLTILJODC1 | BD17: 101T1ZFCSHLILAAH00JOLTILJODC1 | BF17: 8157273607 | BH17: 8157270174 | BM17: VENDOR BILLED TSP CHARGES
A18: 101CTTAB02EX | B18: 101T1ZFCTTPILABH02EDMTILEXDC0 | C18: CntrxLines | D18: SILPC | E18: 4263500X01 | F18: DOC: SOUTHWESTERN CC | G18: 00002 | K18: USILESLCR001. | M18: ACTIVE | P18: PRICE1 | Q18: 0 | R18: 43515 | T18: 43515 | U18: 43488 | W18: 43488 | Y18: 0 | Z18: 0 | AC18: 0 | AD18: 0 | AE18: 0 | AF18: 0 | AG18: 0 | AP18: 167049-66 | AQ18: 167049 | AS18: 0 | AV18: .IDZD.007283.001 THRU 023LB | AX18: 312M230030 | AY18: 101T1ZFCTTPILABH02EDMTILEXDC0 | BA18: .DZZD.007293.001LB | BD18: 101T1ZFCTTPILABH02EDMTILEXDC0 | BF18: 6183942207 | BH18: 6183942299 | BI18: 320 | BJ18: BOTH
A19: 101DAVDAC1DH | C19: BusLines | D19: SILPB | E19: 4265600X01 | F19: DOC: DANVILLE CC | G19: 00002 | K19: USILDNVCR001. | M19: ACTIVE | P19: PRICE1 | Q19: 0 | R19: 42741 | T19: 42741 | U19: 42717 | W19: 42717 | Y19: 0 | Z19: 0 | AC19: 0 | AD19: 0 | AE19: 0 | AF19: 0 | AG19: 0 | AP19: 147735-2 | AQ19: 147735 | AS19: 0 | AV19: .IDZD.013934.001LB THRU 023LB | AX19: 217M624567 | AY19: 101T1ZFDAVLILDADC1DAVLILDHH00 | BA19: .DZZD.013937.001LB | BD19: 101T1ZFDAVLILDADC1DAVLILDHH00 | BF19: 2174443695 | BH19: 1111111111 | BI19: 9051 | BJ19: 2-WAY
A20: 101DCTDNC0EP | B20: 101T1ZFDCTRILDNDC0DCTRILEPH01 | C20: CntrxLines | D20: SILPC | E20: 4265700X01 | F20: DOC: DECATUR CC | G20: 00002 | K20: USILDECMH001. | M20: ACTIVE | P20: PRICE1 | Q20: 0 | R20: 40821 | T20: 40821 | U20: 36504 | W20: 36504 | Y20: 0 | Z20: 0 | AC20: 0 | AD20: 0 | AE20: 0 | AF20: 0 | AG20: 0 | AP20: 82168-4 | AQ20: 82168 | AY20: 101T1ZFDCTRILDNDC0DCTRILEPH01 | BD20: 101T1ZFDCTRILDNDC0DCTRILEPH01 | BF20: 2178770353 | BH20: 2178758799 | BN20: SBC LEC TSP AGENCY MRC
A21: 101EMLAT00EM | C21: BusLines | D21: SILPB | E21: 4266300X01 | F21: DOC: EAST MOLINE CC | G21: 00002 | K21: USILEMD01001. | M21: ACTIVE | P21: PRICE1 | Q21: 0 | R21: 42174 | T21: 42174 | U21: 42165 | W21: 42165 | Y21: 0 | Z21: 0 | AC21: 0 | AD21: 0 | AE21: 0 | AF21: 0 | AG21: 0 | AP21: 125040-2 | AQ21: 125040 | AS21: 0 | AV21: .IDZD.008331.001-023LB | AX21: 217M624567 | AY21: 101T1ZFEMLNILATH00EMLNILEMDC0 | BA21: .DZZD.008338.001LB | BD21: 101T1ZFEMLNILATH00EMLNILEMDC0 | BF21: 3097552278 | BH21: 3097554511 | BI21: 320 | BJ21: BOTH
A22: 101GENGNC0XT | B22: 101T1ZFGENVILGNDC0STCHILXTH00 | C22: BusLines | D22: SILPB | E22: 4253900U01 | F22: DJJ: IYC-ST. CHARLES | G22: 00002 | K22: USILSTCCR001. | M22: ACTIVE | P22: PRICE1 | Q22: 0 | R22: 43290 | T22: 43290 | U22: 39910 | W22: 39910 | Y22: 0 | Z22: 0 | AC22: 0 | AD22: 0 | AE22: 0 | AF22: 0 | AG22: 0 | AP22: 161211-56 | AQ22: 161211 | AV22: .IDZD.454200.001 THRU 023LB | AW22: 217M624567 | AX22: 630R061278 | AY22: 101T1ZFGENVILGNDC0STCHILXTH00 | BA22: .DZZD.454200.001LB | BF22: 6305847704 | BH22: 1111111111 | BI22: 1011 | BJ22: BOTH
A23: 101JOLBB04JO | B23: 101T1ZFJOLTILBBH04JOLTILJODC1 | C23: CntrxLines | D23: SILPC | E23: 4939015J01 | F23: STATE POLICE-JOLIET-AFIS | G23: 00002 | K23: USILJOLPB001SOUTH | M23: ACTIVE | P23: PRICE1 | Q23: 0 | T23: 38876 | U23: 38876 | W23: 38876 | Y23: 0 | Z23: 0 | AC23: 0 | AD23: 0 | AE23: 0 | AF23: 0 | AG23: 0 | BB23: CIRCUIT ID 101T1ZFJOLTILBBH04JOLTILJODC1B CHANNELS .IDZD.541907.001LB THRU 023LB D CHANNEL .DZZD.541907.001LB TRUNK GROUP 061 NATIONAL | BH23: 8157405397
A24: 101NPTAX00NA | C24: BusLines | D24: SILPB | E24: 4254700U01 | F24: DJJ: IYC-WARRENVILLE | G24: 00002 | K24: USILWRVCR001. | M24: ACTIVE | P24: PRICE1 | Q24: 0 | R24: 42866 | T24: 42866 | U24: 42761 | W24: 42761 | Y24: 0 | Z24: 0 | AC24: 0 | AD24: 0 | AE24: 0 | AF24: 0 | AG24: 0 | AP24: 143634-28 | AQ24: 143634 | AV24: .IDZD.100178.001LB THRU 023LB | AW24: 217M624567 | AX24: 630R261021 | AY24: 101T1ZFNPTPILAXH00NPVLILNADC0 | BA24: .DZZD.101935.001LB | BD24: 101T1ZFNPTPILAXH00NPVLILNADC0 | BF24: 6309833841 | BH24: 1111111111 | BI24: 2022 | BJ24: BOTH
A25: 101SPFAL00ES | B25: SPRINGFIELD VOIP 120 W JEFFERSON AND 201 W ADAMS | C25: VOIP | D25: SIVPC | E25: CRFVOIPPRI | F25: DoIT ENTERPRISE VOIP PRI | G25: 00002 | K25: USILSPFIS003. | M25: ACTIVE | P25: PRICE1 | Q25: 0 | R25: 44145 | T25: 44145 | U25: 41250 | W25: 41250 | Y25: 0 | Z25: 0 | AC25: 0 | AD25: 0 | AE25: 0 | AF25: 0 | AG25: 0 | AP25: 190654-1 | AQ25: 190654 | AV25: IDZD.477569.001-023..LB | AX25: 217M622000 | AY25: 101T1ZFSPFDILALH00SPFDILESDC1 | AZ25: CMS SPFLD VOIP FOR 120 W JEFFERSON AND 201 W ADAMS; TERMINATES @ DATA CENTER. OVERFLOWS TO 129SPFAL00ES (129T1ZFSPFDILALH00SPFDILESDC1) | BA25: DZZD.4775871.001..LB | BF25: 2175587200 | BH25: 2177822000 | BI25: 350 | BJ25: BOTH
A26: 101SPFAL50ES | B26: 101T1ZFSPFDILALH50SPFDILESDC1 | C26: CntrxLines | D26: SILPC | E26: CRF5510B01 | F26: DoIT: VIDEO CONFERENCING | G26: 00002 | K26: USILSPFIS003. | M26: ACTIVE | P26: PRICE1 | Q26: 0 | R26: 44193 | T26: 44193 | U26: 36080 | W26: 36080 | Y26: 0 | Z26: 0 | AC26: 0 | AD26: 0 | AE26: 0 | AF26: 0 | AG26: 0 | AP26: 191974-7 | AQ26: 191974 | AV26: .IDZD.657003.001 THRU 023LB | AX26: 217M622000 | AY26: 101T1ZFSPFDILALH50SPFDILESDC1 | BA26: .DZZD.657003.001.LB | BD26: 101T1ZFSPFDILALH50SPFDILESDC1 | BF26: 2175573113 | BH26: 2177822000 | BJ26: BOTH
