Workbook

Sheet Bid Sheet
A1: T0157 - WIC Infant Formula Rebate: DOH Bid Solicitation {RFP} 18DPP00157 Revised Price Schedule/Infant Formula Rebate Tabulation Sheet 11/04/17
A2: Page 1 of 2
B4: CARRY ALL FIGURES TO THREE (3) DECIMAL PLACES
C6: Instructions: | D6: Enter Vendor {Bidder} Name, product name, UPC code, unit size, reconstituted ounce per unit, lowest national wholesale price per unit for a full truckload of the Vendor’s {Bidder's} milk-based iron-fortified Primary Rebate-Eligible Formula, and rebate bid per unit in the chart below. The Vendor {Bidder} must carry all figures to three (3) decimal places.
D8: Fields where the Vendor {Bidder} must provide data are highlighted yellow.
D9: Calculations will be performed automatically within the spreadsheet in Page 2.
D10: The Vendor {Bidder} shall sign and notarize this form.
C13: Vendor {Bidder} Name:
C15: Physical Form | D15: Product Name Being Bid | E15: UPC Code | F15: Unit Size (in Ounces) | G15: Reconstituted Ounce Per Unit | H15: Lowest Wholesale Full Truckload Price Per Unit | I15: Rebate Bid Per Unit | J15: Net Cost | K15: Percent Rebate
C16: Powdered | J16: =H16-I16 -> 0 | K16: =I16/H16 -> #DIV/0!
C17: Liquid Concentrate | J17: =H17-I17 -> 0 | K17: =I17/H17 -> #DIV/0!
C18: Ready-to-Feed | J18: =H18-I18 -> 0 | K18: =I18/H18 -> #DIV/0!
B21: **No assurance is given as to any minimum or maximum number of infant participants. Likewise, no assurances are provided on the quantity, type, or physical forms that will be issued under the agreement that will become a result of this Invitation to Bid
B23: Certification
B24: The Vendor {Bidder} hereby certifies that it is registered under the Food, Drug and Cosmetic Act with the United States Department of Health & Human Services and its products are in compliance with Federal regulations issued pursuant to P.L. 100-237. Bids for all physical forms of formula must meet the requirements of 246.10 (e) (l)(iii) and 246.10(e)(2)(iii) and be suitable for the routine issuance to the majority of generally healthy, full term infants.
B25: Each infant formula product to be supplied under the terms of the contract complies with the Federal Food, Drug, and Cosmetic Act.
B26: The Bidder certifies that the company can and will supply the quantities of infant formula offered to meet one hundred percent (100%) of the WIC Program’s needs in all geographic areas.
B31: Signature | I31: Date
B33: Signature:
B34: Seal/Date

Sheet Eval Model
A1: T0157 - WIC Infant Formula Rebate: DOH Bid Solicitation {RFP} 18DPP00157 Price Schedule/Infant Formula Rebate Tabulation Sheet-Evaluation Model
A2: Page 2 of 2
B4: ALL FIGURES MUST BE AT LEAST THREE (3) DECIMAL PLACES
A6: All highlighted cells containing information will automatically populate from Vendor's {Bidder's} data entered into Page 1
B9: Physical Form, Product Brand Name, and Unit Size | C9: Reconstituted Ounces Per Unit | D9: Infant Age Categories | E9: Number of Reconstituted Ounces Issued per Month (based on Max)** | G9: Estimated Average # Infants by Form Based on 6 Months Average* | I9: Total Monthly Reconstituted Ounces to Bid | J9: Total Monthly Units | K9: Lowest Wholesale Full Truckload Price Per Unit | L9: Rebate Per Unit | M9: Net Cost Per Unit | N9: Total Net Cost
A10: Type: | B10: Powdered | E10: FF | F10: PBF | G10: FF | H10: PBF
A11: Name: | B11: ='Bid Sheet'!D16 -> 0 | C11: ='Bid Sheet'!G16 -> 0 | D11: 0-3 months | E11: 870 | F11: 435 | G11: 6613 | H11: 2378 | I11: =(E11*G11)+(F11*H11)+(E12*G12)+(F12*H12)+(E13*G13)+(F13*H13) -> 19732614 | J11: =ROUND(I11/C11,0) -> #DIV/0! | K11: ='Bid Sheet'!H16 -> 0 | L11: ='Bid Sheet'!I16 -> 0 | M11: =K11-L11 -> 0 | N11: =M11*J11 -> #DIV/0!
A12: Ounces: | B12: ='Bid Sheet'!F16 -> 0 | D12: 4-5 months | E12: 960 | F12: 522 | G12: 4089 | H12: 917
D13: 6-11 months | E13: 696 | F13: 384 | G13: 11325 | H13: 1715
A14: Type: | B14: Liquid Concentrate | E14: FF | F14: PBF | G14: FF | H14: PBF
A15: Name: | B15: ='Bid Sheet'!D17 -> 0 | C15: ='Bid Sheet'!G17 -> 0 | D15: 0-3 months | E15: 823 | F15: 388 | G15: 157 | H15: 11 | I15: =(E15*G15)+(F15*H15)+(E16*G16)+(F16*H16)+(E17*G17)+(F17*H17) -> 361560 | J15: =ROUND(I15/C15,0) -> #DIV/0! | K15: ='Bid Sheet'!H17 -> 0 | L15: ='Bid Sheet'!I17 -> 0 | M15: =K15-L15 -> 0 | N15: =M15*J15 -> #DIV/0!
A16: Ounces: | B16: ='Bid Sheet'!F17 -> 0 | D16: 4-5 months | E16: 896 | F16: 460 | G16: 91 | H16: 7
D17: 6-11 months | E17: 630 | F17: 315 | G17: 220 | H17: 15
A18: Type: | B18: Ready-to-Feed | E18: FF | F18: PBF | G18: FF | H18: PBF
A19: Name: | B19: ='Bid Sheet'!D18 -> 0 | C19: ='Bid Sheet'!G18 -> 0 | D19: 0-3 months | E19: 832 | F19: 384 | G19: 23 | H19: 1 | I19: =(E19*G19)+(F19*H19)+(E20*G20)+(F20*H20)+(E21*G21)+(F21*H21) -> 55246 | J19: =ROUND(I19/C19,0) -> #DIV/0! | K19: ='Bid Sheet'!H18 -> 0 | L19: ='Bid Sheet'!I18 -> 0 | M19: =K19-L19 -> 0 | N19: =M19*J19 -> #DIV/0!
A20: Ounces: | B20: ='Bid Sheet'!F18 -> 0 | D20: 4-5 months | E20: 913 | F20: 474 | G20: 15 | H20: 1
D21: 6-11 months | E21: 643 | F21: 338 | G21: 33 | H21: 1
M22: Total Net | N22: =SUM(N11+N15+N19) -> #DIV/0!
M23: Cost Per Month
B24: * Based on six months of the most recent data available
B25: * Excludes those infants exclusively breastfed or issued exempt infant formula
B26: **Based on WIC Program Regulations (§246.10(e)(9)(Table 1) and §246.16a(c)(5)(i))
