Workbook

Sheet PERS 
C2: Price Schedule - 17DPP00136
D3: Actuarial Services : Contracted Actuarial Consulting Firms
D5: Public Employees Retirement Systems (PERS)
C7: Vendors {Bidders} must submit a Quote {Proposal} to perform actuarial services for at least one (1)
C8: of the three (3) Blanket P.O.s {Contracts}, any one (1) Vendor {Bidder} may submit Quotes {Proposals}
C9: for all three (3) projects (PERS, TPAF, and CPRS) contained in the Scope of Work, Section 3.0, the
C10: State does not intend to award all three (3) projects to a single Vendor {Bidder}.
C12: Refer to Bid Solicitation {RFP} Section 2.2 for a definition of "All-Inclusive Hourly Rate", and
C14: Section 4.4.5 (Price Schedule) for additional information regarding this Price Schedule.
C16: Vendor {Bidder} Name | D16: ABC Corp.
D18: Contract Year 1
D19: Firm Fixed Price (Price Lines 41 - 44)
C20: Line Item | D20: Description of Work | E20: Est. Quantity | F20: Unit | G20: Unit Price | H20: All-Inclusive Hourly Rate
C21: 41 | D21: Actuarial Services for Recurring Services (Section 3.6.1) | E21: 1 | F21: Each | G21: 0 | H21: =G21*E21 -> 0
C22: 42 | D22: Chapter 19 Payoff Amounts (Section 3.6.2) | E22: 4 | F22: Each | G22: 0 | H22: =G22*E22 -> 0
C23: 43 | D23: Option 4 Calculations (Section 3.6.2) | E23: 7 | F23: Each | G23: 0 | H23: =G23*E23 -> 0
C24: 44 | D24: Interfund Transfer (Section 3.6.2) | E24: 349 | F24: Each | G24: 0 | H24: =G24*E24 -> 0
D25: Total - Firm Fixed Price (Price Lines 41 - 44) | H25: =SUM(H21:H24) -> 0
D28: Contract Year 2
D29: Firm Fixed Price (Price Lines 45 - 50)
C30: Line Item | D30: Description of Work | E30: Est. Quantity | F30: Unit | G30: Unit Price | H30: All-Inclusive Hourly Rate
C31: 45 | D31: Actuarial Services for Recurring Services (Section 3.6.1) | E31: 1 | F31: Each | G31: 0 | H31: =G31*E31 -> 0
C32: 46 | D32: Triennial Experience Study (Section 3.6.2) | E32: 1 | F32: Each | G32: 0 | H32: =G32*E32 -> 0
C33: 47 | D33: Chapter 19 Payoff Amounts (Section 3.6.2) | E33: 4 | F33: Each | G33: 0 | H33: =G33*E33 -> 0
C34: 48 | D34: Option 4 Calculations (Section 3.6.2) | E34: 7 | F34: Each | G34: 0 | H34: =G34*E34 -> 0
C35: 49 | D35: Interfund Transfer (Section 3.6.2) | E35: 349 | F35: Each | G35: 0 | H35: =G35*E35 -> 0
C36: 50 | D36: Analysis of Contributory Life Insurance Accounts - State & Local (Section 3.6.2 E) | E36: 2 | F36: Each | G36: 0 | H36: =G36*E36 -> 0
D37: Total - Firm Fixed Price (Price Lines 45 -50) | H37: =SUM(H31:H36) -> 0
C40: Vendor {Bidder} Name | D40: =D16 -> ABC Corp. | F40: Public Employees Retirement Systems (PERS)
D42: Contract Year 3
D43: Firm Fixed Price (Price Lines 51 - 54)
C44: Line Item | D44: Description of Work | E44: Est. Quantity | F44: Unit | G44: Unit Price | H44: All-Inclusive Hourly Rate
C45: 51 | D45: Actuarial Services for Recurring Services (Section 3.6.1) | E45: 1 | F45: Each | G45: 0 | H45: =G45*E45 -> 0
C46: 52 | D46: Chapter 19 Payoff Amounts (Section 3.6.2) | E46: 4 | F46: Each | G46: 0 | H46: =G46*E46 -> 0
C47: 53 | D47: Option 4 Calculations (Section 3.6.2) | E47: 7 | F47: Each | G47: 0 | H47: =G47*E47 -> 0
C48: 54 | D48: Interfund Transfer (Section 3.6.2) | E48: 349 | F48: Each | G48: 0 | H48: =G48*E48 -> 0
D49: Total - Firm Fixed Price (Price Lines 51 - 54) | H49: =SUM(H45:H48) -> 0
D51: Contract Year 4
D52: Firm Fixed Price (Price Lines 55 - 58)
C53: Line Item | D53: Description of Work | E53: Est. Quantity | F53: Unit | G53: Unit Price | H53: All-Inclusive Hourly Rate
C54: 55 | D54: Actuarial Services for Recurring Services (Section 3.6.1) | E54: 1 | F54: Each | G54: 0 | H54: =G54*E54 -> 0
C55: 56 | D55: Chapter 19 Payoff Amounts (Section 3.6.2) | E55: 4 | F55: Each | G55: 0 | H55: =G55*E55 -> 0
C56: 57 | D56: Option 4 Calculations (Section 3.6.2) | E56: 7 | F56: Each | G56: 0 | H56: =G56*E56 -> 0
C57: 58 | D57: Interfund Transfer (Section 3.6.2) | E57: 349 | F57: Each | G57: 0 | H57: =G57*E57 -> 0
D58: Total - Firm Fixed Price (Price Lines 55 - 58) | H58: =SUM(H54:H57) -> 0
D60: Contract Year 5
D61: Firm Fixed Price (Price Lines 59 - 63)
C62: Line Item | D62: Description of Work | E62: Est. Quantity | F62: Unit | G62: Unit Price | H62: All-Inclusive Hourly Rate
C63: 59 | D63: Actuarial Services for Recurring Services (Section 3.6.1) | E63: 1 | F63: Each | G63: 0 | H63: =G63*E63 -> 0
C64: 60 | D64: Triennial Experience Study (Section 3.6.2) | E64: 1 | F64: Each | G64: 0 | H64: =G64*E64 -> 0
C65: 61 | D65: Chapter 19 Payoff Amounts (Section 3.6.2) | E65: 4 | F65: Each | G65: 0 | H65: =G65*E65 -> 0
C66: 62 | D66: Option 4 Calculations (Section 3.6.2) | E66: 7 | F66: Each | G66: 0 | H66: =G66*E66 -> 0
C67: 63 | D67: Interfund Transfer (Section 3.6.2) | E67: 349 | F67: Each | G67: 0 | H67: =G67*E67 -> 0
D68: Total - Firm Fixed Price (Price Lines 59 -63) | H68: =SUM(H63:H67) -> 0
D70: Description of Work | E70: Est. Quantity | F70: Unit | G70: Unit Price | H70: All-Inclusive Hourly Rate
D71: Total Firm Fixed Price for PERS Price Schedule for Years 1 - 5, Price Lines 41 - 63 | H71: =H68+H58+H49+H37+H25 -> 0

Sheet TPAF
C2: Price Schedule - 17DPP00136
D3: Actuarial Services : Contracted Actuarial Consulting Firms
D5: Teachers Pension & Annuity Fund (TPAF)
C7: Vendors {Bidders} must submit a Quote {Proposal} to perform actuarial services for at least one (1)
C8: of the three (3) Blanket P.O.s {Contracts}, any one (1) Vendor {Bidder} may submit Quotes {Proposals}
C9: for all three (3) projects (PERS, TPAF, and CPRS) contained in the Scope of Work, Section 3.0, the
C10: State does not intend to award all three (3) projects to a single Vendor {Bidder}.
C12: Refer to Bid Solicitation {RFP} Section 2.2 for a definition of "All-Inclusive Hourly Rate", and
C14: Section 4.4.5 (Price Schedule) for additional information regarding this Price Schedule.
C16: Vendor {Bidder} Name | D16: ='PERS '!D16 -> ABC Corp.
D18: Contract Year 1
D19: Firm Fixed Price (Price Lines 64 - 67)
C20: Line Item | D20: Description of Work | E20: Est. Quantity | F20: Unit | G20: Unit Price | H20: All-Inclusive Hourly Rate
C21: 64 | D21: Actuarial Services for Recurring Services (Section 3.6.1) | E21: 1 | F21: Each | G21: 0 | H21: =G21*E21 -> 0
C22: 65 | D22: Chapter 19 Payoff Amounts (Section 3.6.2) | E22: 4 | F22: Each | G22: 0 | H22: =G22*E22 -> 0
C23: 66 | D23: Option 4 Calculations (Section 3.6.2) | E23: 7 | F23: Each | G23: 0 | H23: =G23*E23 -> 0
C24: 67 | D24: Interfund Transfer (Section 3.6.2) | E24: 46 | F24: Each | G24: 0 | H24: =G24*E24 -> 0
D25: Total - Firm Fixed Price (Price Lines 64 - 67) | H25: =SUM(H21:H24) -> 0
D28: Contract Year 2
D29: Firm Fixed Price (Price Lines 68 - 72)
C30: Line Item | D30: Description of Work | E30: Est. Quantity | F30: Unit | G30: Unit Price | H30: All-Inclusive Hourly Rate
C31: 68 | D31: Actuarial Services for Recurring Services (Section 3.6.1) | E31: 1 | F31: Each | G31: 0 | H31: =G31*E31 -> 0
C32: 69 | D32: Chapter 19 Payoff Amounts (Section 3.6.2) | E32: 4 | F32: Each | G32: 0 | H32: =G32*E32 -> 0
C33: 70 | D33: Option 4 Calculations (Section 3.6.2) | E33: 7 | F33: Each | G33: 0 | H33: =G33*E33 -> 0
C34: 71 | D34: Interfund Transfer (Section 3.6.2) | E34: 46 | F34: Each | G34: 0 | H34: =G34*E34 -> 0
C35: 72 | D35: Analysis of Contributory Life Insurance Accounts (Section 3.6.2 E) | E35: 1 | F35: Each | G35: 0 | H35: =G35*E35 -> 0
D36: Total - Firm Fixed Price (Price Lines 68 - 72) | H36: =SUM(H31:H35) -> 0
C40: Vendor {Bidder} Name | D40: =D16 -> ABC Corp. | F40: Teachers Pension & Annuity Fund (TPAF)
D42: Contract Year 3
D43: Firm Fixed Price (Price Lines 73 - 77)
C44: Line Item | D44: Description of Work | E44: Est. Quantity | F44: Unit | G44: Unit Price | H44: All-Inclusive Hourly Rate
C45: 73 | D45: Actuarial Services for Recurring Services (Section 3.6.1) | E45: 1 | F45: Each | G45: 0 | H45: =G45*E45 -> 0
C46: 74 | D46: Triennial Experience Study (Section 3.6.2) | E46: 1 | F46: Each | G46: 0 | H46: =G46*E46 -> 0
C47: 75 | D47: Chapter 19 Payoff Amounts (Section 3.6.2) | E47: 4 | F47: Each | G47: 0 | H47: =G47*E47 -> 0
C48: 76 | D48: Option 4 Calculations (Section 3.6.2) | E48: 7 | F48: Each | G48: 0 | H48: =G48*E48 -> 0
C49: 77 | D49: Interfund Transfer (Section 3.6.2) | E49: 46 | F49: Each | G49: 0 | H49: =G49*E49 -> 0
D50: Total - Firm Fixed Price (Price Lines 73 - 77) | H50: =SUM(H45:H49) -> 0
D52: Contract Year 4
D53: Firm Fixed Price (Price Lines 78 - 81)
C54: Line Item | D54: Description of Work | E54: Est. Quantity | F54: Unit | G54: Unit Price | H54: All-Inclusive Hourly Rate
C55: 78 | D55: Actuarial Services for Recurring Services (Section 3.6.1) | E55: 1 | F55: Each | G55: 0 | H55: =G55*E55 -> 0
C56: 79 | D56: Chapter 19 Payoff Amounts (Section 3.6.2) | E56: 4 | F56: Each | G56: 0 | H56: =G56*E56 -> 0
C57: 80 | D57: Option 4 Calculations (Section 3.6.2) | E57: 7 | F57: Each | G57: 0 | H57: =G57*E57 -> 0
C58: 81 | D58: Interfund Transfer (Section 3.6.2) | E58: 46 | F58: Each | G58: 0 | H58: =G58*E58 -> 0
D59: Total - Firm Fixed Price (Price Lines 78 - 81) | H59: =SUM(H55:H58) -> 0
D61: Contract Year 5
D62: Firm Fixed Price (Price Lines 82 - 85)
C63: Line Item | D63: Description of Work | E63: Est. Quantity | F63: Unit | G63: Unit Price | H63: All-Inclusive Hourly Rate
C64: 82 | D64: Actuarial Services for Recurring Services (Section 3.6.1) | E64: 1 | F64: Each | G64: 0 | H64: =G64*E64 -> 0
C65: 83 | D65: Chapter 19 Payoff Amounts (Section 3.6.2) | E65: 4 | F65: Each | G65: 0 | H65: =G65*E65 -> 0
C66: 84 | D66: Option 4 Calculations (Section 3.6.2) | E66: 7 | F66: Each | G66: 0 | H66: =G66*E66 -> 0
C67: 85 | D67: Interfund Transfer (Section 3.6.2) | E67: 349 | F67: Each | G67: 0 | H67: =G67*E67 -> 0
D68: Total - Firm Fixed Price (Price Lines 82 - 85) | H68: =SUM(H64:H67) -> 0
D70: Description of Work | E70: Est. Quantity | F70: Unit | G70: Unit Price | H70: All-Inclusive Hourly Rate
D71: Total Firm Fixed Price for TPAF Price Schedule for Years 1 - 5, Price Lines 64 - 85 | H71: =H68+H59+H50+H25+H36 -> 0

Sheet CPRS
C2: Price Schedule - 17DPP00136
D3: Actuarial Services : Contracted Actuarial Consulting Firms
D5: Certain Public Retirement Systems (CPRS)
C7: Vendors {Bidders} must submit a Quote {Proposal} to perform actuarial services for at least one (1)
C8: of the three (3) Blanket P.O.s {Contracts}, any one (1) Vendor {Bidder} may submit Quotes {Proposals}
C9: for all three (3) projects (PERS, TPAF, and CPRS) contained in the Scope of Work, Section 3.0, the
C10: State does not intend to award all three (3) projects to a single Vendor {Bidder}.
C12: Refer to Bid Solicitation {RFP} Section 2.2 for a definition of "All-Inclusive Hourly Rate", and
C14: Section 4.4.5 (Price Schedule) for additional information regarding this Price Schedule.
C16: Vendor {Bidder} Name | D16: ='PERS '!D16 -> ABC Corp.
D18: Contract Year 1
D19: Firm Fixed Price (Price Lines 86 - 90)
C20: Line Item | D20: Description of Work | E20: Est. Quantity | F20: Unit | G20: Unit Price | H20: All-Inclusive Hourly Rate
C21: 86 | D21: Actuarial Services for Recurring Services (Section 3.6.1) | E21: 1 | F21: Each | G21: 0 | H21: =G21*E21 -> 0
C22: 87 | D22: Triennial Experience Study (Section 3.6.2) | E22: 1 | F22: Each | G22: 0 | H22: =G22*E22 -> 0
C23: 88 | D23: Chapter 19 Payoff Amounts (Section 3.6.2) | E23: 4 | F23: Each | G23: 0 | H23: =G23*E23 -> 0
C24: 89 | D24: Option 4 Calculations (Section 3.6.2) | E24: 7 | F24: Each | G24: 0 | H24: =G24*E24 -> 0
C25: 90 | D25: Interfund Transfer (Section 3.6.2) | E25: 4 | F25: Each | G25: 0 | H25: =G25*E25 -> 0
D26: Total - Firm Fixed Price (Price Lines 86-90) | H26: =SUM(H21:H25) -> 0
D29: Contract Year 2
D30: Firm Fixed Price (Price Lines 91 - 95)
C31: Line Item | D31: Description of Work | E31: Est. Quantity | F31: Unit | G31: Unit Price | H31: All-Inclusive Hourly Rate
C32: 91 | D32: Actuarial Services for Recurring Services (Section 3.6.1) | E32: 1 | F32: Each | G32: 0 | H32: =G32*E32 -> 0
C33: 92 | D33: Triennial Experience Study (Section 3.6.2) | E33: 2 | F33: Each | G33: 0 | H33: =G33*E33 -> 0
C34: 93 | D34: Chapter 19 Payoff Amounts (Section 3.6.2) | E34: 4 | F34: Each | G34: 0 | H34: =G34*E34 -> 0
C35: 94 | D35: Option 4 Calculations (Section 3.6.2) | E35: 7 | F35: Each | G35: 0 | H35: =G35*E35 -> 0
C36: 95 | D36: Interfund Transfer (Section 3.6.2) | E36: 4 | F36: Each | G36: 0 | H36: =G36*E36 -> 0
D37: Total - Firm Fixed Price (Price Lines 91 -95) | H37: =SUM(H32:H36) -> 0
C42: Vendor {Bidder} Name | D42: =D16 -> ABC Corp. | F42: Certain Public Retirement Systems (CPRS)
D44: Contract Year 3
D45: Firm Fixed Price (Price Lines 96 -99)
C46: Line Item | D46: Description of Work | E46: Est. Quantity | F46: Unit | G46: Unit Price | H46: All-Inclusive Hourly Rate
C47: 96 | D47: Actuarial Services for Recurring Services (Section 3.6.1) | E47: 1 | F47: Each | G47: 0 | H47: =G47*E47 -> 0
C48: 97 | D48: Chapter 19 Payoff Amounts (Section 3.6.2) | E48: 4 | F48: Each | G48: 0 | H48: =G48*E48 -> 0
C49: 98 | D49: Option 4 Calculations (Section 3.6.2) | E49: 7 | F49: Each | G49: 0 | H49: =G49*E49 -> 0
C50: 99 | D50: Interfund Transfer (Section 3.6.2) | E50: 4 | F50: Each | G50: 0 | H50: =G50*E50 -> 0
D51: Total - Firm Fixed Price (Price Lines 96 -99) | H51: =SUM(H47:H50) -> 0
D53: Contract Year 4
D54: Firm Fixed Price (Price Lines 100-104)
C55: Line Item | D55: Description of Work | E55: Est. Quantity | F55: Unit | G55: Unit Price | H55: All-Inclusive Hourly Rate
C56: 100 | D56: Actuarial Services for Recurring Services (Section 3.6.1) | E56: 1 | F56: Each | G56: 0 | H56: =G56*E56 -> 0
C57: 101 | D57: Triennial Experience Study (Section 3.6.2) | E57: 1 | F57: Each | G57: 0 | H57: =G57*E57 -> 0
C58: 102 | D58: Chapter 19 Payoff Amounts (Section 3.6.2) | E58: 4 | F58: Each | G58: 0 | H58: =G58*E58 -> 0
C59: 103 | D59: Option 4 Calculations (Section 3.6.2) | E59: 7 | F59: Each | G59: 0 | H59: =G59*E59 -> 0
C60: 104 | D60: Interfund Transfer (Section 3.6.2) | E60: 4 | F60: Each | G60: 0 | H60: =G60*E60 -> 0
D61: Total - Firm Fixed Price (Price Lines 100 -104) | H61: =SUM(H56:H60) -> 0
D63: Contract Year 5
D64: Firm Fixed Price (Price Lines 105 - 109)
C65: Line Item | D65: Description of Work | E65: Est. Quantity | F65: Unit | G65: Unit Price | H65: All-Inclusive Hourly Rate
C66: 105 | D66: Actuarial Services for Recurring Services (Section 3.6.1) | E66: 1 | F66: Each | G66: 0 | H66: =G66*E66 -> 0
C67: 106 | D67: Triennial Experience Study (Section 3.6.2) | E67: 2 | F67: Each | G67: 0 | H67: =G67*E67 -> 0
C68: 107 | D68: Chapter 19 Payoff Amounts (Section 3.6.2) | E68: 4 | F68: Each | G68: 0 | H68: =G68*E68 -> 0
C69: 108 | D69: Option 4 Calculations (Section 3.6.2) | E69: 7 | F69: Each | G69: 0 | H69: =G69*E69 -> 0
C70: 109 | D70: Interfund Transfer (Section 3.6.2) | E70: 4 | F70: Each | G70: 0 | H70: =G70*E70 -> 0
D71: Total - Firm Fixed Price (Price Lines 105 -109) | H71: =SUM(H66:H70) -> 0
D73: Description of Work | E73: Est. Quantity | F73: Unit | G73: Unit Price | H73: All-Inclusive Hourly Rate
D74: Total Firm Fixed Price for CPRS Price Schedule for Years 1 - 5, Price Lines 86 - 109 | H74: =H71+H61+H51+H37+H26 -> 0

Sheet Yr 1 Hourly Rates
C2: Price Schedule - 17DPP00136
D3: Actuarial Services : Contracted Actuarial Consulting Firms
C5: Vendors {Bidders} must submit a Quote {Proposal} to perform actuarial services for at least one (1)
C6: of the three (3) Blanket P.O.s {Contracts}, any one (1) Vendor {Bidder} may submit Quotes {Proposals}
C7: for all three (3) projects (PERS, TPAF, and CPRS) contained in the Scope of Work, Section 3.0, the
C8: State does not intend to award all three (3) projects to a single Vendor {Bidder}.
C10: Refer to Bid Solicitation {RFP} Section 2.2 for a definition of "All-Inclusive Hourly Rate", and
C12: Section 4.4.5 (Price Schedule) for additional information regarding this Price Schedule.
C14: Section 4.4.5.2 The Vendor {Bidder} must enter an hourly rate price for all eight (8) Professional Skills
C15: Classifications for each year of the five (5) term of the Blanket P.O. {Contract}.
C18: Vendor {Bidder} Name | D18: ='PERS '!D16 -> ABC Corp.
D20: All-Inclusive Hourly Rates Year 1
C22: Line Item | D22: Description of Work | F22: Unit | G22: All-Inclusive Hourly Rate
C24: 1 | D24: Principal, Consulting Actuary | E24: Required | F24: Hour | G24: 0
C25: 2 | D25: Associate Principal, Consulting Actuary | E25: Required | F25: Hour | G25: 0
C26: 3 | D26: Associate Principal, Retirement Actuary | E26: Required | F26: Hour | G26: 0
C27: 4 | D27: Senior Consultant, Actuary | E27: Required | F27: Hour | G27: 0
C28: 5 | D28: Consultant, Actuary | E28: Required | F28: Hour | G28: 0
C29: 6 | D29: Senior Associate | E29: Required | F29: Hour | G29: 0
C30: 7 | D30: Associate | E30: Required | F30: Hour | G30: 0
C31: 8 | D31: General Support Staff | E31: Required | F31: Hour | G31: 0
C37: Yellow cells are the only cells that need to be provided by the Vendor {Bidder}. Calculations are automatic.

Sheet Yr 2 Hourly Rates
C2: Price Schedule - 17DPP00136
D3: Actuarial Services : Contracted Actuarial Consulting Firms
C5: Vendors {Bidders} must submit a Quote {Proposal} to perform actuarial services for at least one (1)
C6: of the three (3) Blanket P.O.s {Contracts}, any one (1) Vendor {Bidder} may submit Quotes {Proposals}
C7: for all three (3) projects (PERS, TPAF, and CPRS) contained in the Scope of Work, Section 3.0, the
C8: State does not intend to award all three (3) projects to a single Vendor {Bidder}.
C10: Refer to Bid Solicitation {RFP} Section 2.2 for a definition of "All-Inclusive Hourly Rate", and
C12: Section 4.4.5 (Price Schedule) for additional information regarding this Price Schedule.
C14: Section 4.4.5.2 The Vendor {Bidder} must enter an hourly rate price for all eight (8) Professional Skills
C15: Classifications for each year of the five (5) term of the Blanket P.O. {Contract}.
C18: Vendor {Bidder} Name | D18: ='PERS '!D16 -> ABC Corp.
D20: All-Inclusive Hourly Rates Year 2
C22: Line Item | D22: Description of Work | F22: Unit | G22: All-Inclusive Hourly Rate
C24: 9 | D24: Principal, Consulting Actuary | E24: Required | F24: Hour | G24: 0
C25: 10 | D25: Associate Principal, Consulting Actuary | E25: Required | F25: Hour | G25: 0
C26: 11 | D26: Associate Principal, Retirement Actuary | E26: Required | F26: Hour | G26: 0
C27: 12 | D27: Senior Consultant, Actuary | E27: Required | F27: Hour | G27: 0
C28: 13 | D28: Consultant, Actuary | E28: Required | F28: Hour | G28: 0
C29: 14 | D29: Senior Associate | E29: Required | F29: Hour | G29: 0
C30: 15 | D30: Associate | E30: Required | F30: Hour | G30: 0
C31: 16 | D31: General Support Staff | E31: Required | F31: Hour | G31: 0
C37: Yellow cells are the only cells that need to be provided by the Vendor {Bidder}. Calculations are automatic.

Sheet Yr 3 Hourly Rates
C2: Price Schedule - 17DPP00136
D3: Actuarial Services : Contracted Actuarial Consulting Firms
C5: Vendors {Bidders} must submit a Quote {Proposal} to perform actuarial services for at least one (1)
C6: of the three (3) Blanket P.O.s {Contracts}, any one (1) Vendor {Bidder} may submit Quotes {Proposals}
C7: for all three (3) projects (PERS, TPAF, and CPRS) contained in the Scope of Work, Section 3.0, the
C8: State does not intend to award all three (3) projects to a single Vendor {Bidder}.
C10: Refer to Bid Solicitation {RFP} Section 2.2 for a definition of "All-Inclusive Hourly Rate", and
C12: Section 4.4.5 (Price Schedule) for additional information regarding this Price Schedule.
C14: Section 4.4.5.2 The Vendor {Bidder} must enter an hourly rate price for all eight (8) Professional Skills
C15: Classifications for each year of the five (5) term of the Blanket P.O. {Contract}.
C18: Vendor {Bidder} Name | D18: ='PERS '!D16 -> ABC Corp.
D20: All-Inclusive Hourly Rates Year 3
C22: Line Item | D22: Description of Work | F22: Unit | G22: All-Inclusive Hourly Rate
C24: 17 | D24: Principal, Consulting Actuary | E24: Required | F24: Hour | G24: 0
C25: 18 | D25: Associate Principal, Consulting Actuary | E25: Required | F25: Hour | G25: 0
C26: 19 | D26: Associate Principal, Retirement Actuary | E26: Required | F26: Hour | G26: 0
C27: 20 | D27: Senior Consultant, Actuary | E27: Required | F27: Hour | G27: 0
C28: 21 | D28: Consultant, Actuary | E28: Required | F28: Hour | G28: 0
C29: 22 | D29: Senior Associate | E29: Required | F29: Hour | G29: 0
C30: 23 | D30: Associate | E30: Required | F30: Hour | G30: 0
C31: 24 | D31: General Support Staff | E31: Required | F31: Hour | G31: 0
C37: Yellow cells are the only cells that need to be provided by the Vendor {Bidder}. Calculations are automatic.

Sheet Yr 4 Hourly Rates
C2: Price Schedule - 17DPP00136
D3: Actuarial Services : Contracted Actuarial Consulting Firms
C5: Vendors {Bidders} must submit a Quote {Proposal} to perform actuarial services for at least one (1)
C6: of the three (3) Blanket P.O.s {Contracts}, any one (1) Vendor {Bidder} may submit Quotes {Proposals}
C7: for all three (3) projects (PERS, TPAF, and CPRS) contained in the Scope of Work, Section 3.0, the
C8: State does not intend to award all three (3) projects to a single Vendor {Bidder}.
C10: Refer to Bid Solicitation {RFP} Section 2.2 for a definition of "All-Inclusive Hourly Rate", and
C12: Section 4.4.5 (Price Schedule) for additional information regarding this Price Schedule.
C14: Section 4.4.5.2 The Vendor {Bidder} must enter an hourly rate price for all eight (8) Professional Skills
C15: Classifications for each year of the five (5) term of the Blanket P.O. {Contract}.
C18: Vendor {Bidder} Name | D18: ='PERS '!D16 -> ABC Corp.
D20: All-Inclusive Hourly Rates Year 4
C22: Line Item | D22: Description of Work | F22: Unit | G22: All-Inclusive Hourly Rate
C24: 25 | D24: Principal, Consulting Actuary | E24: Required | F24: Hour | G24: 0
C25: 26 | D25: Associate Principal, Consulting Actuary | E25: Required | F25: Hour | G25: 0
C26: 27 | D26: Associate Principal, Retirement Actuary | E26: Required | F26: Hour | G26: 0
C27: 28 | D27: Senior Consultant, Actuary | E27: Required | F27: Hour | G27: 0
C28: 29 | D28: Consultant, Actuary | E28: Required | F28: Hour | G28: 0
C29: 30 | D29: Senior Associate | E29: Required | F29: Hour | G29: 0
C30: 31 | D30: Associate | E30: Required | F30: Hour | G30: 0
C31: 32 | D31: General Support Staff | E31: Required | F31: Hour | G31: 0
C37: Yellow cells are the only cells that need to be provided by the Vendor {Bidder}. Calculations are automatic.

Sheet Yr 5 Hourly Rates
C2: Price Schedule - 17DPP00136
D3: Actuarial Services : Contracted Actuarial Consulting Firms
C5: Vendors {Bidders} must submit a Quote {Proposal} to perform actuarial services for at least one (1)
C6: of the three (3) Blanket P.O.s {Contracts}, any one (1) Vendor {Bidder} may submit Quotes {Proposals}
C7: for all three (3) projects (PERS, TPAF, and CPRS) contained in the Scope of Work, Section 3.0, the
C8: State does not intend to award all three (3) projects to a single Vendor {Bidder}.
C10: Refer to Bid Solicitation {RFP} Section 2.2 for a definition of "All-Inclusive Hourly Rate", and
C12: Section 4.4.5 (Price Schedule) for additional information regarding this Price Schedule.
C14: Section 4.4.5.2 The Vendor {Bidder} must enter an hourly rate price for all eight (8) Professional Skills
C15: Classifications for each year of the five (5) term of the Blanket P.O. {Contract}.
C18: Vendor {Bidder} Name | D18: ='PERS '!D16 -> ABC Corp.
D20: All-Inclusive Hourly Rates Year 5
C22: Line Item | D22: Description of Work | F22: Unit | G22: All-Inclusive Hourly Rate
C24: 33 | D24: Principal, Consulting Actuary | E24: Required | F24: Hour | G24: 0
C25: 34 | D25: Associate Principal, Consulting Actuary | E25: Required | F25: Hour | G25: 0
C26: 35 | D26: Associate Principal, Retirement Actuary | E26: Required | F26: Hour | G26: 0
C27: 36 | D27: Senior Consultant, Actuary | E27: Required | F27: Hour | G27: 0
C28: 37 | D28: Consultant, Actuary | E28: Required | F28: Hour | G28: 0
C29: 38 | D29: Senior Associate | E29: Required | F29: Hour | G29: 0
C30: 39 | D30: Associate | E30: Required | F30: Hour | G30: 0
C31: 40 | D31: General Support Staff | E31: Required | F31: Hour | G31: 0
C37: Yellow cells are the only cells that need to be provided by the Vendor {Bidder}. Calculations are automatic.
