Workbook

Sheet Year 1
C2: Price Schedule - 17DPP00107
D4: Actuarial Services : Contracted Actuarial Consulting Firms
C6: Refer to Bid Solicitation {RFP} Section 2.2 for a definition of "All-Inclusive Hourly Rate", and
C7: Section 4.4.5 (Price Schedule) for additional information regarding this Price Schedule.
C9: Vendor {Bidder} Name
D11: All-Inclusive Hourly Rates Year 1
C13: Line Item | D13: Description of Work | F13: Unit | G13: All-Inclusive Hourly Rate
C15: 1 | D15: Principal, Consulting Actuary | E15: Required | F15: Hour | G15: 0
C16: 2 | D16: Associate Principal, Consulting Actuary | E16: Required | F16: Hour | G16: 0
C17: 3 | D17: Associate Principal, Health Actuary | E17: Optional | F17: Hour | G17: 0
C18: 4 | D18: Associate Principal, Retirement Actuary | E18: Optional | F18: Hour | G18: 0
C19: 5 | D19: Senior Consultant, Actuary | E19: Required | F19: Hour | G19: 0
C20: 6 | D20: Senior Consultant, Health Actuary | E20: Optional | F20: Hour | G20: 0
C21: 7 | D21: Senior Consultant, Retirement Actuary | E21: Optional | F21: Hour | G21: 0
C22: 8 | D22: Consultant, Actuary | E22: Required | F22: Hour | G22: 0
C23: 9 | D23: Consultant, Health Actuary | E23: Optional | F23: Hour | G23: 0
C24: 10 | D24: Consultant, Retirement Actuary | E24: Optional | F24: Hour | G24: 0
C25: 11 | D25: Senior Associate | E25: Required | F25: Hour | G25: 0
C26: 12 | D26: Associate | E26: Required | F26: Hour | G26: 0
... C28: 14 | D28: Litigation Support (Section 3.8) | E28: Required | F28: Hour | G28: 0
C32: Yellow cells are the only cells that need to be provided by the Vendor {Bidder}.

Sheet Year 2
C2: Price Schedule - 17DPP00107
D4: Actuarial Services : Contracted Actuarial Consulting Firms
C6: Refer to Bid Solicitation {RFP} Section 2.2 for a definition of "All-Inclusive Hourly Rate", and
C7: Section 4.4.5 (Price Schedule) for additional information regarding this Price Schedule.
C9: Vendor {Bidder} Name | D9: ='Year 1'!D9 -> 0
D11: All-Inclusive Hourly Rates Year 2
C13: Line Item | D13: Description of Work | F13: Unit | G13: All-Inclusive Hourly Rate
C15: 15 | D15: Principal, Consulting Actuary | E15: Required | F15: Hour | G15: 0
C16: 16 | D16: Associate Principal, Consulting Actuary | E16: Required | F16: Hour | G16: 0
C17: 17 | D17: Associate Principal, Health Actuary | E17: Optional | F17: Hour | G17: 0
C18: 18 | D18: Associate Principal, Retirement Actuary | E18: Optional | F18: Hour | G18: 0
C19: 19 | D19: Senior Consultant, Actuary | E19: Required | F19: Hour | G19: 0
C20: 20 | D20: Senior Consultant, Health Actuary | E20: Optional | F20: Hour | G20: 0
C21: 21 | D21: Senior Consultant, Retirement Actuary | E21: Optional | F21: Hour | G21: 0
C22: 22 | D22: Consultant, Actuary | E22: Required | F22: Hour | G22: 0
C23: 23 | D23: Consultant, Health Actuary | E23: Optional | F23: Hour | G23: 0
C24: 24 | D24: Consultant, Retirement Actuary | E24: Optional | F24: Hour | G24: 0
C25: 25 | D25: Senior Associate | E25: Required | F25: Hour | G25: 0
C26: 26 | D26: Associate | E26: Required | F26: Hour | G26: 0
... C28: 28 | D28: Litigation Support (Section 3.8) | E28: Required | F28: Hour | G28: 0
C32: Yellow cells are the only cells that need to be provided by the Vendor {Bidder}.

Sheet Year 3
C2: Price Schedule - 17DPP00107
D4: Actuarial Services : Contracted Actuarial Consulting Firms
C6: Refer to Bid Solicitation {RFP} Section 2.2 for a definition of "All-Inclusive Hourly Rate", and
C7: Section 4.4.5 (Price Schedule) for additional information regarding this Price Schedule.
C9: Vendor {Bidder} Name | D9: ='Year 1'!D9 -> 0
D11: All-Inclusive Hourly Rates Year 3
C13: Line Item | D13: Description of Work | F13: Unit | G13: All-Inclusive Hourly Rate
C15: 29 | D15: Principal, Consulting Actuary | E15: Required | F15: Hour | G15: 0
C16: 30 | D16: Associate Principal, Consulting Actuary | E16: Required | F16: Hour | G16: 0
C17: 31 | D17: Associate Principal, Health Actuary | E17: Optional | F17: Hour | G17: 0
C18: 32 | D18: Associate Principal, Retirement Actuary | E18: Optional | F18: Hour | G18: 0
C19: 33 | D19: Senior Consultant, Actuary | E19: Required | F19: Hour | G19: 0
C20: 34 | D20: Senior Consultant, Health Actuary | E20: Optional | F20: Hour | G20: 0
C21: 35 | D21: Senior Consultant, Retirement Actuary | E21: Optional | F21: Hour | G21: 0
C22: 36 | D22: Consultant, Actuary | E22: Required | F22: Hour | G22: 0
C23: 37 | D23: Consultant, Health Actuary | E23: Optional | F23: Hour | G23: 0
C24: 38 | D24: Consultant, Retirement Actuary | E24: Optional | F24: Hour | G24: 0
C25: 39 | D25: Senior Associate | E25: Required | F25: Hour | G25: 0
C26: 40 | D26: Associate | E26: Required | F26: Hour | G26: 0
... C28: 42 | D28: Litigation Support (Section 3.8) | E28: Required | F28: Hour | G28: 0
C32: Yellow cells are the only cells that need to be provided by the Vendor {Bidder}.

Sheet Summary of 3 yr. Base Term
C2: Price Schedule - 17DPP00107
D4: Actuarial Services : Contracted Actuarial Consulting Firms
C6: Refer to Bid Solicitation {RFP} Section 2.2 for a definition of "All-Inclusive Hourly Rate", and
C7: Section 4.4.5 (Price Schedule) for additional information regarding this Price Schedule.
C9: Vendor {Bidder} Name | D9: ='Year 1'!D9 -> 0 | G9: Summary of 3yr. Base Term
C12: Line Items | D12: Description of Work | F12: Year 1 | G12: Year 2 | H12: Year 3
C14: 1,15,29 | D14: Principal, Consulting Actuary | E14: Required | F14: ='Year 1'!G15 -> 0 | G14: ='Year 2'!G15 -> 0 | H14: ='Year 3'!G15 -> 0
C15: 2,16,30 | D15: Associate Principal, Consulting Actuary | E15: Required | F15: ='Year 1'!G16 -> 0 | G15: ='Year 2'!G16 -> 0 | H15: ='Year 3'!G16 -> 0
C16: 3,17,31 | D16: Associate Principal, Health Actuary | E16: Optional | F16: ='Year 1'!G17 -> 0 | G16: ='Year 2'!G17 -> 0 | H16: ='Year 3'!G17 -> 0
C17: 4,18,32 | D17: Associate Principal, Retirement Actuary | E17: Optional | F17: ='Year 1'!G18 -> 0 | G17: ='Year 2'!G18 -> 0 | H17: ='Year 3'!G18 -> 0
C18: 5,19,33 | D18: Senior Consultant, Actuary | E18: Required | F18: ='Year 1'!G19 -> 0 | G18: ='Year 2'!G19 -> 0 | H18: ='Year 3'!G19 -> 0
C19: 6,20,34 | D19: Senior Consultant, Health Actuary | E19: Optional | F19: ='Year 1'!G20 -> 0 | G19: ='Year 2'!G20 -> 0 | H19: ='Year 3'!G20 -> 0
C20: 7,21,35 | D20: Senior Consultant, Retirement Actuary | E20: Optional | F20: ='Year 1'!G21 -> 0 | G20: ='Year 2'!G21 -> 0 | H20: ='Year 3'!G21 -> 0
C21: 8,22,36 | D21: Consultant, Actuary | E21: Required | F21: ='Year 1'!G22 -> 0 | G21: ='Year 2'!G22 -> 0 | H21: ='Year 3'!G22 -> 0
C22: 9,23,37 | D22: Consultant, Health Actuary | E22: Optional | F22: ='Year 1'!G23 -> 0 | G22: ='Year 2'!G23 -> 0 | H22: ='Year 3'!G23 -> 0
C23: 10,24,38 | D23: Consultant, Retirement Actuary | E23: Optional | F23: ='Year 1'!G24 -> 0 | G23: ='Year 2'!G24 -> 0 | H23: ='Year 3'!G24 -> 0
C24: 11,25,39 | D24: Senior Associate | E24: Required | F24: ='Year 1'!G25 -> 0 | G24: ='Year 2'!G25 -> 0 | H24: ='Year 3'!G25 -> 0
C25: 12,26,40 | D25: Associate | E25: Required | F25: ='Year 1'!G26 -> 0 | G25: ='Year 2'!G26 -> 0 | H25: ='Year 3'!G26 -> 0
... C27: 14,28,42 | D27: Litigation Support (Section 3.8) | E27: Required | F27: ='Year 1'!G28 -> 0 | G27: ='Year 2'!G28 -> 0 | H27: ='Year 3'!G28 -> 0
