Workbook

Sheet Graphs
A1: NJKiDS Maintenance & Operations Performance
A4: Contract Yr | B4: 2011 | C4: 2012 | D4: 2013 | E4: 2014 | F4: 2015 | G4: 2016 | H4: 2017
A6: Month | B6: Tickets | C6: Tickets | D6: Tickets | E6: Tickets | F6: Tickets | G6: Tickets | H6: Tickets
A7: Mar | B7: 39 | C7: =+Builds!J230 -> 27 | D7: =Builds!J473 -> 21 | E7: =Builds!J710 -> 21 | F7: =Builds!J947 -> 13 | G7: 7 | H7: 24 | J7: Tickets Released by Month
A8: Apr | B8: 27 | C8: =+Builds!J250 -> 26 | D8: =Builds!J493 -> 22 | E8: =Builds!J730 -> 25 | F8: =Builds!J967 -> 13 | G8: 9 | H8: 18
A9: May | B9: 38 | C9: =+Builds!J270 -> 25 | D9: =Builds!J512 -> 21 | E9: =Builds!J750 -> 5 | F9: =Builds!J987 -> 12 | G9: 15
A10: Jun | B10: 54 | C10: =+Builds!J290 -> 32 | D10: =Builds!J531 -> 8 | E10: =Builds!J769 -> 13 | F10: =Builds!J1007 -> 13 | G10: 11
A11: Jul | B11: 20 | C11: =+Builds!J310 -> 50 | D11: =Builds!J551 -> 23 | E11: =Builds!J788 -> 26 | F11: =Builds!J1027 -> 13 | G11: 10
A12: Aug | B12: 38 | C12: =Builds!J329 -> 29 | D12: =Builds!J571 -> 24 | E12: =Builds!J808 -> 27 | F12: =Builds!J1047 -> 17 | G12: 9
A13: Sep | B13: 65 | C13: =+Builds!J349 -> 19 | D13: =Builds!J591 -> 20 | E13: =Builds!J827 -> 14 | F13: =Builds!J1067 -> 0 | G13: 14
A14: Oct | B14: 48 | C14: =Builds!J369 -> 21 | D14: =Builds!J610 -> 13 | E14: =Builds!J847 -> 14 | F14: =Builds!J1087 -> 7 | G14: 6
A15: Nov | B15: 24 | C15: =Builds!L392 -> 45 | D15: =Builds!J630 -> 18 | E15: =Builds!J867 -> 12 | F15: =Builds!J1113 -> 9 | G15: 9
A16: Dec | B16: 35 | C16: =Builds!J412 -> 33 | D16: =Builds!J650 -> 17 | E16: =Builds!J887 -> 11 | F16: =Builds!J1133 -> 8 | G16: 18
A17: Jan | B17: 21 | C17: =Builds!J432 -> 31 | D17: =Builds!J670 -> 15 | E17: =Builds!J907 -> 11 | F17: =Builds!J1154 -> 10 | G17: 24
A18: Feb | B18: 22 | C18: =Builds!J453 -> 20 | D18: =Builds!J690 -> 10 | E18: =Builds!J927 -> 10 | F18: 13 | G18: 13
A19: Total | B19: =SUM(B7:B18) -> 431 | C19: =SUM(C7:C18) -> 358 | D19: =SUM(D7:D18) -> 212 | E19: =SUM(E7:E18) -> 189 | F19: =SUM(F7:F18) -> 128 | G19: =SUM(G7:G18) -> 145 | H19: =SUM(H7:H18) -> 42
A20: Average | B20: =AVERAGE(B7:B18) -> 35.916667 | C20: =AVERAGE(C7:C18) -> 29.833333 | D20: =AVERAGE(D7:D18) -> 17.666667 | E20: =AVERAGE(E7:E18) -> 15.75 | F20: =AVERAGE(F7:F18) -> 10.666667 | G20: =AVERAGE(G7:G18) -> 12.083333 | H20: =AVERAGE(H7:H18) -> 21
C22: July 2011* -- All tickets were rolled-back to go through new Multistage-Peer Review Process
C23: Sept 2011* -- Increase in Sept due to Archival and Performance Remediation tickets
C24: Nov 2012* -- Release of all SDU CRs
C25: Oct 2015* - Release of NMSN CRs
A27: Contract Yr | B27: 2011 | C27: 2012 | D27: 2013 | E27: 2014 | F27: 2015 | G27: 2016 | H27: 2017
A29: Month | B29: CRs | C29: CRs | D29: CRs | E29: CRs | F29: CRs | G29: CRs | H29: CRs
A30: Mar | B30: =+Builds!J9 -> 2 | C30: 3 | D30: =Builds!J471 -> 4 | E30: =Builds!J708 -> 3 | F30: =Builds!J945 -> 1 | G30: 4 | H30: 5
A31: Apr | B31: =+Builds!E27 -> 5 | C31: 7 | D31: =Builds!J491 -> 6 | E31: =Builds!J728 -> 2 | F31: =Builds!J965 -> 1 | G31: 4 | H31: 6 | K31: CRs Deployed by Month
A32: May | B32: =+Builds!A46 -> 4 | C32: =+Builds!A274 -> 1 | D32: =Builds!J510 -> 1 | E32: =Builds!J748 -> 3 | F32: =Builds!J985 -> 6 | G32: 1
A33: Jun | B33: =+Builds!J58 -> 3 | C33: =Builds!J288 -> 5 | D33: =Builds!J529 -> 1 | E33: =Builds!J767 -> 0 | F33: =Builds!J1005 -> 2 | G33: 4
A34: Jul | B34: =+Builds!J72 -> 2 | C34: =Builds!J308 -> 7 | D34: =Builds!J549 -> 5 | E34: =Builds!J786 -> 6 | F34: =Builds!J1025 -> 2 | G34: 0
A35: Aug | B35: =+Builds!J90 -> 5 | C35: =Builds!J327 -> 6 | D35: =Builds!J569 -> 5 | E35: =Builds!J806 -> 3 | F35: =Builds!J1045 -> 3 | G35: 7
A36: Sep | B36: =+Builds!J106 -> 9 | C36: =Builds!J347 -> 1 | D36: =Builds!J589 -> 5 | E36: =Builds!J825 -> 1 | F36: =Builds!J1065 -> 1 | G36: 1
A37: Oct | B37: =+Builds!J126 -> 6 | C37: =Builds!J367 -> 2 | D37: =Builds!J608 -> 0 | E37: =Builds!J845 -> 2 | F37: =Builds!J1085 -> 27 | G37: 1
A38: Nov | B38: =+Builds!J146 -> 2 | C38: =Builds!L386 -> 29 | D38: =Builds!J628 -> 5 | E38: =Builds!J865 -> 1 | F38: =Builds!J1111 -> 0 | G38: 5
A39: Dec | B39: =+Builds!J166 -> 4 | C39: =Builds!J410 -> 2 | D39: =Builds!J648 -> 2 | E39: =Builds!J885 -> 2 | F39: =Builds!J1131 -> 6 | G39: 3
A40: Jan | B40: =+Builds!J186 -> 4 | C40: =Builds!J430 -> 6 | D40: =Builds!J668 -> 5 | E40: =Builds!J905 -> 4 | F40: =Builds!J1152 -> 0 | G40: 14
A41: Feb | B41: =+Builds!J206 -> 6 | C41: =Builds!J451 -> 6 | D41: =Builds!J688 -> 1 | E41: =Builds!J925 -> 2 | F41: 1 | G41: 0
A42: Total | B42: =SUM(B30:B41) -> 52 | C42: =SUM(C30:C41) -> 75 | D42: =SUM(D30:D41) -> 40 | E42: =SUM(E30:E41) -> 29 | F42: =SUM(F30:F41) -> 50 | G42: =SUM(G30:G41) -> 44 | H42: =SUM(H30:H41) -> 11
A43: Avg Month | B43: =AVERAGE(B30:B41) -> 4.3333333 | C43: =AVERAGE(C30:C41) -> 6.25 | D43: =AVERAGE(D30:D41) -> 3.3333333 | E43: =AVERAGE(E30:E41) -> 2.4166667 | F43: =AVERAGE(F30:F41) -> 4.1666667 | G43: =AVERAGE(G30:G41) -> 3.6666667 | H43: =AVERAGE(H30:H41) -> 5.5
A44: Avg Build | B44: =B43/2 -> 2.1666667 | C44: =C43/2 -> 3.125 | D44: =D43/2 -> 1.6666667 | E44: =E43/2 -> 1.2083333 | F44: =F43/2 -> 2.0833333 | G44: =G43/2 -> 1.8333333 | H44: =H43/2 -> 2.75 | I44: Nov 2012* -- Release of all SDU CRs
I45: Oct 2015* - Release of NMSN CRs
A50: Contract Yr | B50: 2011 | C50: 2012 | D50: 2013 | E50: 2014 | F50: 2015 | G50: 2016 | H50: 2017
...

Sheet Builds
A2: MARCH 2011
A3: Build 2.69.0 | C3: Build 2.70 | E3: Build 2.71
A4: 40613 | C4: 40627 | E4: 40627
A5: CR # | B5: Hrs | C5: CR # | D5: Hrs | E5: CR # | F5: Hrs
E6: CR-319 | F6: 400
E7: CR-246 | F7: 1300 | J7: MARCH 2011
A8: Total CRs | B8: Total Hrs | C8: Total CRs | D8: Total Hrs | E8: Total CRs | F8: Total Hrs | J8: Total CRs | K8: Total Hrs
E9: 2 | F9: =+F6+F7 -> 1700 | J9: 2 | K9: 1700
A10: Total CRs | J10: Total Tickets
A11: 0 | J11: 39
A12: Total Tickets | C12: Total Tickets | E12: Total Tickets
A13: 12 | C13: 10 | E13: 17
A14: Total Tickets
A15: =SUM(A13:F13) -> 39
A17: APRIL 2011
A18: Build 2.72.0 | C18: Build 2.73 | E18: Build 2.74
A19: 40641 | C19: 40654 | E19: 40661
A20: CR # | B20: Hrs | C20: CR # | D20: Hrs | E20: CR # | F20: Hrs
E21: CR-318 | F21: 160
E22: CR-249 | F22: 170
E23: CR-360 | F23: 250
E24: CR-317 | F24: 420
E25: CR-220 | F25: 850 | J25: APRIL 2011
A26: Total CRs | B26: Total Hrs | C26: Total CRs | D26: Total Hrs | E26: Total CRs | F26: Total Hrs | J26: Total CRs | K26: Total Hrs
A27: 0 | B27: 0 | C27: 0 | D27: 0 | E27: 5 | F27: =SUM(F21:F25) -> 1850 | J27: =+E27 -> 5 | K27: =+F27 -> 1850
A28: Total CRs | J28: Total Tickets
A29: 0 | J29: =+A33 -> 27
A30: Total Tickets | C30: Total Tickets | E30: Total Tickets
A31: 11 | C31: 8 | E31: 8
A32: Total Tickets
A33: =SUM(A31:F31) -> 27
A36: MAY 2011
A37: Build 2.75.1 | C37: Build 2.76 | E37: Build 2.75.0
A38: 40671 | C38: 40688 | E38: 40688
A39: CR # | B39: Hrs | C39: CR # | D39: Hrs | E39: CR # | F39: Hrs
A40: CR-363 | B40: 320 | C40: CR-278 | D40: 500 | E40: CR-307 | F40: 600 | J40: MAY 2011
A41: Total CRs | B41: Total Hrs | C41: CR-320 | D41: 200 | E41: Total CRs | F41: Total Hrs | J41: Total CRs | K41: Total Hrs
A42: 1 | B42: =SUM(B38:B40) -> 320 | C42: CR-324 | D42: 200 | E42: 1 | F42: 600 | J42: =+A46 -> 4 | K42: =+E46 -> 1500
C43: Total CRs | D43: Total Hrs | J43: Total Tickets
C44: 3 | D44: =SUM(D40:D42) -> 900 | J44: =+A50 -> 38
...
