Workbook

Sheet Cover
A3: INVITATION FOR BID
A5: IFB C5-CMCS-G1-26
A7: COST WORKSHEETS
A9: FOR
A11: CATEGORY 531
A13: MANAGED INCIDENT RESPOSE RETAINER SERVICE
A17: JUNE 30, 2026
A19: Issued by:
A21: STATE OF CALIFORNIA
A23: OFFICE OF STATEWIDE TECHNOLOGY PROCUREMENT
A25: PO Box 1810
A27: Rancho Cordova, CA 95741
A29: Disclaimer: The original version and any subsequent addenda to this IFB remain the official version. In the event of any inconsistency between the Bidder’s versions, articles, attachments, exhibits, specifications, or provisions, which constitute the Contract, the official State version of the IFB in its entirety shall take precedence.

Sheet Instructions
A1: Bidder's Instructions
A2: Enter Bidder's Name in Cell B2 on the 531.2.1.a tab. Bidder's Name will then appear on all worksheets.
A4: Bidders shall submit their Cost Worksheets as specified in IFB Section 6, Bid Format and Submission Requirements. See IFB Section 6.6, Delivery of Final Bids for details surrounding submission of the Bidder cost proposals.
A6: Quantities provided in the Cost Worksheets are for evaluation purposes only and should not be used as an indicator of future orders.
A8: Bidders shall enter the Bidder's cost for each Service element or Feature in the unshaded cells in each Cost Worksheet. The submitted costs will be used for evaluation purposes per IFB Section 7.4.7, Cost Evaluation, and will establish the maximum contracted costs and rates of the final awarded Contracts.
A10: When pasting data from other sources to a Cost Worksheets, Bidder’s are instructed to use the "Match Destination Formatting" option available on the Home ribbon's Paste button or the context menu's Paste Options submenu.
A12: The definitions of the Services of each Category that require costing are provided in each SOW Technical Requirements. Bidders are instructed to not add language to the Cost Worksheets. Doing so may result in the disqualification of a Bidder's response.
A14: The Bidder shall provide a single, uniform price throughout the Bidder’s commercial Service area or as defined by the SOW Technical Requirements for each Service.
A16: COST WORKSHEET ELEMENTS
A18: The SOW Cost Worksheets elements shall include the following definitions:
A20: Non-Recurring Charge:
A21: Non-recurring charges are typically for installation charges. Cost Worksheets that include “N/A” in the “Non-Recurring Charge" field are intended to designate Services or Features where installation charges do not apply or where related equipment/installation costs are to be amortized by monthly recurring charges.
... A24: Monthly recurring charges are typically "fee for service" charges. Monthly recurring charges for Services or Features shall be provided, where applicable, in the Cost Worksheets. Cost Worksheets that include “N/A” in the "Monthly Recurring Charge" field are intended to designate Services that are to be charged on a one-time basis.

Sheet 531.2.1.a
B1: ˅˅˅˅˅˅˅˅˅˅˅˅˅˅˅˅˅˅˅˅˅˅˅˅˅˅˅˅˅˅˅˅˅˅˅˅˅˅˅˅˅˅˅˅
A2: >>>>> | B2: Enter Bidder's Name Here | C2: <<<<<<<<<<
B3: ^^^^^^^^^^^^^^^^^^^^^^^^^^^^^^^^^^^^^^^^^^^^^^^^^^^^^^^^^
A5: Table 531.2.1.a - Managed IRR Service
A6: A | B6: B | C6: C | D6: D | E6: E | F6: F | G6: G | H6: H | I6: I | J6: J | K6: K
A7: Line Item # | B7: Product Name | C7: Product Identifier | D7: Unit of Measure | E7: Non-Recurring Charge | F7: Model One Time Monthly Quantity | G7: Model One Time Monthly Costs | H7: Monthly Recurring Charge/ Item Per Unit | I7: Model Recurring Monthly Quantity | J7: Model Recurring Monthly Costs | K7: Model Total Extended Costs
A8: 1 | B8: Managed Incident Response Retainer (IRR) Service | D8: Per Month | F8: 1 | G8: =+E8*F8 -> 0 | I8: 1 | J8: =+H8*I8 -> 0 | K8: =+G8+J8 -> 0
B9: Model Monthly Totals: | G9: =SUM(G8:G8) -> 0 | J9: =SUM(J8:J8) -> 0 | K9: =SUM(K8:K8) -> 0
B10: Model Annual Totals: | G10: =+G9*12 -> 0 | J10: =+J9*12 -> 0 | K10: =+K9*12 -> 0

Sheet 531.2.3.1.a
B1: ='531.2.1.a'!B2 -> Enter Bidder's Name Here
A3: Table 531.2.3.1.a - Managed IRR Consulting Services
A4: A | B4: B | C4: C | D4: D | E4: E | F4: F | G4: G | H4: H | I4: I | J4: J | K4: K
A5: Line Item # | B5: Product Name | C5: Product Identifier | D5: Unit of Measure | E5: Non-Recurring Charge | F5: Model One Time Monthly Quantity | G5: Model One Time Monthly Costs | H5: Monthly Recurring Charge/ Item Per Unit | I5: Model Recurring Monthly Quantity | J5: Model Recurring Monthly Costs | K5: Model Total Extended Costs
A6: 1 | B6: Senior Incident Responder - Regular Hours | D6: Per Hour | F6: 1 | G6: =+E6*F6 -> 0 | H6: N/A | I6: N/A | J6: N/A | K6: =G6 -> 0
A7: 2 | B7: Senior Incident Responder - Overtime Hours | D7: Per Hour | F7: 1 | G7: =+E7*F7 -> 0 | H7: N/A | I7: N/A | J7: N/A | K7: =G7 -> 0
A8: 3 | B8: Incident Commander - Regular Hours | D8: Per Hour | F8: 1 | G8: =+E8*F8 -> 0 | H8: N/A | I8: N/A | J8: N/A | K8: =G8 -> 0
A9: 4 | B9: Incident Commander - Overtime Hours | D9: Per Hour | F9: 1 | G9: =+E9*F9 -> 0 | H9: N/A | I9: N/A | J9: N/A | K9: =G9 -> 0
A10: 5 | B10: Digital Forensics Analyst - Regular Hours | D10: Per Hour | F10: 1 | G10: =+E10*F10 -> 0 | H10: N/A | I10: N/A | J10: N/A | K10: =G10 -> 0
A11: 6 | B11: Digital Forensics Analyst - Overtime Hours | D11: Per Hour | F11: 1 | G11: =+E11*F11 -> 0 | H11: N/A | I11: N/A | J11: N/A | K11: =G11 -> 0
A12: 7 | B12: Malware Analyst / Reverse Engineering Specialist - Regular Hours | D12: Per Hour | F12: 1 | G12: =+E12*F12 -> 0 | H12: N/A | I12: N/A | J12: N/A | K12: =G12 -> 0
A13: 8 | B13: Malware Analyst / Reverse Engineering Specialist - Overtime Hours | D13: Per Hour | F13: 1 | G13: =+E13*F13 -> 0 | H13: N/A | I13: N/A | J13: N/A | K13: =G13 -> 0
A14: 9 | B14: Threat Intelligence Analyst - Regular Hours | D14: Per Hour | F14: 1 | G14: =+E14*F14 -> 0 | H14: N/A | I14: N/A | J14: N/A | K14: =G14 -> 0
A15: 10 | B15: Threat Intelligence Analyst - Overtime Hours | D15: Per Hour | F15: 1 | G15: =+E15*F15 -> 0 | H15: N/A | I15: N/A | J15: N/A | K15: =G15 -> 0
B16: Model Monthly Totals: | G16: =SUM(G6:G15) -> 0 | J16: N/A | K16: =SUM(K6:K15) -> 0
B17: Model Annual Totals: | G17: =+G16*12 -> 0 | J17: N/A | K17: =+K16*12 -> 0

Sheet 531.2.4.5.3.c Optional
B1: ='531.2.1.a'!B2 -> Enter Bidder's Name Here
B3: Bidder's only need to complete this table if providing the optional On-Site Incident Response Consulting Services. If not offering On-Site support, do not complete the table below.
A5: Table 531.2.4.5.3.c - Optional On-Site Incident Response Consulting Services
A6: A | B6: B | C6: C | D6: D | E6: E | F6: F | G6: G | H6: H | I6: I | J6: J | K6: K
A7: Line Item # | B7: Product Name | C7: Product Identifier | D7: Unit of Measure | E7: Non-Recurring Charge | F7: Model One Time Monthly Quantity | G7: Model One Time Monthly Costs | H7: Monthly Recurring Charge/ Item Per Unit | I7: Model Recurring Monthly Quantity | J7: Model Recurring Monthly Costs | K7: Model Total Extended Costs
A8: 1 | B8: On-Site Incident Response Support – Regular Hours | D8: Per Hour | F8: 1 | G8: =+E8*F8 -> 0 | H8: N/A | I8: N/A | J8: N/A | K8: =G8 -> 0
A9: 2 | B9: On-Site Incident Response Support – Overtime Hours | D9: Per Hour | F9: 1 | G9: =+E9*F9 -> 0 | H9: N/A | I9: N/A | J9: N/A | K9: =G9 -> 0
B10: Model Monthly Totals: | G10: =SUM(G8:G9) -> 0 | J10: N/A | K10: =SUM(K8:K9) -> 0
B11: Model Annual Totals: | G11: =+G10*12 -> 0 | J11: N/A | K11: =+K10*12 -> 0

Sheet Cost Summary
B2: CATEGORY 531
B3: Managed Incident Respose Retainer Service
B4: SUMMARY COST WORKSHEET
B6: "Model Total Extended Costs" and their sum total shall not be manually entered by the Bidder. These costs are entered automatically from the "Model Total Extended Costs" calculated on each Cost Worksheet.
C8: ='531.2.1.a'!B2 -> Enter Bidder's Name Here
D10: Annual Model Total Extended Costs
C12: Cost Table
B13: =+'531.2.1.a'!A5 -> Table 531.2.1.a - Managed IRR Service | D13: =+'531.2.1.a'!K10 -> 0
B14: ='531.2.3.1.a'!A3 -> Table 531.2.3.1.a - Managed IRR Consulting Services | D14: ='531.2.3.1.a'!K17 -> 0
B15: Total Evaluated Annual Cost | D15: =SUM(D13:D14) -> 0
B16: Total Evaluated Three Year Cost | D16: =D15*3 -> 0
B17: Total Evaluated Cost with First One-Year Extension | D17: =D15*4 -> 0
B18: Total Evaluated Cost with Second One-Year Extension | D18: =D15*5 -> 0
B20: Optional Pricing
B21: ='531.2.4.5.3.c Optional'!A5 -> Table 531.2.4.5.3.c - Optional On-Site Incident Response Consulting Services | D21: ='531.2.4.5.3.c Optional'!K11 -> 0
