Workbook

Sheet Cost Workbook Overview
B1: EXHIBIT C: COST WORKSHEET OVERVIEW
B3: Bidder's Name: (Please input your Name in C2) | C3: Bidder Name
B5: Cost Worksheet 1.0: Total Cost Summary | C5: This worksheet summarizes the costs from the detailed worksheets. The bidder shall not make any entries on this Worksheet.
B7: Cost Worksheet 2.0: M&O Fixed Price Services | C7: This worksheet shall include the M&O Fixed Price Services Cost for the Base Contract (3 years) and the Mandatory Optional Years (2 Years). ALL BIDDERS MUST COMPLETE THIS WORKSHEET.
B9: Cost Worksheet 3.0: Product Cost (Monthly) | C9: This worksheet shall include Product Cost for the HDIS Software that are billed on a monthly basis. All bidders should fill in the Unit Cost for the Base Contract (3 Years) and the Mandatory Optional for the Mandatory Optional Years (2 Years). ALL BIDDERS MUST COMPLETE THIS WORKSHEET.
B11: Cost Worksheet 4.0: Hosting Cost (Monthly) | C11: This worksheet shall includeHosting Cost for the HDIS that is billed on a monthly basis. All bidders should fill in the Unit Cost for the Base Contract (3 Years), and the Mandatory Optional for the Mandatory Optional Years (2 Years). ALL BIDDERS MUST COMPLETE THIS WORKSHEET.
B13: Cost Worksheet 5.0: Product Cost (Annually) | C13: This worksheet shall include Product Cost for the HDIS Software that are billed on a yearly basis. All bidders should fill in the Unit Cost for the Base Contract (3 Years), and the Mandatory Optional for the Mandatory Optional Years (2 Years). ALL BIDDERS MUST COMPLETE THIS WORKSHEET.
B15: Cost Worksheet 6.0: Statutory and Council Mandates | C15: This worksheet shall include hourly rates by Labor Classification for performing Statutory and Council Mandates during the Agreement. ALL BIDDERS MUST COMPLETE THIS WORKSHEET. THE HOURLY RATES SHALL BE INCLUDED IN THE FINAL AGREEMENT.
B17: Cost Worksheet 7.0: One Time Cost | C17: This worksheet shall include a fixed cost for Transition In and Transition Out Activities. ALL BIDDERS MUST COMPLETE THIS WORKSHEET.
B19: Cost Worksheet 8.0: Additiona Product Cost | C19: This worksheet shall include Additional Product Cost should there be a requirement to expand licenses due to user and/or data growth. ALL BIDDERS MUST COMPLETE THIS WORKSHEET.

Sheet 1.0 Total Cost Summary
B1: Cost Worksheet 1.0 TOTAL COST SUMMARY
B2: Instructions: Cost Worksheet 1.0: TOTAL COST SUMMARY links to the worksheets to provide an over-all view of the cost. Total Contract Cost (Line Items (A), (B), (C)) should not exceed $15 Million for 5 years, if the Mandatory Optional Years are exercised. Bidder's Offer shall be deemed non-responsive and disqualified if the Total Contract Cost exceeds the specified amount or any other cap identified on any of the cost worksheet. Total Contract Cost excludes Statutory & Council Mandates (Line Item (D)) that are approved by Cal ICH. Statutory and Council Mandates and additional software licenses can't exceed the 10% of the Base Contract. No Modifications Required on this sheet.
B3: Bidder's Name: | C3: ='Cost Workbook Overview'!C3 -> Bidder Name
B5: Base Contract , Year 1 to Year 3
B6: Line # | C6: Source Worksheet | D6: Total Cost
B7: 1 | C7: 2.0: M&O Fixed Price Services | D7: ='2.0 M&O Fixed Price Services'!J10 -> 0
B8: 2 | C8: 3.0: Product Cost (Monthly) | D8: ='3.0 Product Cost (Monthly)'!K11 -> 0
B9: 3 | C9: 4.0: Hosting Cost (Monthly) | D9: ='4.0 Hosting Cost (Monthly)'!K10 -> 0
B10: 4 | C10: 5.0: Product Cost (Annually) | D10: ='5.0 Product Cost (Annually)'!K48 -> 0
B11: 5 | C11: 7.0 One Time Cost | D11: ='7.0 One Time Cost'!E10 -> 0
B12: (A) Base Contract Cost Total | D12: =SUM(D7:D11) -> 0
B14: Mandatory Optional for Additional Licenses (Year 2 to Year 5) - Product Cost (For Evaluation Only)
B15: Line # | C15: Source Worksheet | D15: Total Cost
B16: 1 | C16: Additional License Product Cost | D16: {='8.0 Additional Product Cost'!I70:J70} -> 0 | E16: 0
B17: (B) Mandatory Optional for Additional Licenses Cost Total | D17: =D16 -> 0
B19: Mandatory Optional (Year 4 to 5) - Product Cost (For Evaluation Only)
B20: Line # | C20: Source Worksheet | D20: Total Cost
B21: 1 | C21: 2.0: M&O Fixed Price Services | D21: ='2.0 M&O Fixed Price Services'!J11 -> 0
B22: 2 | C22: 3.0: Product Cost (Monthly) | D22: ='3.0 Product Cost (Monthly)'!K12 -> 0
B23: 3 | C23: 4.0: Hosting Cost (Monthly) | D23: ='4.0 Hosting Cost (Monthly)'!K11 -> 0
B24: 4 | C24: 5.0: Product Cost (Annually) | D24: ='5.0 Product Cost (Annually)'!K49 -> 0
B25: (C) Mandatory Optional (Year 4-5 ) Total | D25: =SUM(D21:D24) -> 0
B27: Statutory & Council Mandates Hourly Rates (For Evaluation Only) | J27: =10000000* 10% -> 1000000
B28: Line # | C28: Source Worksheet | D28: Evaluation Total
B29: 1 | C29: 6.0: Statutory & Council Mandates | D29: =SUM('6.0 Statutory & Council'!F13) -> 0
B30: (D) Statutory & Council Mandates Hourly Rates Evaluation Total | D30: =D29 -> 0
B33: TOTAL COST SUMMARY
B34: (E) Evaluation Grand Total (A+B+C+D=E) | D34: =SUM(D12+D17+D25+D30) -> 0
B36: (F) Statutory Budget (10% of Base Contract) | D36: =SUM(D12*0.1) -> 0
B38: (G) Contract Total (Base Contract) | D38: =D12 -> 0
B40: (H) Total Estimated Base Contract Value | D40: =SUM(D36:D38) -> 0

Sheet 2.0 M&O Fixed Price Services
B1: Cost Worksheet 2.0: M&O Fixed Priced Services
B2: Instructions: Cost Worksheet 2.0: M&O FIXED PRICE SERVICES is used to identify the bidder's cost for providing services required to maintain and operate the HDIS. The Maintenance and Operation Activities starts in Jan 1, 2028. Upon Contract Award (July 1, 2027), the Transition Activities will commence between the Incoming and Outgoing Contractors. Only INPUT the Unit COST. These costs are mandatory. The rest of the columns are automatically calculated. These costs will be linked to Cost Worksheet 1.0: TOTAL COST SUMMARY and will be part of the bid amount.
B3: Bidder's Name: | C3: ='Cost Workbook Overview'!C3 -> Bidder Name
B6: M&O Fixed Price Services - Base Contract (Year 1 to Year 3) | H6: M&O Fixed Price Services - Mandatory Optional for Optional Years (For Evaluation Only), Year 4 to Year 5
B7: Line # | C7: M&O Activity | D7: Unit Cost | E7: Total Cost Year 1 (D8*12) | F7: Total Cost Year 2 (D8*12) | G7: Total Cost Year 3 (D8*12) | H7: Unit Cost | I7: Total Cost Year 4 (Mandatory Optional) (H8*12) | J7: Total Cost Year 5 Mandatory Optional (H8*12)
B8: 1 | C8: Maintenance and Operations | D8: 0 | E8: =$D$8*12 -> 0 | F8: =$D$8*12 -> 0 | G8: =$D$8*12 -> 0 | H8: 0 | I8: =$H$8*12 -> 0 | J8: =$H$8*12 -> 0
B9: 2 | C9: Total | E9: =E8 -> 0 | F9: =F8 -> 0 | G9: =G8 -> 0 | I9: =I8 -> 0 | J9: =J8 -> 0
H10: Grand Total (Year 1 to Year 3) | J10: =SUM(E9,F9,G9) -> 0
H11: Grand Total (Year 4 to Year 5) | J11: =I9+J9 -> 0

Sheet 3.0 Product Cost (Monthly)
B1: Cost Worksheet 3.0: Product Cost (Monthly)
B2: Instructions: Cost Worksheet 3.0: PRODUCT COST (Monthly) is used to identify the bidder's cost for the software components of the HDIS Platform that are billed on a monthly basis. The bidder should input the unit cost for each of the product listed. The Total Cost will be automatically calculated. Year 1 starts in Jan 1, 2028. Only INPUT the Unit COST. These costs are mandatory. The rest of the columns are automatically calculated. These costs will be linked to Cost Worksheet 1.0: TOTAL COST SUMMARY and will be part of the bid amount.
B3: Bidder's Name: | C3: ='Cost Workbook Overview'!C3 -> Bidder Name
B6: Product Cost Monthly - Base Contract (Year 1 to Year 3) | I6: Product Cost Monthly - Mandatory Optional for Optional Years (For Evaluation Only), Year 4 to Year 5
B7: Line # | C7: Software | D7: No of Users | E7: Unit Cost | F7: Total Cost Year 1 (D*E*12) | G7: Total Cost Year 2 (D*E*12) | H7: Total Cost Year 3 (D*E*12) | I7: Unit Cost | J7: Total Cost Year 4 Mandatory Optional (D*I*12) | K7: Total Cost Year 5 Mandatory Optional (D*I*12)
B8: 1 | C8: Atlassian JIRA (Standard Edition) | D8: 25 | E8: 0 | F8: =$D$8*$E$8*12 -> 0 | G8: =$D$8*$E$8*12 -> 0 | H8: =$D$8*$E$8*12 -> 0 | I8: 0 | J8: =$D$8*I8*12 -> 0 | K8: =$D$8*I8*12 -> 0
B9: 2 | C9: GitHub (Enterprise Edition) | D9: 6 | E9: 0 | F9: =$D$9*$E$9*12 -> 0 | G9: =$D$9*$E$9*12 -> 0 | H9: =$D$9*$E$9*12 -> 0 | I9: 0 | J9: =$D$9*I9*12 -> 0 | K9: =$D$9*I9*12 -> 0
B10: 3 | C10: Total | F10: =SUM(F8:F9) -> 0 | G10: =SUM(G8:G9) -> 0 | H10: =SUM(H8:H9) -> 0 | J10: =SUM(J8:J9) -> 0 | K10: =SUM(K8:K9) -> 0
I11: Grand Total (Year 1 to Year 3) | K11: =SUM(F10,G10,H10) -> 0
I12: Grand Total (Year 4 to Year 5) | K12: =J10+K10 -> 0

Sheet 4.0 Hosting Cost (Monthly)
B1: Cost Worksheet 4.0: Hosting Cost (Monthly)
B2: Instructions: Cost Worksheet 4.0: HOSTING COST (Monthly) is used to identify the bidder's cost for the software components of the HDIS Platform that is billed on a monthly basis specifically for hosting. The bidder should input the unit cost for the product listed. Year 1 starts in Jan 1, 2028. Only INPUT the Unit COST. These costs are mandatory. The rest of the columns are automatically calculated. These costs will be linked to Cost Worksheet 1.0: TOTAL COST SUMMARY and will be part of the bid amount.
B3: Bidder's Name: | C3: ='Cost Workbook Overview'!C3 -> Bidder Name
B6: Hosting Cost - Base Contract | I6: Hosting Cost Monthly - Mandatory Optional for Optional Years (For Evaluation Only), Year 4 to Year 5
B7: Line # | C7: Software | D7: No of Servers | E7: Hosting Cost | F7: Total Cost Year 1 (D*E*12) | G7: Total Cost Year 2 (D*E*12) | H7: Total Cost Year 3 (D*E*12) | I7: Unit Cost | J7: Total Cost Year 4 Mandatory Optional (D*I*12) | K7: Total Cost Year 5 Mandatory Optional (D*I*12)
B8: 1 | C8: AWS (Amazon Web Services) 3 IDMC; vCPU: 4 RAM: 16GB 2 MDM; vCPU: 4 RAM: 16GB 2 RDS; vCPU: 2 RAM: 16GB 1 Domain Controller; vCPU: 4 RAM: 16GB | D8: 8 | E8: 0 | F8: =D8*E8*12 -> 0 | G8: =D8*E8*12 -> 0 | H8: =D8*E8*12 -> 0 | I8: 0 | J8: =$D$8*I8*12 -> 0 | K8: =$D$8*I8*12 -> 0
B9: 2 | C9: Total | F9: =F8 -> 0 | G9: =G8 -> 0 | H9: =H8 -> 0 | J9: =J8 -> 0 | K9: =K8 -> 0
I10: Grand Total (Year 1 to Year 3) | K10: =SUM(F9,G9,H9) -> 0
I11: Grand Total (Year 4 to Year 5) | K11: =J9+K9 -> 0

Sheet 5.0 Product Cost (Annually)
B1: Cost Worksheet 5.0:Product Cost (Annually)
B2: Instructions: Cost Worksheet 5.0: PRODUCT COST (Annually) is used to identify the bidder's cost for the software components of the HDIS Platform that are renewed on an annual basis. The bidder should input the unit cost for each of the product listed. The Total Cost will be automatically calculated. Year 1 starts in Jan 1, 2028. Only INPUT the Unit COST. These costs are mandatory. The rest of the columns are automatically calculated. These costs will be linked to Cost Worksheet 1.0: TOTAL COST SUMMARY and will be part of the bid amount.
B3: Bidder's Name: | C3: ='Cost Workbook Overview'!C3 -> Bidder Name
B6: Product Cost Annual - Base Contract (Year 1 to Year 3) | I6: Product Cost Annual - Mandatory Optional for Optional Years (For Evaluation Only), Year 4 to Year 5
B7: Line # | C7: Software | D7: Users/Qty/ Units | E7: Unit Cost | F7: Total Cost Year 1 (D*E) | G7: Total Cost Year 2 (D*E) | H7: Total Cost Year 3 (D*E) | I7: Unit Cost | J7: Total Cost Year 4 Mandatory Optional (D*I) | K7: Total Cost Year 5 Mandatory Optional (D*I)
B8: 1 | C8: Okta
B9: 2 | C9: Okta Support Silver Package | D9: 1 | E9: 0 | F9: =(D9*E9) -> 0 | G9: =D9*E9 -> 0 | H9: =D9*E9 -> 0 | I9: 0 | J9: =$D$9*I9 -> 0 | K9: =I9*D9 -> 0
B10: 3 | C10: Okta IT Products Single Sign-on 325 Users | D10: 325 | E10: 0 | F10: =(D10*E10) -> 0 | G10: =D10*E10 -> 0 | H10: =D10*E10 -> 0 | I10: 0 | J10: =$D$10*I10 -> 0 | K10: =D10*I10 -> 0
B11: 4 | C11: Okta IT Products Universal Directory 325 Users | D11: 325 | E11: 0 | F11: =(D11*E11) -> 0 | G11: =D11*E11 -> 0 | H11: =D11*E11 -> 0 | I11: 0 | J11: =$D$11*I11 -> 0 | K11: =D11*I11 -> 0
C12: TOTAL COST | F12: =SUM(F9:F11) -> 0 | G12: =SUM(G9:G11) -> 0 | H12: =SUM(H9:H11) -> 0 | J12: =SUM(J9:J11) -> 0 | K12: =SUM(K9:K11) -> 0
B13: 5 | C13: Tableau Enterprise
B14: 6 | C14: Tableau Cloud - Creator (7 Users) | D14: 7 | E14: 0 | F14: =(D14*E14) -> 0 | G14: =D14*E14 -> 0 | H14: =D14*E14 -> 0 | I14: 0 | J14: =D14*I14 -> 0 | K14: =D14*I14 -> 0
B15: 7 | C15: Tableau Cloud - Explorer (10 Users) | D15: 10 | E15: 0 | F15: =(D15*E15) -> 0 | G15: =D15*E15 -> 0 | H15: =D15*E15 -> 0 | I15: 0 | J15: =D15*I15 -> 0 | K15: =D15*I15 -> 0
B16: 8 | C16: Tableau Cloud - Viewer (250 Users) | D16: 250 | E16: 0 | F16: =(D16*E16) -> 0 | G16: =D16*E16 -> 0 | H16: =D16*E16 -> 0 | I16: 0 | J16: =D16*I16 -> 0 | K16: =D16*I16 -> 0
C17: TOTAL COST | F17: =SUM(F14:F16) -> 0 | G17: =SUM(G14:G16) -> 0 | H17: =SUM(H14:H16) -> 0 | J17: =SUM(J14:J16) -> 0 | K17: =SUM(K14:K16) -> 0
B18: 9 | C18: Snowflake
B19: 10 | C19: Compute Cost (HDIS on average uses 1.5K units per month) | D19: 24000 | E19: 0 | F19: =D19*E19 -> 0 | G19: =D19*E19 -> 0 | H19: =D19*E19 -> 0 | I19: 0 | J19: =D19*I19 -> 0 | K19: =D19*I19 -> 0
B20: 11 | C20: Storage per TeraByte (unused consumption will roll over the following year) - HDIS uses around 0.5 TeraByte per month | D20: 8 | E20: 0 | F20: =D20*E20 -> 0 | G20: =D20*E20 -> 0 | H20: =D20*E20 -> 0 | I20: 0 | J20: =D20*I20 -> 0 | K20: =I20*D20 -> 0
C21: TOTAL COST | F21: =SUM(F19:F20) -> 0 | G21: =SUM(G19:G20) -> 0 | H21: =SUM(H19:H20) -> 0 | J21: =SUM(J19:J20) -> 0 | K21: =SUM(K19:K20) -> 0
B22: 12 | C22: Informatica
B23: 13 | C23: Customer (B2C) per consolidated records (S) Production Annual Subscription | D23: 1900000 | E23: 0 | F23: =(D23*E23) -> 0 | G23: =D23*E23 -> 0 | H23: =D23*E23 -> 0 | I23: 0 | J23: =D23*I23 -> 0 | K23: =D23*I23 -> 0
B24: 14 | C24: Premium Success for Subscription | D24: 4 | E24: 0 | F24: =(D24*E24) -> 0 | G24: =D24*E24 -> 0 | H24: =D24*E24 -> 0 | I24: 0 | J24: =D24*I24 -> 0 | K24: =I24*D24 -> 0
B25: 15 | C25: Informatica MDM - Customer 360 (S) Production Annual Subscription | D25: 1 | E25: 0 | F25: =(D25*E25) -> 0 | G25: =D25*E25 -> 0 | H25: =D25*E25 -> 0 | I25: 0 | J25: =D25*I25 -> 0 | K25: =I25*D25 -> 0
B26: 16 | C26: Intelligent Management Cloud -IPU per consecutive month | D26: 150 | E26: 0 | F26: =(D26*E26) -> 0 | G26: =D26*E26 -> 0 | H26: =D26*E26 -> 0 | I26: 0 | J26: =D26*I26 -> 0 | K26: =I26*D26 -> 0
B27: 17 | C27: Informatica BPM Option for MDM and MDM Product 360 Production Annual Subscription | D27: 1 | E27: 0 | F27: =(D27*E27) -> 0 | G27: =D27*E27 -> 0 | H27: =D27*E27 -> 0 | I27: 0 | J27: =D27*I27 -> 0 | K27: =I27*D27 -> 0
C28: TOTAL COST | F28: =SUM(F23:F27) -> 0 | G28: =SUM(G23:G27) -> 0 | H28: =SUM(H23:H27) -> 0 | J28: =SUM(J23:J27) -> 0 | K28: =SUM(K23:K27) -> 0
B29: 18 | C29: AWS
B30: 19 | C30: SSL Certificates | D30: 1 | E30: 0 | F30: =D30*E30 -> 0 | G30: =D30*E30 -> 0 | H30: =D30*E30 -> 0 | I30: 0 | J30: =D30*I30 -> 0 | K30: =I30*D30 -> 0
C31: TOTAL COST | F31: =F30 -> 0 | G31: =G30 -> 0 | H31: =H30 -> 0 | J31: =SUM(J30) -> 0 | K31: =SUM(K30) -> 0
B32: 20 | C32: DATTO
B33: 21 | C33: Box Style License | D33: 44 | E33: 0 | F33: =D33*E33 -> 0 | G33: =D33*E33 -> 0 | H33: =D33*E33 -> 0 | I33: 0 | J33: =D33*I33 -> 0 | K33: =I33*D33 -> 0
C34: TOTAL COST | F34: =F33 -> 0 | G34: =G33 -> 0 | H34: =H33 -> 0 | J34: =SUM(J33) -> 0 | K34: =SUM(K33) -> 0
B35: 22 | C35: DATTO RMM
B36: 23 | C36: Kaseya 365 Ops | D36: 8 | E36: 0 | F36: =D36*E36 -> 0 | G36: =D36*E36 -> 0 | H36: =D36*E36 -> 0 | I36: 0 | J36: =I36*D36 -> 0 | K36: =I36*D36 -> 0
B37: 24 | C37: Kaseya 365 Endpoint
B38: 25 | C38: Kaseya 365 User
C39: TOTAL COST | F39: =F36 -> 0 | G39: =G36 -> 0 | H39: =H36 -> 0 | J39: =SUM(J36) -> 0 | K39: =SUM(K36) -> 0
B40: 26 | C40: SentinelOne Singularity Commercial
B41: 27 | C41: SentinelOne Singularity Commercial | D41: 8 | E41: 0 | F41: =D41*E41 -> 0 | G41: =D41*E41 -> 0 | H41: =D41*E41 -> 0 | I41: 0 | J41: =D41*I41 -> 0 | K41: =I41*D41 -> 0
C42: TOTAL COST | F42: =F41 -> 0 | G42: =G41 -> 0 | H42: =H41 -> 0 | J42: =SUM(J41) -> 0 | K42: =SUM(K41) -> 0
...

Sheet 6.0 Statutory & Council
B1: Cost Worksheet 6.0: Statutory and Council Mandates
B2: Instructions: Cost Worksheet 6.0: STATUTORY and COUNCIL MANDATES/ This worksheet shall include hourly rates by Labor Classification for performing Statutory and Council Mandates during the Agreement. Only INPUT the Hourly Labor Rate. These costs are mandatory. The rest of the columns are automatically calculated. THE HOURLY RATES SHALL BE INCLUDED IN THE FINAL AGREEMENT.
B3: Bidder's Name: | C3: ='Cost Workbook Overview'!C3 -> Bidder Name
B6: Statutory and Council Mandates (WOA) Labor Rates and Classifications
B7: (A) Line # | C7: (B) Classification | D7: (C) Hourly Labor Rate | E7: (D) Estimated #hours Evaluation Purposes only | F7: (E) Evaluation Total (C X D = E)
B8: 1 | C8: Project Manager | D8: 0 | E8: 40 | F8: =E8*D8 -> 0
B9: 2 | C9: System Architect | D9: 0 | E9: 40 | F9: =E9*D9 -> 0
B10: 3 | C10: Application Architect/Developer | D10: 0 | E10: 40 | F10: =E10*D10 -> 0
B11: 4 | C11: MDM Architect/Developer | D11: 0 | E11: 40 | F11: =E11*D11 -> 0
B12: 5 | C12: Dashboard Architect/Developer | D12: 0 | E12: 40 | F12: =E12*D12 -> 0
B13: Statutory and Council Mandates (WOA) Labor Rates Evaluation Total: | F13: =SUM(F8:F12) -> 0
B17: 6.0 Statutory and Council Mandates Budget
B18: The Statutory and Council Mandates Budget is a maximum of ten (10) percent (%) of the Base Contract Period. This Total will be included in the awarded contract. This cell is pre-calculated and not to be modified | F18: ='1.0 Total Cost Summary'!D12*10% -> 0
C42: Instructions: Cost Worksheet #6: Work Order Authorization is additional work that must be performed but not identified in the Cal ICH's RFP. Cal ICH expects that during the contract period, statutory and council mandates may necessitate HDIS modification. The support for these modifcations will result in unanticipated work and be structured based on the Bidder's labor cost. Both the Cal ICH and the Contractor must agree upon the work that needs to be performed which will result in the unanticipated costs through the Work Order Authorization (WOA) process outlined in the SOW. No work can be performed in advance of Cal ICH's approval of the WOA. The Biddger must complete the hourly labor rate for the required staff classifications below (white cells) for their proposal to be considered responsive. During the course of the Contract, the Contractor may use other classifications to perform the work; however, the task rate charged will be at the lowest classification rate provided in the Labor Rates and Classifications below. This cost will be linked to Tab 1 TOTAL COST SUMMARY but will not be part of the bid amount.

Sheet 7.0 One Time Cost
B1: Cost Worksheet 7.0: One Time Cost
B2: Instructions: Cost Worksheet 7.0: TRANSITION-IN COSTS is used to capture the bidder's costs for Transition In activities from the current Contract to the new Contract. Transition-In activities shall be completed with six (6) months of contract award. Transition-Out Activities is used to capture the bidder's costs for Transition to new contractor at the end of the Contract. The Transition Out Activities shall be completed within six months before the conclusion of the Contract. Transition Activites starts upon Contract Award (July 1, 2027) and ends in Dec 31, 2027. These costs are separate from the Monthly Maintenance and Operations Cost. These costs are mandatory. This cost will be linked to Tab 1 TOTAL COST SUMMARY and will be part of the Evaluation Total.
B3: Bidder's Name: | C3: ='Cost Workbook Overview'!C3 -> Bidder Name
B6: One Time Cost
B7: Line # | C7: Cost Category | D7: SOW Section, Requirement | E7: Total Costs
B8: 1 | C8: Transition-In | D8: Section 21.1 | E8: 0
B9: 2 | C9: Transition-Out | D9: Section 21.2 | E9: 0
C10: Total | E10: =SUM(E8,E9) -> 0

Sheet 8.0 Additional Product Cost
B1: Cost Worksheet 8.0: Additional Product Cost
B2: Instructions: Cost Worksheet 8.0: This worksheet provides Product Cost to determine user and data growth expansion for the HDIS. This will be used for Evaluation purposes. The table below is designed to capture the cost impact of adding users beyond the baseline number of licenses identified in Tabs 3.0 Product Cost (Monthly), 4.0 Hosting Cost (Monthly), and 5.0 Product Cost (Annually) for Years 2 through 5. The total number of licenses may increase, but the associated cost will not exceed 20% of the combined total cost outlined in Tabs 3, 4, and 5 for Years 2 through 5. The additional licenses will be allocated and utilized based on the operational needs of Cal ICH. For instance, if 5 additional users are added to Atlassian JIRA in Year 2—beyond the 25 baseline users already accounted for in Tab 3.0—the total user count would increase to 30 for that year. The original 25 users will continue to be priced based on Tab 3.0, while the 5 additional users will be costed using the rates in Tab 8.0 Additional License Product Cost. This same approach applies to other software products listed in Tab 3.0, 4.0 and 5.0. Only INPUT the Unit COST. These costs are mandatory. The rest of the columns are automatically calculated. This worksheet is mandatory.
B3: Bidder's Name: | C3: ='Cost Workbook Overview'!C3 -> Bidder Name
B6: Product Cost Monthly (Pricing Year 2 to 5) - For Evaluation
B7: Line # | C7: Product | D7: User/Qty/Units | E7: Unit Cost Year 2/3 | F7: Year 2 Price | G7: Year 3 Price | H7: Unit Cost Year 4/5 | I7: Year 4 Price | J7: Year 5 Price
B8: 1 | C8: Atlassian JIRA (Standard Edition) | D8: 1 | E8: 0 | F8: =D8*E8*12 -> 0 | G8: =D8*E8 -> 0 | H8: 0 | I8: =D8*H8*12 -> 0 | J8: =H8*I8 -> 0
B9: 2 | C9: GitHub (Enterprise Edition) | D9: 1 | E9: 0 | F9: =D9*E9*12 -> 0 | G9: =D9*E9 -> 0 | H9: 0 | I9: =D9*H9*12 -> 0 | J9: =H9*I9 -> 0
F10: =SUM(F8:F9) -> 0 | G10: =SUM(G8:G9) -> 0 | I10: =SUM(I8:I9) -> 0 | J10: =SUM(J8:J9) -> 0
B12: Hosting Cost Monthly (Pricing Year 2 to 5) - For Evaluation
B13: Line # | C13: Hosting | D13: User/Qty/Units | E13: Unit Cost Year 2/3 | F13: Year 2 Price | G13: Year 3 Price | H13: Unit Cost Year 4/5 | I13: Year 4 Price | J13: Year 5 Price
B14: 1 | C14: Amazon Web Services (AWS) | D14: 1 | E14: 0 | F14: =D14*E14*12 -> 0 | G14: =D14*E14*12 -> 0 | H14: 0 | I14: =D14*H14*12 -> 0 | J14: =D14*H14*12 -> 0
F15: =F14 -> 0 | G15: =G14 -> 0 | I15: =I14 -> 0 | J15: =J14 -> 0
B17: Product Cost Annual (Pricing Year 2 to 5) - For Evaluation
B18: Line # | C18: Product | D18: User/Qty/Units | E18: Unit Cost Year 2/3 | F18: Year 2 Price | G18: Year 3 Price | H18: Unit Cost Year 4/5 | I18: Year 4 Price | J18: Year 5 Price
B19: 1 | C19: Okta
B20: 2 | C20: Okta Support Silver Package | D20: 1 | E20: 0 | F20: =D20*E20 -> 0 | G20: =D20*E20 -> 0 | H20: 0 | I20: =D20*H20 -> 0 | J20: =D20*H20 -> 0
B21: 3 | C21: Okta IT Products Single Sign-on | D21: 1 | E21: 0 | F21: =D21*E21 -> 0 | G21: =D21*E21 -> 0 | H21: 0 | I21: =D21*H21 -> 0 | J21: =D21*H21 -> 0
B22: 4 | C22: Okta IT Products Universal Directory | D22: 1 | E22: 0 | F22: =D22*E22 -> 0 | G22: =D22*E22 -> 0 | H22: 0 | I22: =D22*H22 -> 0 | J22: =D22*H22 -> 0
F23: =SUM(F20:F22) -> 0 | G23: =SUM(G20:G22) -> 0 | I23: =SUM(I20:I22) -> 0 | J23: =SUM(J20:J22) -> 0
B25: Product Cost Annual (Pricing Year 2 to 5) - For Evaluation
B26: Line # | C26: Product | D26: User/Qty/Units | E26: Unit Cost Year 2/3 | F26: Year 2 Price | G26: Year 3 Price | H26: Unit Cost Year 4/5 | I26: Year 4 Price | J26: Year 5 Price
B27: 1 | C27: Tableau Enterprise
B28: 2 | C28: Tableau Cloud - Creator | D28: 1 | E28: 0 | F28: =D28*E28 -> 0 | G28: =D28*E28 -> 0 | H28: 0 | I28: =D28*H28 -> 0 | J28: =D28*H28 -> 0
B29: 3 | C29: Tableau Cloud - Explorer | D29: 1 | E29: 0 | F29: =D29*E29 -> 0 | G29: =D29*E29 -> 0 | H29: 0 | I29: =D29*H29 -> 0 | J29: =D29*H29 -> 0
B30: 4 | C30: Tableau Cloud - Viewer | D30: 1 | E30: 0 | F30: =D30*E30 -> 0 | G30: =D30*E30 -> 0 | H30: 0 | I30: =D30*H30 -> 0 | J30: =D30*H30 -> 0
F31: =SUM(F28:F30) -> 0 | G31: =SUM(G28:G30) -> 0 | I31: =SUM(H28:H30) -> 0 | J31: =SUM(J28:J30) -> 0
B33: Product Cost Annual (Pricing Year 2 to 5) - For Evaluation
B34: Line # | C34: Product | D34: User/Qty/Units | E34: Unit Cost Year 2/3 | F34: Year 2 Price | G34: Year 3 Price | H34: Unit Cost Year 4/5 | I34: Year 4 Price | J34: Year 5 Price
B35: 1 | C35: Snowflake
B36: 2 | C36: Compute Cost | D36: 2000 | E36: 0 | F36: =D36*E36 -> 0 | G36: =D36*E36 -> 0 | H36: 0 | I36: =D36*H36 -> 0 | J36: =D36*H36 -> 0
B37: 3 | C37: Storage - per Terabyte | D37: 1 | E37: 0 | F37: =D37*E37 -> 0 | G37: =D37*E37 -> 0 | H37: 0 | I37: =D37*H37 -> 0 | J37: =D37*H37 -> 0
F38: =SUM(F36:F37) -> 0 | G38: =SUM(G36,G37) -> 0 | I38: =SUM(I36:I37) -> 0 | J38: =SUM(J36:J37) -> 0
B40: Product Cost Annual (Pricing Year 2 to 5) - For Evaluation
B41: Line # | C41: Product | D41: User/Qty/Units | E41: Unit Cost Year 2/3 | F41: Year 2 Price | G41: Year 3 Price | H41: Unit Cost Year 4/5 | I41: Year 4 Price | J41: Year 5 Price
B42: 1 | C42: Informatica
B43: 2 | C43: Customer (B2C) per consolidated records (S) Production Annual Subscription | D43: 500000 | E43: 0 | F43: =D43*E43 -> 0 | G43: =D43*E43 -> 0 | H43: 0 | I43: =D43*H43 -> 0 | J43: =D43*H43 -> 0
B44: 3 | C44: Premium Success for Subscription | D44: 4 | E44: 0 | F44: =D44*E44 -> 0 | G44: =D44*E44 -> 0 | H44: 0 | I44: =D44*H44 -> 0 | J44: =D44*H44 -> 0
B45: 4 | C45: Informatica MDM - Customer 360 (S) Production Annual Subscription | D45: 1 | E45: 0 | F45: =D45*E45 -> 0 | G45: =D45*E45 -> 0 | H45: 0 | I45: =D45*H45 -> 0 | J45: =D45*H45 -> 0
B46: 5 | C46: Intelligent Management Cloud -IPU per consecutive month | D46: 150 | E46: 0 | F46: =D46*E46 -> 0 | G46: =D46*E46 -> 0 | H46: 0 | I46: =D46*H46 -> 0 | J46: =D46*H46 -> 0
B47: 6 | C47: Informatica BPM Option for MDM and MDM Product 360 Production Annual Subscription | D47: 1 | E47: 0 | F47: =D47*E47 -> 0 | G47: =D47*E47 -> 0 | H47: 0 | I47: =D47*H47 -> 0 | J47: =D47*H47 -> 0
...
