Workbook
Name consultant: '[1]BP1&6 RATES'!$B$7
Name CONTRACT: '[1]BP1&6 RATES'!$B$8
Name project: '[1]BP1&6 RATES'!$B$6
Name Rates: '[2]CM Rates'!$B$6:$C$19

Sheet Template
B3: Progressive Design Build - Design Build Entity: Enter Name
H4: 2026-2027
C6: TASK | D6: POSITION | E6: HRLY RATE PRE CON PHASE | F6: Total Hrs | H6: November | I6: December | J6: January | K6: February | L6: March | M6: April | N6: May | O6: June
G7: Hrs/Mo | H7: 168 | I7: 168 | J7: 168 | K7: 168 | L7: 168 | M7: 168 | N7: 168 | O7: 168
G8: Budget | H8: (Quantity of Staff)
B9: O Street State Parking Garage | C9: Design Services
D11: Firm Person 1 | E11: 0 | F11: =SUM(H11:O11) -> 0 | G11: =SUM(H11:O11)*E11 -> 0 | H11: 0 | I11: 0 | J11: 0 | K11: 0 | L11: 0 | M11: 0 | N11: 0 | O11: 0
G12: % Level of Effort: | H12: =H11/$H$7 -> 0 | I12: =I11/$I$7 -> 0 | J12: =J11/$J$7 -> 0 | K12: =K11/$K$7 -> 0 | L12: =L11/$K$7 -> 0 | M12: =M11/$K$7 -> 0 | N12: =N11/$K$7 -> 0 | O12: =O11/$K$7 -> 0
D13: Firm Person 2 | E13: 0 | F13: =SUM(H13:O13) -> 0 | G13: =SUM(H13:K13)*E13 -> 0 | H13: 0 | I13: 0 | J13: 0 | K13: 0 | L13: 0 | M13: 0 | N13: 0 | O13: 0
G14: % Level of Effort: | H14: =H13/$H$7 -> 0 | I14: =I13/$I$7 -> 0 | J14: =J13/$J$7 -> 0 | K14: =K13/$K$7 -> 0 | L14: =L13/$K$7 -> 0 | M14: =M13/$K$7 -> 0 | N14: =N13/$K$7 -> 0 | O14: =O13/$K$7 -> 0
D15: Firm Person 3 | E15: 0 | F15: =SUM(H15:O15) -> 0 | G15: =SUM(H15:K15)*E15 -> 0 | H15: 0 | I15: 0 | J15: 0 | K15: 0 | L15: 0 | M15: 0 | N15: 0 | O15: 0
G16: % Level of Effort: | H16: =H15/$H$7 -> 0 | I16: =I15/$I$7 -> 0 | J16: =J15/$J$7 -> 0 | K16: =K15/$K$7 -> 0 | L16: =L15/$K$7 -> 0 | M16: =M15/$K$7 -> 0 | N16: =N15/$K$7 -> 0 | O16: =O15/$K$7 -> 0
D17: Firm Person 4 | E17: 0 | F17: =SUM(H17:O17) -> 0 | G17: =SUM(H17:K17)*E17 -> 0 | H17: 0 | I17: 0 | J17: 0 | K17: 0 | L17: 0 | M17: 0 | N17: 0 | O17: 0
G18: % Level of Effort: | H18: =H17/$H$7 -> 0 | I18: =I17/$I$7 -> 0 | J18: =J17/$J$7 -> 0 | K18: =K17/$K$7 -> 0 | L18: =L17/$K$7 -> 0 | M18: =M17/$K$7 -> 0 | N18: =N17/$K$7 -> 0 | O18: =O17/$K$7 -> 0
C19: Subtotal | G19: =+G11+G13+G15+G17 -> 0
C20: Design Coordination
D22: Firm Person 1 | E22: 0 | F22: =SUM(H22:O22) -> 0 | G22: =SUM(H22:K22)*E22 -> 0 | H22: 0 | I22: 0 | J22: 0 | K22: 0 | L22: 0 | M22: 0 | N22: 0 | O22: 0
G23: % Level of Effort: | H23: =H22/$H$7 -> 0 | I23: =I22/$I$7 -> 0 | J23: =J22/$J$7 -> 0 | K23: =K22/$K$7 -> 0 | L23: =L22/$K$7 -> 0 | M23: =M22/$K$7 -> 0 | N23: =N22/$K$7 -> 0 | O23: =O22/$K$7 -> 0
D24: Firm Person 2 | E24: 0 | F24: =SUM(H24:O24) -> 0 | G24: =SUM(H24:K24)*E24 -> 0 | H24: 0 | I24: 0 | J24: 0 | K24: 0 | L24: 0 | M24: 0 | N24: 0 | O24: 0
G25: % Level of Effort: | H25: =H24/$H$7 -> 0 | I25: =I24/$I$7 -> 0 | J25: =J24/$J$7 -> 0 | K25: =K24/$K$7 -> 0 | L25: =L24/$K$7 -> 0 | M25: =M24/$K$7 -> 0 | N25: =N24/$K$7 -> 0 | O25: =O24/$K$7 -> 0
D26: Firm Person 3 | E26: 0 | F26: =SUM(H26:O26) -> 0 | G26: =SUM(H26:K26)*E26 -> 0 | H26: 0 | I26: 0 | J26: 0 | K26: 0 | L26: 0 | M26: 0 | N26: 0 | O26: 0
G27: % Level of Effort: | H27: =H26/$H$7 -> 0 | I27: =I26/$I$7 -> 0 | J27: =J26/$J$7 -> 0 | K27: =K26/$K$7 -> 0 | L27: =L26/$K$7 -> 0 | M27: =M26/$K$7 -> 0 | N27: =N26/$K$7 -> 0 | O27: =O26/$K$7 -> 0
D28: Firm Person 4 | E28: 0 | F28: =SUM(H28:O28) -> 0 | G28: =SUM(H28:K28)*E28 -> 0 | H28: 0 | I28: 0 | J28: 0 | K28: 0 | L28: 0 | M28: 0 | N28: 0 | O28: 0
G29: % Level of Effort: | H29: =H28/$H$7 -> 0 | I29: =I28/$I$7 -> 0 | J29: =J28/$J$7 -> 0 | K29: =K28/$K$7 -> 0 | L29: =L28/$K$7 -> 0 | M29: =M28/$K$7 -> 0 | N29: =N28/$K$7 -> 0 | O29: =O28/$K$7 -> 0
C30: Subtotal | G30: =+G22+G24+G26+G28 -> 0
C31: Plans, Reports, and Admin Services
D33: Firm Person 1 | E33: 0 | F33: =SUM(H33:O33) -> 0 | G33: =SUM(H33:K33)*E33 -> 0 | H33: 0 | I33: 0 | J33: 0 | K33: 0 | L33: 0 | M33: 0 | N33: 0 | O33: 0
G34: % Level of Effort: | H34: =H33/$H$7 -> 0 | I34: =I33/$I$7 -> 0 | J34: =J33/$J$7 -> 0 | K34: =K33/$K$7 -> 0 | L34: =L33/$K$7 -> 0 | M34: =M33/$K$7 -> 0 | N34: =N33/$K$7 -> 0 | O34: =O33/$K$7 -> 0
D35: Firm Person 2 | E35: 0 | F35: =SUM(H35:O35) -> 0 | G35: =SUM(H35:K35)*E35 -> 0 | H35: 0 | I35: 0 | J35: 0 | K35: 0 | L35: 0 | M35: 0 | N35: 0 | O35: 0
G36: % Level of Effort: | H36: =H35/$H$7 -> 0 | I36: =I35/$I$7 -> 0 | J36: =J35/$J$7 -> 0 | K36: =K35/$K$7 -> 0 | L36: =L35/$K$7 -> 0 | M36: =M35/$K$7 -> 0 | N36: =N35/$K$7 -> 0 | O36: =O35/$K$7 -> 0
D37: Firm Person 3 | E37: 0 | F37: =SUM(H37:O37) -> 0 | G37: =SUM(H37:K37)*E37 -> 0 | H37: 0 | I37: 0 | J37: 0 | K37: 0 | L37: 0 | M37: 0 | N37: 0 | O37: 0
G38: % Level of Effort: | H38: =H37/$H$7 -> 0 | I38: =I37/$I$7 -> 0 | J38: =J37/$J$7 -> 0 | K38: =K37/$K$7 -> 0 | L38: =L37/$K$7 -> 0 | M38: =M37/$K$7 -> 0 | N38: =N37/$K$7 -> 0 | O38: =O37/$K$7 -> 0
D39: Firm Person 4 | E39: 0 | F39: =SUM(H39:O39) -> 0 | G39: =SUM(H39:K39)*E39 -> 0 | H39: 0 | I39: 0 | J39: 0 | K39: 0 | L39: 0 | M39: 0 | N39: 0 | O39: 0
G40: % Level of Effort: | H40: =H39/$H$7 -> 0 | I40: =I39/$I$7 -> 0 | J40: =J39/$J$7 -> 0 | K40: =K39/$K$7 -> 0 | L40: =L39/$K$7 -> 0 | M40: =M39/$K$7 -> 0 | N40: =N39/$K$7 -> 0 | O40: =O39/$K$7 -> 0
C41: Subtotal | G41: =+G33+G35+G37+G39 -> 0
C42: Estimating
D44: Firm Person 1 | E44: 0 | F44: =SUM(H44:O44) -> 0 | G44: =SUM(H44:K44)*E44 -> 0 | H44: 0 | I44: 0 | J44: 0 | K44: 0 | L44: 0 | M44: 0 | N44: 0 | O44: 0
G45: % Level of Effort: | H45: =H44/$H$7 -> 0 | I45: =I44/$I$7 -> 0 | J45: =J44/$J$7 -> 0 | K45: =K44/$K$7 -> 0 | L45: =L44/$K$7 -> 0 | M45: =M44/$K$7 -> 0 | N45: =N44/$K$7 -> 0 | O45: =O44/$K$7 -> 0
D46: Firm Person 2 | E46: 0 | F46: =SUM(H46:O46) -> 0 | G46: =SUM(H46:K46)*E46 -> 0 | H46: 0 | I46: 0 | J46: 0 | K46: 0 | L46: 0 | M46: 0 | N46: 0 | O46: 0
G47: % Level of Effort: | H47: =H46/$H$7 -> 0 | I47: =I46/$I$7 -> 0 | J47: =J46/$J$7 -> 0 | K47: =K46/$K$7 -> 0 | L47: =L46/$K$7 -> 0 | M47: =M46/$K$7 -> 0 | N47: =N46/$K$7 -> 0 | O47: =O46/$K$7 -> 0
D48: Firm Person 3 | E48: 0 | F48: =SUM(H48:O48) -> 0 | G48: =SUM(H48:K48)*E48 -> 0 | H48: 0 | I48: 0 | J48: 0 | K48: 0 | L48: 0 | M48: 0 | N48: 0 | O48: 0
G49: % Level of Effort: | H49: =H48/$H$7 -> 0 | I49: =I48/$I$7 -> 0 | J49: =J48/$J$7 -> 0 | K49: =K48/$K$7 -> 0 | L49: =L48/$K$7 -> 0 | M49: =M48/$K$7 -> 0 | N49: =N48/$K$7 -> 0 | O49: =O48/$K$7 -> 0
D50: Firm Person 4 | E50: 0 | F50: =SUM(H50:O50) -> 0 | G50: =SUM(H50:K50)*E50 -> 0 | H50: 0 | I50: 0 | J50: 0 | K50: 0 | L50: 0 | M50: 0 | N50: 0 | O50: 0
G51: % Level of Effort: | H51: =H50/$H$7 -> 0 | I51: =I50/$I$7 -> 0 | J51: =J50/$J$7 -> 0 | K51: =K50/$K$7 -> 0 | L51: =L50/$K$7 -> 0 | M51: =M50/$K$7 -> 0 | N51: =N50/$K$7 -> 0 | O51: =O50/$K$7 -> 0
C52: Subtotal | G52: =+G44+G46+G48+G50 -> 0
C53: Schedule
D55: Firm Person 1 | E55: 0 | F55: =SUM(H55:O55) -> 0 | G55: =SUM(H55:K55)*E55 -> 0 | H55: 0 | I55: 0 | J55: 0 | K55: 0 | L55: 0 | M55: 0 | N55: 0 | O55: 0
G56: % Level of Effort: | H56: =H55/$H$7 -> 0 | I56: =I55/$I$7 -> 0 | J56: =J55/$J$7 -> 0 | K56: =K55/$K$7 -> 0 | L56: =L55/$K$7 -> 0 | M56: =M55/$K$7 -> 0 | N56: =N55/$K$7 -> 0 | O56: =O55/$K$7 -> 0
D57: Firm Person 2 | E57: 0 | F57: =SUM(H57:O57) -> 0 | G57: =SUM(H57:K57)*E57 -> 0 | H57: 0 | I57: 0 | J57: 0 | K57: 0 | L57: 0 | M57: 0 | N57: 0 | O57: 0
G58: % Level of Effort: | H58: =H57/$H$7 -> 0 | I58: =I57/$I$7 -> 0 | J58: =J57/$J$7 -> 0 | K58: =K57/$K$7 -> 0 | L58: =L57/$K$7 -> 0 | M58: =M57/$K$7 -> 0 | N58: =N57/$K$7 -> 0 | O58: =O57/$K$7 -> 0
D59: Firm Person 3 | E59: 0 | F59: =SUM(H59:O59) -> 0 | G59: =SUM(H59:K59)*E59 -> 0 | H59: 0 | I59: 0 | J59: 0 | K59: 0 | L59: 0 | M59: 0 | N59: 0 | O59: 0
G60: % Level of Effort: | H60: =H59/$H$7 -> 0 | I60: =I59/$I$7 -> 0 | J60: =J59/$J$7 -> 0 | K60: =K59/$K$7 -> 0 | L60: =L59/$K$7 -> 0 | M60: =M59/$K$7 -> 0 | N60: =N59/$K$7 -> 0 | O60: =O59/$K$7 -> 0
D61: Firm Person 4 | E61: 0 | F61: =SUM(H61:O61) -> 0 | G61: =SUM(H61:K61)*E61 -> 0 | H61: 0 | I61: 0 | J61: 0 | K61: 0 | L61: 0 | M61: 0 | N61: 0 | O61: 0
G62: % Level of Effort: | H62: =H61/$H$7 -> 0 | I62: =I61/$I$7 -> 0 | J62: =J61/$J$7 -> 0 | K62: =K61/$K$7 -> 0 | L62: =L61/$K$7 -> 0 | M62: =M61/$K$7 -> 0 | N62: =N61/$K$7 -> 0 | O62: =O61/$K$7 -> 0
C63: Subtotal | G63: =+G55+G57+G59+G61 -> 0
C64: Site Investigation
D66: Firm Person 1 | E66: 0 | F66: =SUM(H66:O66) -> 0 | G66: =SUM(H66:K66)*E66 -> 0 | H66: 0 | I66: 0 | J66: 0 | K66: 0 | L66: 0 | M66: 0 | N66: 0 | O66: 0
G67: % Level of Effort: | H67: =H66/$H$7 -> 0 | I67: =I66/$I$7 -> 0 | J67: =J66/$J$7 -> 0 | K67: =K66/$K$7 -> 0 | L67: =L66/$K$7 -> 0 | M67: =M66/$K$7 -> 0 | N67: =N66/$K$7 -> 0 | O67: =O66/$K$7 -> 0
D68: Firm Person 2 | E68: 0 | F68: =SUM(H68:O68) -> 0 | G68: =SUM(H68:K68)*E68 -> 0 | H68: 0 | I68: 0 | J68: 0 | K68: 0 | L68: 0 | M68: 0 | N68: 0 | O68: 0
G69: % Level of Effort: | H69: =H68/$H$7 -> 0 | I69: =I68/$I$7 -> 0 | J69: =J68/$J$7 -> 0 | K69: =K68/$K$7 -> 0 | L69: =L68/$K$7 -> 0 | M69: =M68/$K$7 -> 0 | N69: =N68/$K$7 -> 0 | O69: =O68/$K$7 -> 0
D70: Firm Person 3 | E70: 0 | F70: =SUM(H70:O70) -> 0 | G70: =SUM(H70:K70)*E70 -> 0 | H70: 0 | I70: 0 | J70: 0 | K70: 0 | L70: 0 | M70: 0 | N70: 0 | O70: 0
G71: % Level of Effort: | H71: =H70/$H$7 -> 0 | I71: =I70/$I$7 -> 0 | J71: =J70/$J$7 -> 0 | K71: =K70/$K$7 -> 0 | L71: =L70/$K$7 -> 0 | M71: =M70/$K$7 -> 0 | N71: =N70/$K$7 -> 0 | O71: =O70/$K$7 -> 0
D72: Firm Person 4 | E72: 0 | F72: =SUM(H72:O72) -> 0 | G72: =SUM(H72:K72)*E72 -> 0 | H72: 0 | I72: 0 | J72: 0 | K72: 0 | L72: 0 | M72: 0 | N72: 0 | O72: 0
G73: % Level of Effort: | H73: =H72/$H$7 -> 0 | I73: =I72/$I$7 -> 0 | J73: =J72/$J$7 -> 0 | K73: =K72/$K$7 -> 0 | L73: =L72/$K$7 -> 0 | M73: =M72/$K$7 -> 0 | N73: =N72/$K$7 -> 0 | O73: =O72/$K$7 -> 0
C74: Subtotal | G74: =+G66+G68+G70+G72 -> 0
C75: Project Management
D77: Firm Person 1 | E77: 0 | F77: =SUM(H77:O77) -> 0 | G77: =SUM(H77:K77)*E77 -> 0 | H77: 0 | I77: 0 | J77: 0 | K77: 0 | L77: 0 | M77: 0 | N77: 0 | O77: 0
G78: % Level of Effort: | H78: =H77/$H$7 -> 0 | I78: =I77/$I$7 -> 0 | J78: =J77/$J$7 -> 0 | K78: =K77/$K$7 -> 0 | L78: =L77/$K$7 -> 0 | M78: =M77/$K$7 -> 0 | N78: =N77/$K$7 -> 0 | O78: =O77/$K$7 -> 0
D79: Firm Person 2 | E79: 0 | F79: =SUM(H79:O79) -> 0 | G79: =SUM(H79:K79)*E79 -> 0 | H79: 0 | I79: 0 | J79: 0 | K79: 0 | L79: 0 | M79: 0 | N79: 0 | O79: 0
G80: % Level of Effort: | H80: =H79/$H$7 -> 0 | I80: =I79/$I$7 -> 0 | J80: =J79/$J$7 -> 0 | K80: =K79/$K$7 -> 0 | L80: =L79/$K$7 -> 0 | M80: =M79/$K$7 -> 0 | N80: =N79/$K$7 -> 0 | O80: =O79/$K$7 -> 0
D81: Firm Person 3 | E81: 0 | F81: =SUM(H81:O81) -> 0 | G81: =SUM(H81:K81)*E81 -> 0 | H81: 0 | I81: 0 | J81: 0 | K81: 0 | L81: 0 | M81: 0 | N81: 0 | O81: 0
G82: % Level of Effort: | H82: =H81/$H$7 -> 0 | I82: =I81/$I$7 -> 0 | J82: =J81/$J$7 -> 0 | K82: =K81/$K$7 -> 0 | L82: =L81/$K$7 -> 0 | M82: =M81/$K$7 -> 0 | N82: =N81/$K$7 -> 0 | O82: =O81/$K$7 -> 0
D83: Firm Person 4 | E83: 0 | F83: =SUM(H83:O83) -> 0 | G83: =SUM(H83:K83)*E83 -> 0 | H83: 0 | I83: 0 | J83: 0 | K83: 0 | L83: 0 | M83: 0 | N83: 0 | O83: 0
G84: % Level of Effort: | H84: =H83/$H$7 -> 0 | I84: =I83/$I$7 -> 0 | J84: =J83/$J$7 -> 0 | K84: =K83/$K$7 -> 0 | L84: =L83/$K$7 -> 0 | M84: =M83/$K$7 -> 0 | N84: =N83/$K$7 -> 0 | O84: =O83/$K$7 -> 0
D85: Miscellanous | E85: 0 | F85: =SUM(H85:O85) -> 0 | G85: =SUM(H85:K85)*E85 -> 0 | H85: 0 | I85: 0 | J85: 0 | K85: 0 | L85: 0 | M85: 0 | N85: 0 | O85: 0
G86: % Level of Effort: | H86: =H85/$H$7 -> 0 | I86: =I85/$I$7 -> 0 | J86: =J85/$J$7 -> 0 | K86: =K85/$K$7 -> 0 | L86: =L85/$K$7 -> 0 | M86: =M85/$K$7 -> 0 | N86: =N85/$K$7 -> 0 | O86: =O85/$K$7 -> 0
D87: Miscellanous | E87: 0 | F87: =SUM(H87:O87) -> 0 | G87: =SUM(H87:K87)*E87 -> 0 | H87: 0 | I87: 0 | J87: 0 | K87: 0 | L87: 0 | M87: 0 | N87: 0 | O87: 0
G88: % Level of Effort: | H88: =H87/$H$7 -> 0 | I88: =I87/$I$7 -> 0 | J88: =J87/$J$7 -> 0 | K88: =K87/$K$7 -> 0 | L88: =L87/$K$7 -> 0 | M88: =M87/$K$7 -> 0 | N88: =N87/$K$7 -> 0 | O88: =O87/$K$7 -> 0
C89: Subtotal | G89: =+G77+G79+G81+G83+G85+G87 -> 0
F91: Pre-Construction Phase Total | G91: =+G19+G30+G41+G52+G63+G74+G89 -> 0 | H91: =(H11+H13+H15+H17+H22+H24+H26+H28+H33+H35+H37+H39+H44+H46+H48+H50+H55+H57+H59+H61+H66+H68+H70+H72+H77+H79+H81+H83+H85+H87) -> 0 | I91: =(I11+I13+I15+I17+I22+I24+I26+I28+I33+I35+I37+I39+I44+I46+I48+I50+I55+I57+I59+I61+I66+I68+I70+I72+I77+I79+I81+I83+I85+I87) -> 0 | J91: =(J11+J13+J15+J17+J22+J24+J26+J28+J33+J35+J37+J39+J44+J46+J48+J50+J55+J57+J59+J61+J66+J68+J70+J72+J77+J79+J81+J83+J85+J87) -> 0 | K91: =(K11+K13+K15+K17+K22+K24+K26+K28+K33+K35+K37+K39+K44+K46+K48+K50+K55+K57+K59+K61+K66+K68+K70+K72+K77+K79+K81+K83+K85+K87) -> 0 | L91: =(L11+L13+L15+L17+L22+L24+L26+L28+L33+L35+L37+L39+L44+L46+L48+L50+L55+L57+L59+L61+L66+L68+L70+L72+L77+L79+L81+L83+L85+L87) -> 0 | M91: =(M11+M13+M15+M17+M22+M24+M26+M28+M33+M35+M37+M39+M44+M46+M48+M50+M55+M57+M59+M61+M66+M68+M70+M72+M77+M79+M81+M83+M85+M87) -> 0 | N91: =(N11+N13+N15+N17+N22+N24+N26+N28+N33+N35+N37+N39+N44+N46+N48+N50+N55+N57+N59+N61+N66+N68+N70+N72+N77+N79+N81+N83+N85+N87) -> 0 | O91: =(O11+O13+O15+O17+O22+O24+O26+O28+O33+O35+O37+O39+O44+O46+O48+O50+O55+O57+O59+O61+O66+O68+O70+O72+O77+O79+O81+O83+O85+O87) -> 0

Sheet Price Evaluation Totals
A3: PRECONSTRUCTION PRICE FORM
A7: PRECONSTRUCTION SERVICES
A8: Design Services | C8: =Template!G19 -> 0
A9: Design Coordination | C9: =Template!G30 -> 0
A10: Plans, Reports, and Administration Services | C10: =Template!G41 -> 0
A11: Subtotal - Preconstruction Design Services | C11: =SUM(C8:C10) -> 0
A12: Estimating including GMP Development | C12: =Template!G52 -> 0
A13: Scheduling | C13: =Template!G63 -> 0
A14: Site Investigation | C14: =Template!G74 -> 0
A15: Project Coordination and Management | C15: =Template!G89 -> 0
A16: General Requirements | C16: 0
A17: Bonds and Insurance | C17: 0
A18: Fee | C18: 0
A19: Subtotal - Preconstruction Project Management Services | C19: =SUM(C12:C18) -> 0
A20: Total Preconstruction Services | C20: =SUM(C11+C19) -> 0
A22: DESIGN BUILD ENTITY NAME

Sheet Firm A
A3: PRECONSTRUCTION PRICE FORM
A7: PRECONSTRUCTION SERVICES
A8: Design Services | C8: 0
A9: Design Coordination | C9: 0
A10: Plans, Reports, and Administration Services | C10: 0
A11: Subtotal - Preconstruction Design Services | C11: =SUM(C8:C10) -> 0
A12: Estimating including GMP Development | C12: 0
A13: Scheduling | C13: 0
A14: Site Investigation | C14: 0
A15: Project Coordination and Management | C15: 0
A16: General Requirements | C16: 0
A17: Bonds and Insurance | C17: 0
A18: Fee | C18: 0
A19: Subtotal - Preconstruction Project Management Services | C19: =SUM(C12:C18) -> 0
A20: Total Preconstruction Services | C20: =SUM(C11+C19) -> 0
A22: DESIGN BUILD ENTITY NAME

Sheet Firm B
A3: PRECONSTRUCTION PRICE FORM
A7: PRECONSTRUCTION SERVICES
A8: Design Services | C8: 0
A9: Design Coordination | C9: 0
A10: Plans, Reports, and Administration Services | C10: 0
A11: Subtotal - Preconstruction Design Services | C11: =SUM(C8:C10) -> 0
A12: Estimating including GMP Development | C12: 0
A13: Scheduling | C13: 0
A14: Site Investigation | C14: 0
A15: Project Coordination and Management | C15: 0
A16: General Requirements | C16: 0
A17: Bonds and Insurance | C17: 0
A18: Fee | C18: 0
A19: Subtotal - Preconstruction Project Management Services | C19: =SUM(C12:C18) -> 0
A20: Total Preconstruction Services | C20: =SUM(C11+C19) -> 0
A22: DESIGN BUILD ENTITY NAME

Sheet Firm C
A3: PRECONSTRUCTION PRICE FORM
A7: PRECONSTRUCTION SERVICES
A8: Design Services | C8: 0
A9: Design Coordination | C9: 0
A10: Plans, Reports, and Administration Services | C10: 0
A11: Subtotal - Preconstruction Design Services | C11: =SUM(C8:C10) -> 0
A12: Estimating including GMP Development | C12: 0
A13: Scheduling | C13: 0
A14: Site Investigation | C14: 0
A15: Project Coordination and Management | C15: 0
A16: General Requirements | C16: 0
A17: Bonds and Insurance | C17: 0
A18: Fee | C18: 0
A19: Subtotal - Preconstruction Project Management Services | C19: =SUM(C12:C18) -> 0
A20: Total Preconstruction Services | C20: =SUM(C11+C19) -> 0
A22: DESIGN BUILD ENTITY NAME

Sheet Firm D
A3: PRECONSTRUCTION PRICE FORM
A7: PRECONSTRUCTION SERVICES
A8: Design Services | C8: 0
A9: Design Coordination | C9: 0
A10: Plans, Reports, and Administration Services | C10: 0
A11: Subtotal - Preconstruction Design Services | C11: =SUM(C8:C10) -> 0
A12: Estimating including GMP Development | C12: 0
A13: Scheduling | C13: 0
A14: Site Investigation | C14: 0
A15: Project Coordination and Management | C15: 0
A16: General Requirements | C16: 0
A17: Bonds and Insurance | C17: 0
A18: Fee | C18: 0
A19: Subtotal - Preconstruction Project Management Services | C19: =SUM(C12:C18) -> 0
A20: Total Preconstruction Services | C20: =SUM(C11+C19) -> 0
A22: DESIGN BUILD ENTITY NAME

Sheet Sample Template
B3: Progressive Design Build - Design Build Entity: Enter Name
H4: 2026
C6: TASK | D6: POSITION | E6: HRLY RATE PRE CON PHASE | F6: Total Hrs | H6: August | I6: September | J6: October | K6: November | L6: December
G7: Hrs/Mo | H7: 168 | I7: 168 | J7: 168 | K7: 168 | L7: 168
G8: Budget | H8: (Quantity of Hours)
B9: Exposition Park Utility Replacement and Site Improvements | C9: Design Services
D11: Project Architect Person 1 | E11: 150 | F11: =SUM(H11:L11) -> 360 | G11: =SUM(H11:L11)*E11 -> 54000 | H11: 40 | I11: 80 | J11: 80 | K11: 80 | L11: 80
G12: % Level of Effort: | H12: =H11/$H$7 -> 0.23809524 | I12: =I11/$I$7 -> 0.47619048 | J12: =J11/$J$7 -> 0.47619048 | K12: =K11/$K$7 -> 0.47619048 | L12: =L11/$K$7 -> 0.47619048
D13: Senior Architect Person 2 | E13: 175 | F13: =SUM(H13:L13) -> 664 | G13: =SUM(H13:K13)*E13 -> 102200 | H13: 80 | I13: 168 | J13: 168 | K13: 168 | L13: 80
G14: % Level of Effort: | H14: =H13/$H$7 -> 0.47619048 | I14: =I13/$I$7 -> 1 | J14: =J13/$J$7 -> 1 | K14: =K13/$K$7 -> 1 | L14: =L13/$K$7 -> 0.47619048
D15: Senior Civil Engineer Person 3 | E15: 200 | F15: =SUM(H15:L15) -> 840 | G15: =SUM(H15:K15)*E15 -> 134400 | H15: 168 | I15: 168 | J15: 168 | K15: 168 | L15: 168
G16: % Level of Effort: | H16: =H15/$H$7 -> 1 | I16: =I15/$I$7 -> 1 | J16: =J15/$J$7 -> 1 | K16: =K15/$K$7 -> 1 | L16: =L15/$K$7 -> 1
D17: Principal Architect Person 4 | E17: 250 | F17: =SUM(H17:L17) -> 152 | G17: =SUM(H17:K17)*E17 -> 28000 | H17: 24 | I17: 24 | J17: 40 | K17: 24 | L17: 40
G18: % Level of Effort: | H18: =H17/$H$7 -> 0.14285714 | I18: =I17/$I$7 -> 0.14285714 | J18: =J17/$J$7 -> 0.23809524 | K18: =K17/$K$7 -> 0.14285714 | L18: =L17/$K$7 -> 0.23809524
C19: Subtotal | G19: =+G11+G13+G15+G17 -> 318600
C20: Design Coordination
D22: Firm Person 1 | E22: 0 | F22: =SUM(H22:L22) -> 0 | G22: =SUM(H22:K22)*E22 -> 0 | H22: 0 | I22: 0 | J22: 0 | K22: 0 | L22: 0
G23: % Level of Effort: | H23: =H22/$H$7 -> 0 | I23: =I22/$I$7 -> 0 | J23: =J22/$J$7 -> 0 | K23: =K22/$K$7 -> 0 | L23: =L22/$K$7 -> 0
D24: Firm Person 2 | E24: 0 | F24: =SUM(H24:L24) -> 0 | G24: =SUM(H24:K24)*E24 -> 0 | H24: 0 | I24: 0 | J24: 0 | K24: 0 | L24: 0
G25: % Level of Effort: | H25: =H24/$H$7 -> 0 | I25: =I24/$I$7 -> 0 | J25: =J24/$J$7 -> 0 | K25: =K24/$K$7 -> 0 | L25: =L24/$K$7 -> 0
D26: Firm Person 3 | E26: 0 | F26: =SUM(H26:L26) -> 0 | G26: =SUM(H26:K26)*E26 -> 0 | H26: 0 | I26: 0 | J26: 0 | K26: 0 | L26: 0
G27: % Level of Effort: | H27: =H26/$H$7 -> 0 | I27: =I26/$I$7 -> 0 | J27: =J26/$J$7 -> 0 | K27: =K26/$K$7 -> 0 | L27: =L26/$K$7 -> 0
D28: Firm Person 4 | E28: 0 | F28: =SUM(H28:L28) -> 0 | G28: =SUM(H28:K28)*E28 -> 0 | H28: 0 | I28: 0 | J28: 0 | K28: 0 | L28: 0
G29: % Level of Effort: | H29: =H28/$H$7 -> 0 | I29: =I28/$I$7 -> 0 | J29: =J28/$J$7 -> 0 | K29: =K28/$K$7 -> 0 | L29: =L28/$K$7 -> 0
C30: Subtotal | G30: =+G22+G24+G26+G28 -> 0
C31: Plans, Reports, and Admin Services
D33: Firm Person 1 | E33: 0 | F33: =SUM(H33:L33) -> 0 | G33: =SUM(H33:K33)*E33 -> 0 | H33: 0 | I33: 0 | J33: 0 | K33: 0 | L33: 0
G34: % Level of Effort: | H34: =H33/$H$7 -> 0 | I34: =I33/$I$7 -> 0 | J34: =J33/$J$7 -> 0 | K34: =K33/$K$7 -> 0 | L34: =L33/$K$7 -> 0
D35: Firm Person 2 | E35: 0 | F35: =SUM(H35:L35) -> 0 | G35: =SUM(H35:K35)*E35 -> 0 | H35: 0 | I35: 0 | J35: 0 | K35: 0 | L35: 0
G36: % Level of Effort: | H36: =H35/$H$7 -> 0 | I36: =I35/$I$7 -> 0 | J36: =J35/$J$7 -> 0 | K36: =K35/$K$7 -> 0 | L36: =L35/$K$7 -> 0
D37: Firm Person 3 | E37: 0 | F37: =SUM(H37:L37) -> 0 | G37: =SUM(H37:K37)*E37 -> 0 | H37: 0 | I37: 0 | J37: 0 | K37: 0 | L37: 0
G38: % Level of Effort: | H38: =H37/$H$7 -> 0 | I38: =I37/$I$7 -> 0 | J38: =J37/$J$7 -> 0 | K38: =K37/$K$7 -> 0 | L38: =L37/$K$7 -> 0
D39: Firm Person 4 | E39: 0 | F39: =SUM(H39:L39) -> 0 | G39: =SUM(H39:K39)*E39 -> 0 | H39: 0 | I39: 0 | J39: 0 | K39: 0 | L39: 0
G40: % Level of Effort: | H40: =H39/$H$7 -> 0 | I40: =I39/$I$7 -> 0 | J40: =J39/$J$7 -> 0 | K40: =K39/$K$7 -> 0 | L40: =L39/$K$7 -> 0
C41: Subtotal | G41: =+G33+G35+G37+G39 -> 0
C42: Estimating
D44: Firm Person 1 | E44: 0 | F44: =SUM(H44:L44) -> 0 | G44: =SUM(H44:K44)*E44 -> 0 | H44: 0 | I44: 0 | J44: 0 | K44: 0 | L44: 0
G45: % Level of Effort: | H45: =H44/$H$7 -> 0 | I45: =I44/$I$7 -> 0 | J45: =J44/$J$7 -> 0 | K45: =K44/$K$7 -> 0 | L45: =L44/$K$7 -> 0
D46: Firm Person 2 | E46: 0 | F46: =SUM(H46:L46) -> 0 | G46: =SUM(H46:K46)*E46 -> 0 | H46: 0 | I46: 0 | J46: 0 | K46: 0 | L46: 0
G47: % Level of Effort: | H47: =H46/$H$7 -> 0 | I47: =I46/$I$7 -> 0 | J47: =J46/$J$7 -> 0 | K47: =K46/$K$7 -> 0 | L47: =L46/$K$7 -> 0
D48: Firm Person 3 | E48: 0 | F48: =SUM(H48:L48) -> 0 | G48: =SUM(H48:K48)*E48 -> 0 | H48: 0 | I48: 0 | J48: 0 | K48: 0 | L48: 0
G49: % Level of Effort: | H49: =H48/$H$7 -> 0 | I49: =I48/$I$7 -> 0 | J49: =J48/$J$7 -> 0 | K49: =K48/$K$7 -> 0 | L49: =L48/$K$7 -> 0
D50: Firm Person 4 | E50: 0 | F50: =SUM(H50:L50) -> 0 | G50: =SUM(H50:K50)*E50 -> 0 | H50: 0 | I50: 0 | J50: 0 | K50: 0 | L50: 0
G51: % Level of Effort: | H51: =H50/$H$7 -> 0 | I51: =I50/$I$7 -> 0 | J51: =J50/$J$7 -> 0 | K51: =K50/$K$7 -> 0 | L51: =L50/$K$7 -> 0
C52: Subtotal | G52: =+G44+G46+G48+G50 -> 0
C53: Schedule
D55: Firm Person 1 | E55: 0 | F55: =SUM(H55:L55) -> 0 | G55: =SUM(H55:K55)*E55 -> 0 | H55: 0 | I55: 0 | J55: 0 | K55: 0 | L55: 0
G56: % Level of Effort: | H56: =H55/$H$7 -> 0 | I56: =I55/$I$7 -> 0 | J56: =J55/$J$7 -> 0 | K56: =K55/$K$7 -> 0 | L56: =L55/$K$7 -> 0
D57: Firm Person 2 | E57: 0 | F57: =SUM(H57:L57) -> 0 | G57: =SUM(H57:K57)*E57 -> 0 | H57: 0 | I57: 0 | J57: 0 | K57: 0 | L57: 0
G58: % Level of Effort: | H58: =H57/$H$7 -> 0 | I58: =I57/$I$7 -> 0 | J58: =J57/$J$7 -> 0 | K58: =K57/$K$7 -> 0 | L58: =L57/$K$7 -> 0
D59: Firm Person 3 | E59: 0 | F59: =SUM(H59:L59) -> 0 | G59: =SUM(H59:K59)*E59 -> 0 | H59: 0 | I59: 0 | J59: 0 | K59: 0 | L59: 0
G60: % Level of Effort: | H60: =H59/$H$7 -> 0 | I60: =I59/$I$7 -> 0 | J60: =J59/$J$7 -> 0 | K60: =K59/$K$7 -> 0 | L60: =L59/$K$7 -> 0
D61: Firm Person 4 | E61: 0 | F61: =SUM(H61:L61) -> 0 | G61: =SUM(H61:K61)*E61 -> 0 | H61: 0 | I61: 0 | J61: 0 | K61: 0 | L61: 0
G62: % Level of Effort: | H62: =H61/$H$7 -> 0 | I62: =I61/$I$7 -> 0 | J62: =J61/$J$7 -> 0 | K62: =K61/$K$7 -> 0 | L62: =L61/$K$7 -> 0
C63: Subtotal | G63: =+G55+G57+G59+G61 -> 0
C64: Site Investigation
D66: Firm Person 1 | E66: 0 | F66: =SUM(H66:L66) -> 0 | G66: =SUM(H66:K66)*E66 -> 0 | H66: 0 | I66: 0 | J66: 0 | K66: 0 | L66: 0
G67: % Level of Effort: | H67: =H66/$H$7 -> 0 | I67: =I66/$I$7 -> 0 | J67: =J66/$J$7 -> 0 | K67: =K66/$K$7 -> 0 | L67: =L66/$K$7 -> 0
D68: Firm Person 2 | E68: 0 | F68: =SUM(H68:L68) -> 0 | G68: =SUM(H68:K68)*E68 -> 0 | H68: 0 | I68: 0 | J68: 0 | K68: 0 | L68: 0
G69: % Level of Effort: | H69: =H68/$H$7 -> 0 | I69: =I68/$I$7 -> 0 | J69: =J68/$J$7 -> 0 | K69: =K68/$K$7 -> 0 | L69: =L68/$K$7 -> 0
D70: Firm Person 3 | E70: 0 | F70: =SUM(H70:L70) -> 0 | G70: =SUM(H70:K70)*E70 -> 0 | H70: 0 | I70: 0 | J70: 0 | K70: 0 | L70: 0
G71: % Level of Effort: | H71: =H70/$H$7 -> 0 | I71: =I70/$I$7 -> 0 | J71: =J70/$J$7 -> 0 | K71: =K70/$K$7 -> 0 | L71: =L70/$K$7 -> 0
D72: Firm Person 4 | E72: 0 | F72: =SUM(H72:L72) -> 0 | G72: =SUM(H72:K72)*E72 -> 0 | H72: 0 | I72: 0 | J72: 0 | K72: 0 | L72: 0
G73: % Level of Effort: | H73: =H72/$H$7 -> 0 | I73: =I72/$I$7 -> 0 | J73: =J72/$J$7 -> 0 | K73: =K72/$K$7 -> 0 | L73: =L72/$K$7 -> 0
C74: Subtotal | G74: =+G66+G68+G70+G72 -> 0
C75: Project Management
D77: Firm Person 1 | E77: 0 | F77: =SUM(H77:L77) -> 0 | G77: =SUM(H77:K77)*E77 -> 0 | H77: 0 | I77: 0 | J77: 0 | K77: 0 | L77: 0
G78: % Level of Effort: | H78: =H77/$H$7 -> 0 | I78: =I77/$I$7 -> 0 | J78: =J77/$J$7 -> 0 | K78: =K77/$K$7 -> 0 | L78: =L77/$K$7 -> 0
D79: Firm Person 2 | E79: 0 | F79: =SUM(H79:L79) -> 0 | G79: =SUM(H79:K79)*E79 -> 0 | H79: 0 | I79: 0 | J79: 0 | K79: 0 | L79: 0
G80: % Level of Effort: | H80: =H79/$H$7 -> 0 | I80: =I79/$I$7 -> 0 | J80: =J79/$J$7 -> 0 | K80: =K79/$K$7 -> 0 | L80: =L79/$K$7 -> 0
D81: Firm Person 3 | E81: 0 | F81: =SUM(H81:L81) -> 0 | G81: =SUM(H81:K81)*E81 -> 0 | H81: 0 | I81: 0 | J81: 0 | K81: 0 | L81: 0
G82: % Level of Effort: | H82: =H81/$H$7 -> 0 | I82: =I81/$I$7 -> 0 | J82: =J81/$J$7 -> 0 | K82: =K81/$K$7 -> 0 | L82: =L81/$K$7 -> 0
D83: Firm Person 4 | E83: 0 | F83: =SUM(H83:L83) -> 0 | G83: =SUM(H83:K83)*E83 -> 0 | H83: 0 | I83: 0 | J83: 0 | K83: 0 | L83: 0
G84: % Level of Effort: | H84: =H83/$H$7 -> 0 | I84: =I83/$I$7 -> 0 | J84: =J83/$J$7 -> 0 | K84: =K83/$K$7 -> 0 | L84: =L83/$K$7 -> 0
D85: Miscellanous | E85: 0 | F85: =SUM(H85:L85) -> 0 | G85: =SUM(H85:K85)*E85 -> 0 | H85: 0 | I85: 0 | J85: 0 | K85: 0 | L85: 0
G86: % Level of Effort: | H86: =H85/$H$7 -> 0 | I86: =I85/$I$7 -> 0 | J86: =J85/$J$7 -> 0 | K86: =K85/$K$7 -> 0 | L86: =L85/$K$7 -> 0
D87: Miscellanous | E87: 0 | F87: =SUM(H87:L87) -> 0 | G87: =SUM(H87:K87)*E87 -> 0 | H87: 0 | I87: 0 | J87: 0 | K87: 0 | L87: 0
G88: % Level of Effort: | H88: =H87/$H$7 -> 0 | I88: =I87/$I$7 -> 0 | J88: =J87/$J$7 -> 0 | K88: =K87/$K$7 -> 0 | L88: =L87/$K$7 -> 0
C89: Subtotal | G89: =+G77+G79+G81+G83+G85+G87 -> 0
F91: Pre-Construction Phase Total | G91: =+G19+G30+G41+G52+G63+G74+G89 -> 318600 | H91: =(H11+H13+H15+H17+H22+H24+H26+H28+H33+H35+H37+H39+H44+H46+H48+H50+H55+H57+H59+H61+H66+H68+H70+H72+H77+H79+H81+H83+H85+H87) -> 312 | I91: =(I11+I13+I15+I17+I22+I24+I26+I28+I33+I35+I37+I39+I44+I46+I48+I50+I55+I57+I59+I61+I66+I68+I70+I72+I77+I79+I81+I83+I85+I87) -> 440 | J91: =(J11+J13+J15+J17+J22+J24+J26+J28+J33+J35+J37+J39+J44+J46+J48+J50+J55+J57+J59+J61+J66+J68+J70+J72+J77+J79+J81+J83+J85+J87) -> 456 | K91: =(K11+K13+K15+K17+K22+K24+K26+K28+K33+K35+K37+K39+K44+K46+K48+K50+K55+K57+K59+K61+K66+K68+K70+K72+K77+K79+K81+K83+K85+K87) -> 440 | L91: =(L11+L13+L15+L17+L22+L24+L26+L28+L33+L35+L37+L39+L44+L46+L48+L50+L55+L57+L59+L61+L66+L68+L70+L72+L77+L79+L81+L83+L85+L87) -> 368
