Workbook
Name consultant: '[1]BP1&6 RATES'!$B$7
Name CONTRACT: '[1]BP1&6 RATES'!$B$8
Name project: '[1]BP1&6 RATES'!$B$6
Name Rates: '[2]CM Rates'!$B$6:$C$19

Sheet Template
B3: Progressive Design Build - Design Build Entity: Enter Name
H4: 2026-2027
C6: TASK | D6: POSITION | E6: HRLY RATE PRE CON PHASE | F6: Total Hrs | H6: November | I6: December | J6: January | K6: February | L6: March | M6: April | N6: May | O6: June
G7: Hrs/Mo | H7: 168 | I7: 168 | J7: 168 | K7: 168 | L7: 168 | M7: 168 | N7: 168 | O7: 168
G8: Budget | H8: (Quantity of Staff)
B9: O Street State Parking Garage | C9: Design Services
D11: Firm Person 1 | E11: 0 | F11: =SUM(H11:O11) -> 0 | G11: =SUM(H11:O11)*E11 -> 0 | H11: 0 | I11: 0 | J11: 0 | K11: 0 | L11: 0 | M11: 0 | N11: 0 | O11: 0
G12: % Level of Effort: | H12: =H11/$H$7 -> 0 | I12: =I11/$I$7 -> 0 | J12: =J11/$J$7 -> 0 | K12: =K11/$K$7 -> 0 | L12: =L11/$K$7 -> 0 | M12: =M11/$K$7 -> 0 | N12: =N11/$K$7 -> 0 | O12: =O11/$K$7 -> 0
D13: Firm Person 2 | E13: 0 | F13: =SUM(H13:O13) -> 0 | G13: =SUM(H13:K13)*E13 -> 0 | H13: 0 | I13: 0 | J13: 0 | K13: 0 | L13: 0 | M13: 0 | N13: 0 | O13: 0
G14: % Level of Effort: | H14: =H13/$H$7 -> 0 | I14: =I13/$I$7 -> 0 | J14: =J13/$J$7 -> 0 | K14: =K13/$K$7 -> 0 | L14: =L13/$K$7 -> 0 | M14: =M13/$K$7 -> 0 | N14: =N13/$K$7 -> 0 | O14: =O13/$K$7 -> 0
D15: Firm Person 3 | E15: 0 | F15: =SUM(H15:O15) -> 0 | G15: =SUM(H15:K15)*E15 -> 0 | H15: 0 | I15: 0 | J15: 0 | K15: 0 | L15: 0 | M15: 0 | N15: 0 | O15: 0
G16: % Level of Effort: | H16: =H15/$H$7 -> 0 | I16: =I15/$I$7 -> 0 | J16: =J15/$J$7 -> 0 | K16: =K15/$K$7 -> 0 | L16: =L15/$K$7 -> 0 | M16: =M15/$K$7 -> 0 | N16: =N15/$K$7 -> 0 | O16: =O15/$K$7 -> 0
D17: Firm Person 4 | E17: 0 | F17: =SUM(H17:O17) -> 0 | G17: =SUM(H17:K17)*E17 -> 0 | H17: 0 | I17: 0 | J17: 0 | K17: 0 | L17: 0 | M17: 0 | N17: 0 | O17: 0
G18: % Level of Effort: | H18: =H17/$H$7 -> 0 | I18: =I17/$I$7 -> 0 | J18: =J17/$J$7 -> 0 | K18: =K17/$K$7 -> 0 | L18: =L17/$K$7 -> 0 | M18: =M17/$K$7 -> 0 | N18: =N17/$K$7 -> 0 | O18: =O17/$K$7 -> 0
C19: Subtotal | G19: =+G11+G13+G15+G17 -> 0
C20: Design Coordination
D22: Firm Person 1 | E22: 0 | F22: =SUM(H22:O22) -> 0 | G22: =SUM(H22:K22)*E22 -> 0 | H22: 0 | I22: 0 | J22: 0 | K22: 0 | L22: 0 | M22: 0 | N22: 0 | O22: 0
G23: % Level of Effort: | H23: =H22/$H$7 -> 0 | I23: =I22/$I$7 -> 0 | J23: =J22/$J$7 -> 0 | K23: =K22/$K$7 -> 0 | L23: =L22/$K$7 -> 0 | M23: =M22/$K$7 -> 0 | N23: =N22/$K$7 -> 0 | O23: =O22/$K$7 -> 0
D24: Firm Person 2 | E24: 0 | F24: =SUM(H24:O24) -> 0 | G24: =SUM(H24:K24)*E24 -> 0 | H24: 0 | I24: 0 | J24: 0 | K24: 0 | L24: 0 | M24: 0 | N24: 0 | O24: 0
G25: % Level of Effort: | H25: =H24/$H$7 -> 0 | I25: =I24/$I$7 -> 0 | J25: =J24/$J$7 -> 0 | K25: =K24/$K$7 -> 0 | L25: =L24/$K$7 -> 0 | M25: =M24/$K$7 -> 0 | N25: =N24/$K$7 -> 0 | O25: =O24/$K$7 -> 0
D26: Firm Person 3 | E26: 0 | F26: =SUM(H26:O26) -> 0 | G26: =SUM(H26:K26)*E26 -> 0 | H26: 0 | I26: 0 | J26: 0 | K26: 0 | L26: 0 | M26: 0 | N26: 0 | O26: 0
G27: % Level of Effort: | H27: =H26/$H$7 -> 0 | I27: =I26/$I$7 -> 0 | J27: =J26/$J$7 -> 0 | K27: =K26/$K$7 -> 0 | L27: =L26/$K$7 -> 0 | M27: =M26/$K$7 -> 0 | N27: =N26/$K$7 -> 0 | O27: =O26/$K$7 -> 0
D28: Firm Person 4 | E28: 0 | F28: =SUM(H28:O28) -> 0 | G28: =SUM(H28:K28)*E28 -> 0 | H28: 0 | I28: 0 | J28: 0 | K28: 0 | L28: 0 | M28: 0 | N28: 0 | O28: 0
G29: % Level of Effort: | H29: =H28/$H$7 -> 0 | I29: =I28/$I$7 -> 0 | J29: =J28/$J$7 -> 0 | K29: =K28/$K$7 -> 0 | L29: =L28/$K$7 -> 0 | M29: =M28/$K$7 -> 0 | N29: =N28/$K$7 -> 0 | O29: =O28/$K$7 -> 0
C30: Subtotal | G30: =+G22+G24+G26+G28 -> 0
C31: Plans, Reports, and Admin Services
D33: Firm Person 1 | E33: 0 | F33: =SUM(H33:O33) -> 0 | G33: =SUM(H33:K33)*E33 -> 0 | H33: 0 | I33: 0 | J33: 0 | K33: 0 | L33: 0 | M33: 0 | N33: 0 | O33: 0
G34: % Level of Effort: | H34: =H33/$H$7 -> 0 | I34: =I33/$I$7 -> 0 | J34: =J33/$J$7 -> 0 | K34: =K33/$K$7 -> 0 | L34: =L33/$K$7 -> 0 | M34: =M33/$K$7 -> 0 | N34: =N33/$K$7 -> 0 | O34: =O33/$K$7 -> 0
D35: Firm Person 2 | E35: 0 | F35: =SUM(H35:O35) -> 0 | G35: =SUM(H35:K35)*E35 -> 0 | H35: 0 | I35: 0 | J35: 0 | K35: 0 | L35: 0 | M35: 0 | N35: 0 | O35: 0
G36: % Level of Effort: | H36: =H35/$H$7 -> 0 | I36: =I35/$I$7 -> 0 | J36: =J35/$J$7 -> 0 | K36: =K35/$K$7 -> 0 | L36: =L35/$K$7 -> 0 | M36: =M35/$K$7 -> 0 | N36: =N35/$K$7 -> 0 | O36: =O35/$K$7 -> 0
D37: Firm Person 3 | E37: 0 | F37: =SUM(H37:O37) -> 0 | G37: =SUM(H37:K37)*E37 -> 0 | H37: 0 | I37: 0 | J37: 0 | K37: 0 | L37: 0 | M37: 0 | N37: 0 | O37: 0
G38: % Level of Effort: | H38: =H37/$H$7 -> 0 | I38: =I37/$I$7 -> 0 | J38: =J37/$J$7 -> 0 | K38: =K37/$K$7 -> 0 | L38: =L37/$K$7 -> 0 | M38: =M37/$K$7 -> 0 | N38: =N37/$K$7 -> 0 | O38: =O37/$K$7 -> 0
D39: Firm Person 4 | E39: 0 | F39: =SUM(H39:O39) -> 0 | G39: =SUM(H39:K39)*E39 -> 0 | H39: 0 | I39: 0 | J39: 0 | K39: 0 | L39: 0 | M39: 0 | N39: 0 | O39: 0
G40: % Level of Effort: | H40: =H39/$H$7 -> 0 | I40: =I39/$I$7 -> 0 | J40: =J39/$J$7 -> 0 | K40: =K39/$K$7 -> 0 | L40: =L39/$K$7 -> 0 | M40: =M39/$K$7 -> 0 | N40: =N39/$K$7 -> 0 | O40: =O39/$K$7 -> 0
C41: Subtotal | G41: =+G33+G35+G37+G39 -> 0
C42: Estimating
D44: Firm Person 1 | E44: 0 | F44: =SUM(H44:O44) -> 0 | G44: =SUM(H44:K44)*E44 -> 0 | H44: 0 | I44: 0 | J44: 0 | K44: 0 | L44: 0 | M44: 0 | N44: 0 | O44: 0
G45: % Level of Effort: | H45: =H44/$H$7 -> 0 | I45: =I44/$I$7 -> 0 | J45: =J44/$J$7 -> 0 | K45: =K44/$K$7 -> 0 | L45: =L44/$K$7 -> 0 | M45: =M44/$K$7 -> 0 | N45: =N44/$K$7 -> 0 | O45: =O44/$K$7 -> 0
D46: Firm Person 2 | E46: 0 | F46: =SUM(H46:O46) -> 0 | G46: =SUM(H46:K46)*E46 -> 0 | H46: 0 | I46: 0 | J46: 0 | K46: 0 | L46: 0 | M46: 0 | N46: 0 | O46: 0
G47: % Level of Effort: | H47: =H46/$H$7 -> 0 | I47: =I46/$I$7 -> 0 | J47: =J46/$J$7 -> 0 | K47: =K46/$K$7 -> 0 | L47: =L46/$K$7 -> 0 | M47: =M46/$K$7 -> 0 | N47: =N46/$K$7 -> 0 | O47: =O46/$K$7 -> 0
...

Sheet Price Evaluation Totals
A3: PRECONSTRUCTION PRICE FORM
A7: PRECONSTRUCTION SERVICES
A8: Design Services | C8: =Template!G19 -> 0
A9: Design Coordination | C9: =Template!G30 -> 0
A10: Plans, Reports, and Administration Services | C10: =Template!G41 -> 0
A11: Subtotal - Preconstruction Design Services | C11: =SUM(C8:C10) -> 0
A12: Estimating including GMP Development | C12: =Template!G52 -> 0
A13: Scheduling | C13: =Template!G63 -> 0
A14: Site Investigation | C14: =Template!G74 -> 0
A15: Project Coordination and Management | C15: =Template!G89 -> 0
A16: General Requirements | C16: 0
A17: Bonds and Insurance | C17: 0
A18: Fee | C18: 0
A19: Subtotal - Preconstruction Project Management Services | C19: =SUM(C12:C18) -> 0
A20: Total Preconstruction Services | C20: =SUM(C11+C19) -> 0
A22: DESIGN BUILD ENTITY NAME

Sheet Firm A
A3: PRECONSTRUCTION PRICE FORM
A7: PRECONSTRUCTION SERVICES
A8: Design Services | C8: 0
A9: Design Coordination | C9: 0
A10: Plans, Reports, and Administration Services | C10: 0
A11: Subtotal - Preconstruction Design Services | C11: =SUM(C8:C10) -> 0
A12: Estimating including GMP Development | C12: 0
A13: Scheduling | C13: 0
A14: Site Investigation | C14: 0
A15: Project Coordination and Management | C15: 0
A16: General Requirements | C16: 0
A17: Bonds and Insurance | C17: 0
A18: Fee | C18: 0
A19: Subtotal - Preconstruction Project Management Services | C19: =SUM(C12:C18) -> 0
A20: Total Preconstruction Services | C20: =SUM(C11+C19) -> 0
A22: DESIGN BUILD ENTITY NAME

Sheet Firm B
A3: PRECONSTRUCTION PRICE FORM
A7: PRECONSTRUCTION SERVICES
A8: Design Services | C8: 0
A9: Design Coordination | C9: 0
A10: Plans, Reports, and Administration Services | C10: 0
A11: Subtotal - Preconstruction Design Services | C11: =SUM(C8:C10) -> 0
A12: Estimating including GMP Development | C12: 0
A13: Scheduling | C13: 0
A14: Site Investigation | C14: 0
A15: Project Coordination and Management | C15: 0
A16: General Requirements | C16: 0
A17: Bonds and Insurance | C17: 0
A18: Fee | C18: 0
A19: Subtotal - Preconstruction Project Management Services | C19: =SUM(C12:C18) -> 0
A20: Total Preconstruction Services | C20: =SUM(C11+C19) -> 0
A22: DESIGN BUILD ENTITY NAME

Sheet Firm C
A3: PRECONSTRUCTION PRICE FORM
A7: PRECONSTRUCTION SERVICES
A8: Design Services | C8: 0
A9: Design Coordination | C9: 0
A10: Plans, Reports, and Administration Services | C10: 0
A11: Subtotal - Preconstruction Design Services | C11: =SUM(C8:C10) -> 0
A12: Estimating including GMP Development | C12: 0
A13: Scheduling | C13: 0
A14: Site Investigation | C14: 0
A15: Project Coordination and Management | C15: 0
A16: General Requirements | C16: 0
A17: Bonds and Insurance | C17: 0
A18: Fee | C18: 0
A19: Subtotal - Preconstruction Project Management Services | C19: =SUM(C12:C18) -> 0
A20: Total Preconstruction Services | C20: =SUM(C11+C19) -> 0
A22: DESIGN BUILD ENTITY NAME

Sheet Firm D
A3: PRECONSTRUCTION PRICE FORM
A7: PRECONSTRUCTION SERVICES
A8: Design Services | C8: 0
A9: Design Coordination | C9: 0
A10: Plans, Reports, and Administration Services | C10: 0
A11: Subtotal - Preconstruction Design Services | C11: =SUM(C8:C10) -> 0
A12: Estimating including GMP Development | C12: 0
A13: Scheduling | C13: 0
A14: Site Investigation | C14: 0
A15: Project Coordination and Management | C15: 0
A16: General Requirements | C16: 0
A17: Bonds and Insurance | C17: 0
A18: Fee | C18: 0
A19: Subtotal - Preconstruction Project Management Services | C19: =SUM(C12:C18) -> 0
A20: Total Preconstruction Services | C20: =SUM(C11+C19) -> 0
A22: DESIGN BUILD ENTITY NAME

Sheet Sample Template
B3: Progressive Design Build - Design Build Entity: Enter Name
H4: 2026
C6: TASK | D6: POSITION | E6: HRLY RATE PRE CON PHASE | F6: Total Hrs | H6: August | I6: September | J6: October | K6: November | L6: December
G7: Hrs/Mo | H7: 168 | I7: 168 | J7: 168 | K7: 168 | L7: 168
G8: Budget | H8: (Quantity of Hours)
B9: Exposition Park Utility Replacement and Site Improvements | C9: Design Services
D11: Project Architect Person 1 | E11: 150 | F11: =SUM(H11:L11) -> 360 | G11: =SUM(H11:L11)*E11 -> 54000 | H11: 40 | I11: 80 | J11: 80 | K11: 80 | L11: 80
G12: % Level of Effort: | H12: =H11/$H$7 -> 0.23809524 | I12: =I11/$I$7 -> 0.47619048 | J12: =J11/$J$7 -> 0.47619048 | K12: =K11/$K$7 -> 0.47619048 | L12: =L11/$K$7 -> 0.47619048
D13: Senior Architect Person 2 | E13: 175 | F13: =SUM(H13:L13) -> 664 | G13: =SUM(H13:K13)*E13 -> 102200 | H13: 80 | I13: 168 | J13: 168 | K13: 168 | L13: 80
G14: % Level of Effort: | H14: =H13/$H$7 -> 0.47619048 | I14: =I13/$I$7 -> 1 | J14: =J13/$J$7 -> 1 | K14: =K13/$K$7 -> 1 | L14: =L13/$K$7 -> 0.47619048
D15: Senior Civil Engineer Person 3 | E15: 200 | F15: =SUM(H15:L15) -> 840 | G15: =SUM(H15:K15)*E15 -> 134400 | H15: 168 | I15: 168 | J15: 168 | K15: 168 | L15: 168
G16: % Level of Effort: | H16: =H15/$H$7 -> 1 | I16: =I15/$I$7 -> 1 | J16: =J15/$J$7 -> 1 | K16: =K15/$K$7 -> 1 | L16: =L15/$K$7 -> 1
D17: Principal Architect Person 4 | E17: 250 | F17: =SUM(H17:L17) -> 152 | G17: =SUM(H17:K17)*E17 -> 28000 | H17: 24 | I17: 24 | J17: 40 | K17: 24 | L17: 40
G18: % Level of Effort: | H18: =H17/$H$7 -> 0.14285714 | I18: =I17/$I$7 -> 0.14285714 | J18: =J17/$J$7 -> 0.23809524 | K18: =K17/$K$7 -> 0.14285714 | L18: =L17/$K$7 -> 0.23809524
C19: Subtotal | G19: =+G11+G13+G15+G17 -> 318600
C20: Design Coordination
D22: Firm Person 1 | E22: 0 | F22: =SUM(H22:L22) -> 0 | G22: =SUM(H22:K22)*E22 -> 0 | H22: 0 | I22: 0 | J22: 0 | K22: 0 | L22: 0
G23: % Level of Effort: | H23: =H22/$H$7 -> 0 | I23: =I22/$I$7 -> 0 | J23: =J22/$J$7 -> 0 | K23: =K22/$K$7 -> 0 | L23: =L22/$K$7 -> 0
D24: Firm Person 2 | E24: 0 | F24: =SUM(H24:L24) -> 0 | G24: =SUM(H24:K24)*E24 -> 0 | H24: 0 | I24: 0 | J24: 0 | K24: 0 | L24: 0
G25: % Level of Effort: | H25: =H24/$H$7 -> 0 | I25: =I24/$I$7 -> 0 | J25: =J24/$J$7 -> 0 | K25: =K24/$K$7 -> 0 | L25: =L24/$K$7 -> 0
D26: Firm Person 3 | E26: 0 | F26: =SUM(H26:L26) -> 0 | G26: =SUM(H26:K26)*E26 -> 0 | H26: 0 | I26: 0 | J26: 0 | K26: 0 | L26: 0
G27: % Level of Effort: | H27: =H26/$H$7 -> 0 | I27: =I26/$I$7 -> 0 | J27: =J26/$J$7 -> 0 | K27: =K26/$K$7 -> 0 | L27: =L26/$K$7 -> 0
D28: Firm Person 4 | E28: 0 | F28: =SUM(H28:L28) -> 0 | G28: =SUM(H28:K28)*E28 -> 0 | H28: 0 | I28: 0 | J28: 0 | K28: 0 | L28: 0
G29: % Level of Effort: | H29: =H28/$H$7 -> 0 | I29: =I28/$I$7 -> 0 | J29: =J28/$J$7 -> 0 | K29: =K28/$K$7 -> 0 | L29: =L28/$K$7 -> 0
C30: Subtotal | G30: =+G22+G24+G26+G28 -> 0
C31: Plans, Reports, and Admin Services
D33: Firm Person 1 | E33: 0 | F33: =SUM(H33:L33) -> 0 | G33: =SUM(H33:K33)*E33 -> 0 | H33: 0 | I33: 0 | J33: 0 | K33: 0 | L33: 0
G34: % Level of Effort: | H34: =H33/$H$7 -> 0 | I34: =I33/$I$7 -> 0 | J34: =J33/$J$7 -> 0 | K34: =K33/$K$7 -> 0 | L34: =L33/$K$7 -> 0
D35: Firm Person 2 | E35: 0 | F35: =SUM(H35:L35) -> 0 | G35: =SUM(H35:K35)*E35 -> 0 | H35: 0 | I35: 0 | J35: 0 | K35: 0 | L35: 0
G36: % Level of Effort: | H36: =H35/$H$7 -> 0 | I36: =I35/$I$7 -> 0 | J36: =J35/$J$7 -> 0 | K36: =K35/$K$7 -> 0 | L36: =L35/$K$7 -> 0
D37: Firm Person 3 | E37: 0 | F37: =SUM(H37:L37) -> 0 | G37: =SUM(H37:K37)*E37 -> 0 | H37: 0 | I37: 0 | J37: 0 | K37: 0 | L37: 0
G38: % Level of Effort: | H38: =H37/$H$7 -> 0 | I38: =I37/$I$7 -> 0 | J38: =J37/$J$7 -> 0 | K38: =K37/$K$7 -> 0 | L38: =L37/$K$7 -> 0
D39: Firm Person 4 | E39: 0 | F39: =SUM(H39:L39) -> 0 | G39: =SUM(H39:K39)*E39 -> 0 | H39: 0 | I39: 0 | J39: 0 | K39: 0 | L39: 0
G40: % Level of Effort: | H40: =H39/$H$7 -> 0 | I40: =I39/$I$7 -> 0 | J40: =J39/$J$7 -> 0 | K40: =K39/$K$7 -> 0 | L40: =L39/$K$7 -> 0
C41: Subtotal | G41: =+G33+G35+G37+G39 -> 0
C42: Estimating
D44: Firm Person 1 | E44: 0 | F44: =SUM(H44:L44) -> 0 | G44: =SUM(H44:K44)*E44 -> 0 | H44: 0 | I44: 0 | J44: 0 | K44: 0 | L44: 0
G45: % Level of Effort: | H45: =H44/$H$7 -> 0 | I45: =I44/$I$7 -> 0 | J45: =J44/$J$7 -> 0 | K45: =K44/$K$7 -> 0 | L45: =L44/$K$7 -> 0
D46: Firm Person 2 | E46: 0 | F46: =SUM(H46:L46) -> 0 | G46: =SUM(H46:K46)*E46 -> 0 | H46: 0 | I46: 0 | J46: 0 | K46: 0 | L46: 0
G47: % Level of Effort: | H47: =H46/$H$7 -> 0 | I47: =I46/$I$7 -> 0 | J47: =J46/$J$7 -> 0 | K47: =K46/$K$7 -> 0 | L47: =L46/$K$7 -> 0
...
