Workbook

Sheet Instructions
A2: Bidder | B2: <Insert Bidder Name in Instructions worksheet>
A4: Worksheet | B4: Instructions
A5: Instructions | B5: This worksheet provides instructions for how to fill out this Cost Workbook. Enter name of Bidding Company in cell B2.
A6: Summary Cost | B6: This worksheet is not to be modified. This worksheet aggregates costs from worksheets A, C and F and automatically calculates the Base Contract Cost Subtotal as well as the Total Evaluated Cost (Base Contract Cost Subtotal plus Optional Year Costs). The Total Evaluated Cost will be used for evaluation purposes.
A7: A. M&O Services | B7: This worksheet shall include all maintenance and operations cost. Rows 1-4 contain the headers for the worksheet. Column A, Item#: For reference only. Columns B & C, Description: For reference only. This column lists the descriptions for each item requiring pricing. Columns D, E, G & H, Monthly Cost: Bidder must list the monthly price for M&O for each year of the contract term, including optional years.
A8: B. Hourly Rates | B8: This worksheet lists the required key staff roles for this resulting contract. It also includes space for support staff. The Bidder must enter all the support staff necessary to complete the work under this contract and provide an hourly rate for each key staff role and each support staff. Rows 1-3 contain the headers for the worksheet. Column A, Item #: For reference only. Column B, Job Title: The listed job titles are the required key staff roles and not to be modified. Bidder shall list the titles of all the support staff as necessary. Column C, Hourly Rate: Bidder to enter the Hourly Rate of each classification.
A9: C. Current SF License Count | B9: This worksheet includes all the current Salesforce licenses for the apps by org. Rows 1-4 contain the headers for the worksheet. Column A, Item #: For reference only. Column B, Description: For reference only. Description for the Salesforce product in the org. Columns D, G, M,& P, Quantity: For reference only. These columns contain current license needs for each app by org. Columns C, F, L, & O, Monthly Cost Per User/Item: Bidder must enter the Monthly Cost Per User/Item in each yellow highlighted cell. For items # 6, 11, 18, 19, 23, 25, 30, 34 and 36 the State has filled those costs in as $0 per user/item. Bidder is not to modify costs for those items. Column S : (optional) Bidder can propose the same or at least equivalent software as long as it meets or execeds the sepcifications of the exisiting software in Column B, if applicable. Column T : (optional) Bidder can provide additional notes, if applicable.
A10: D. Expanded SF License Count | B10: This worksheet includes increased Salesforce licenses for the apps by org. There are three (3) options for pricing of increased licenses. Rows 1-4 contain the headers for the worksheet. Column A, Item #: For reference only. Column B, Description: For reference only. Description for the Salesforce product in the org. Columns D, G, M,& P, Quantity: For reference only. These columns contain increased license needs for each app by org. Columns C, F, L, & O, Monthly Cost Per User/Item: Bidder must enter the Monthly Cost Per User/Item in each yellow highlighted cell. For items # 6, 7, and 8 the State has filled those costs in as $0 per user/item. Bidder is not to modify costs for those items. Column S : (optional) Bidder can propose the same or at least equivalent software as long as it meets or execeds the sepcifications of the exisiting software in Column B, if applicable. Column T : (optional) Bidder can provide additional notes, if applicable.
A11: E. Reduced SF License Count | B11: This worksheet includes increased Salesforce licenses for the apps by org. There are three (3) options for pricing of decreased licenses. Rows 1-4 contain the headers for the worksheet. Column A, Item #: For reference only. Column B, Description: For reference only. Description for the Salesforce product in the org. Columns D, G, M,& P, Quantity: For reference only. These columns contain increased license needs for each app by org. Columns C, F, L, & O, Monthly Cost Per User/Item: Bidder must enter the Monthly Cost Per User/Item in each yellow highlighted cell. For items # 6, 7, and 8 the State has filled those costs in as $0 per user/item. Bidder is not to modify costs for those items. Column S : (optional) Bidder can propose the same or at least equivalent software as long as it meets or execeds the sepcifications of the exisiting software in Column B, if applicable. Column T : (optional) Bidder can provide additional notes, if applicable.
A12: F. SystemImprovementActivities | B12: This worksheet includes all costs associated with the current and future system improvement activities across the UI Claims Org, CA‑EDD Org, and Contact Center (CC) Org. The Bidder must provide total costs for all current backlog items and specify standard price ranges for future backlog items based on complexity. Rows 1–5 contain the headers for the worksheet. Current Backlog Section: Column A, Item #: For reference only. Aligns with Exhibit B1, Backlog. Column B, Epic ID: For reference only. Corresponds with Exhibit B1, Backlog. Column C, Total Cost for Each Epic: Bidder shall enter the total cost to complete each current backlog item. Costs shall include all labor, tools, environments, testing, documentation, and implementation activities necessary to deliver the Epic. Future Backlog Section: Column F, Item #: For reference only. Column G. Size: For reference only. Size categories are predefined in Exhibit A, SOW, Section 7. These represent complexity levels for future backlog pricing. Column H – Description Descriptions of typical work effort for each size category are provided for reference. Do not modify. Column I and J, Price Range: Bidder shall enter a price range for each future backlog level of effort. The range must reflect: • The lowest expected cost for an item of that size • The highest expected cost for an item of that size Price ranges must reflect all inclusive costs including development, testing, security, documentation, deployment, and any cost that can be involved based on the SOW.

Sheet Summary Cost
A1: Bidder Name | B1: <Insert Bidder Name>
A3: Cost Summary (Cost Figures are populated automatically from worksheet indicated)
A5: Description | B5: Base Contract (M&O - 2 Years) | C5: Optional Year 1 | D5: Optional Year 2
A6: M&O Services | B6: ='A. M&O Services'!E25 -> 0 | C6: ='A. M&O Services'!G23 -> 0 | D6: ='A. M&O Services'!H23 -> 0
A7: System Improvement Activities | B7: ='F. SystemImprovementActivities'!C51 -> 0
A8: Base Contract Cost Subtotal (Services Only) | B8: =SUM(B6,B7) -> 0
A9: Optional Year 1 Total (Services Only) | C9: =SUM(C6:C7) -> 0
A10: Optional Year 2 Total (Services Only) | D10: =SUM(D6:D7) -> 0
A11: Total Base Contract Cost (Services Only) + Optional Years | D11: =SUM(B8,C9,D10) -> 0
A12: Salesforce Licenses | B12: ='C. Current SF License Count'!J46 -> 0 | C12: ='C. Current SF License Count'!N46 -> 0 | D12: ='C. Current SF License Count'!Q46 -> 0
A13: Base Contract Salesforce Licenses Cost Subtotal | B13: =B12 -> 0
A14: Optional Year 1 Total (Salesforce Licenses) | C14: =C12 -> 0
A15: Optional Year 2 Total (Salesforce Licenses) | D15: =D12 -> 0
A16: Total Base Contract Cost (Salesforce Licenses) + Optional Years | D16: =SUM(B13,C14,D15) -> 0
A20: Total Evaluated Cost | D20: =SUM(D11,D16) -> 0

Sheet A. M&O Services
A1: Bidder Name | C1: <Insert Bidder Name>
A2: Worksheet- Maintenance and Operation Services
A3: Item # | B3: Description of M&O Services | D3: Monthly Cost - Year 1 | E3: Monthly Cost - Year 2 | G3: Optional Year 1 | H3: Optional Year 2
A5: 1 | B5: Contact Center Org - AskEDD
A6: 2 | B6: Contact Center Org - UI KMS (Unemployment Insurance Knowledge Management System)
A7: 3 | B7: Contact Center Org - SDI KMS (State Disability Insurance Knowledge Management System)
A8: 4 | B8: Contact Center Org - Legislative Services Request Tracker (LSRT)
A9: 5 | B9: Contact Center Org - UI MCPA (Unemployment Insurance Multiple Claims Per Address)
A10: 6 | B10: Contact Center Org - DI MCPA (Disability Insurance Multiple Claims Per Address)
A11: 7 | B11: Contact Center Org - UI MEUC (Mixed Earner Unemployment Compensation)
A12: 8 | B12: Contact Center Org - ES&FL Complaint System (Employment Services & Fair Labor Complaint System)
A13: 9 | B13: Contact Center Org - H-2A & H-2B Database (H-2A Agricultural Workers and H-2B Temporary Agricultural Workers)
A14: 10 | B14: Contact Center Org - UI CSU Complaint Management Application
A15: 11 | B15: CA-EDD Org - Workshare
A16: 12 | B16: CA-EDD Org - Unemployment Insurance (UI) Electronic Determinations (E-Det)
... A20: 16 | B20: CA-EDD Org - Marketing Cloud Support Services
A23: Subtotal Base Contract & Optional Years | D23: =SUM(D5:D22)*12 -> 0 | E23: =SUM(E5:E22)*12 -> 0 | G23: =SUM(G5:G22)*12 -> 0 | H23: =SUM(H5:H22)*12 -> 0
A25: Base Contract Maintenance and Operation Total Cost | E25: =SUM(D23:E23) -> 0
A27: Total Cost - Optional Year | G27: =SUM(G23:H23) -> 0
A29: Total M&O Cost - Base Contract and Optional Years | G29: =SUM(E25,G27) -> 0

Sheet B. Hourly Rates
A1: Bidder Name | C1: <Insert Bidder Name in Instructions worksheet>
A2: Worksheet H: Hourly Rates
A3: Item # | B3: Title | D3: Hourly Rate
A4: 1 | B4: Engagement Manager
A5: 2 | B5: Project Manager
A6: 3 | B6: Business Solution Analyst
A7: 4 | B7: Technical Lead
A8: 5 | B8: Support Staff Team**
A10: **Support Staff Team: List the Title and Hourly Rate of each classification.

Sheet C. Current SF License Count
A1: Bidder Name
A2: Worksheet : Salesforce Licenses
A3: Item # | B3: Description | C3: Year 1 | F3: Year 2 | J3: Total Cost Per Line Item | L3: Optional Year 1 | O3: Optional Year 2 | S3: Proposed Equivalent Software (optional) | T3: Notes (optional)
C4: Monthly Cost Per User/Item | D4: Qty. | E4: Extended Cost | F4: Monthly Cost Per User/Item | G4: Qty. | H4: Extended Cost | L4: Monthly Cost Per User/Item | M4: Qty. | N4: Extended Cost | O4: Monthly Cost Per User/Item | P4: Qty. | Q4: Extended Cost
A5: 1 | B5: EDD UI Claims Org - Salesforce Service Cloud- Unlimited Edition | D5: 8200 | E5: =C5*D5*12 -> 0 | G5: 8200 | H5: =F5*G5*12 -> 0 | J5: =E5+H5 -> 0 | M5: 8200 | N5: =L5*M5*12 -> 0 | P5: 8200 | Q5: =O5*P5*12 -> 0
A6: 2 | B6: EDD UI Claims Org - Customer Community Plus- Unlimited Edition - Logins (Per Month) | D6: 4600000 | E6: =C6*D6*12 -> 0 | G6: 4600000 | H6: =F6*G6*12 -> 0 | J6: =E6+H6 -> 0 | M6: 4600000 | N6: =L6*M6*12 -> 0 | P6: 4600000 | Q6: =O6*P6*12 -> 0
A7: 3 | B7: EDD UI Claims Org - Salesforce Shield | D7: 1 | E7: =C7*D7*12 -> 0 | G7: 1 | H7: =F7*G7*12 -> 0 | J7: =E7+H7 -> 0 | M7: 1 | N7: =L7*M7*12 -> 0 | P7: 1 | Q7: =O7*P7*12 -> 0
A8: 4 | B8: EDD UI Claims Org - Government Cloud Plus | D8: 1 | E8: =C8*D8*12 -> 0 | G8: 1 | H8: =F8*G8*12 -> 0 | J8: =E8+H8 -> 0 | M8: 1 | N8: =L8*M8*12 -> 0 | P8: 1 | Q8: =O8*P8*12 -> 0
A9: 5 | B9: EDD UI Claims Org - Sandbox (Full Copy) | D9: 1 | E9: =C9*D9*12 -> 0 | G9: 1 | H9: =F9*G9*12 -> 0 | J9: =E9+H9 -> 0 | M9: 1 | N9: =L9*M9*12 -> 0 | P9: 1 | Q9: =O9*P9*12 -> 0
A10: 6 | B10: EDD UI Claims Org - Service Cloud - Unlimited Edition (Restricted Use) | C10: 0 | D10: 2455 | E10: =C10*D10*12 -> 0 | F10: 0 | G10: 2455 | H10: =F10*G10*12 -> 0 | J10: =E10+H10 -> 0 | M10: 2455 | N10: =L10*M10*12 -> 0 | P10: 2455 | Q10: =O10*P10*12 -> 0
A11: 7 | B11: CA-EDD Org - Salesforce Service Cloud- Unlimited Edition | D11: 355 | E11: =C11*D11*12 -> 0 | G11: 355 | H11: =F11*G11*12 -> 0 | J11: =E11+H11 -> 0 | M11: 355 | N11: =L11*M11*12 -> 0 | P11: 355 | Q11: =O11*P11*12 -> 0
A12: 8 | B12: CA-EDD Org - Customer Community Plus- Unlimited Edition - Logins (Per Month) | D12: 50000 | E12: =C12*D12*12 -> 0 | G12: 50000 | H12: =F12*G12*12 -> 0 | J12: =E12+H12 -> 0 | M12: 50000 | N12: =L12*M12*12 -> 0 | P12: 50000 | Q12: =O12*P12*12 -> 0
A13: 9 | B13: CA-EDD Org - Government Cloud Plus | D13: 1 | E13: =C13*D13*12 -> 0 | G13: 1 | H13: =F13*G13*12 -> 0 | J13: =E13+H13 -> 0 | M13: 1 | N13: =L13*M13*12 -> 0 | P13: 1 | Q13: =O13*P13*12 -> 0
A14: 10 | B14: CA-EDD Org - Salesforce Shield | D14: 1 | E14: =C14*D14*12 -> 0 | G14: 1 | H14: =F14*G14*12 -> 0 | J14: =E14+H14 -> 0 | M14: 1 | N14: =L14*M14*12 -> 0 | P14: 1 | Q14: =O14*P14*12 -> 0
A15: 11 | B15: CA-EDD Org - Service Cloud - Unlimited Edition (Restricted Use) | C15: 0 | D15: 10300 | E15: =C15*D15*12 -> 0 | F15: 0 | G15: 10300 | H15: =F15*G15*12 -> 0 | J15: =E15+H15 -> 0 | M15: 10300 | N15: =L15*M15*12 -> 0 | P15: 10300 | Q15: =O15*P15*12 -> 0
A16: 12 | B16: CA-EDD Org - Nintex - Auto DDP Add On (Up to 50000 Runs)-Fed Ramp IL2 | D16: 1 | E16: =C16*D16*12 -> 0 | G16: 1 | H16: =F16*G16*12 -> 0 | J16: =E16+H16 -> 0 | M16: 1 | N16: =L16*M16*12 -> 0 | P16: 1 | Q16: =O16*P16*12 -> 0
A17: 13 | B17: CA-EDD Org - Nintex - DocAutomation-5000 Auto DDPs - 10 WF/DDP-FedRamp IL2 | D17: 1 | E17: =C17*D17*12 -> 0 | G17: 1 | H17: =F17*G17*12 -> 0 | J17: =E17+H17 -> 0 | M17: 1 | N17: =L17*M17*12 -> 0 | P17: 1 | Q17: =O17*P17*12 -> 0
A18: 14 | B18: Contact Center Org - Salesforce Service Cloud- Unlimited Edition | D18: 2100 | E18: =C18*D18*12 -> 0 | G18: 2100 | H18: =F18*G18*12 -> 0 | J18: =E18+H18 -> 0 | M18: 2100 | N18: =L18*M18*12 -> 0 | P18: 2100 | Q18: =O18*P18*12 -> 0
A19: 15 | B19: Contact Center Org - Customer Community Plus- Unlimited Edition - Logins (Per Month) | D19: 15000 | E19: =C19*D19*12 -> 0 | G19: 15000 | H19: =F19*G19*12 -> 0 | J19: =E19+H19 -> 0 | M19: 15000 | N19: =L19*M19*12 -> 0 | P19: 15000 | Q19: =O19*P19*12 -> 0
A20: 16 | B20: Contact Center Org - Government Cloud Plus | D20: 1 | E20: =C20*D20*12 -> 0 | G20: 1 | H20: =F20*G20*12 -> 0 | J20: =E20+H20 -> 0 | M20: 1 | N20: =L20*M20*12 -> 0 | P20: 1 | Q20: =O20*P20*12 -> 0
A21: 17 | B21: Contact Center Org - Salesforce Shield | D21: 1 | E21: =C21*D21*12 -> 0 | G21: 1 | H21: =F21*G21*12 -> 0 | J21: =E21+H21 -> 0 | M21: 1 | N21: =L21*M21*12 -> 0 | P21: 1 | Q21: =O21*P21*12 -> 0
A22: 18 | B22: Contact Center Org - Service Cloud - Unlimited Edition (Restricted Use) | C22: 0 | D22: 8555 | E22: =C22*D22*12 -> 0 | F22: 0 | G22: 8555 | H22: =F22*G22*12 -> 0 | J22: =E22+H22 -> 0 | M22: 8555 | N22: =L22*M22*12 -> 0 | P22: 8555 | Q22: =O22*P22*12 -> 0
A23: 19 | B23: Sender Authentication Package | C23: 0 | D23: 1 | E23: =C23*D23*12 -> 0 | F23: 0 | G23: 1 | H23: =F23*G23*12 -> 0 | J23: =E23+H23 -> 0 | M23: 1 | N23: =L23*M23*12 -> 0 | P23: 1 | Q23: =O23*P23*12 -> 0
A24: 20 | B24: Additional Business Unit (+1) | D24: 2 | E24: =C24*D24*12 -> 0 | G24: 2 | H24: =F24*G24*12 -> 0 | J24: =E24+H24 -> 0 | M24: 2 | N24: =L24*M24*12 -> 0 | P24: 2 | Q24: =O24*P24*12 -> 0
A25: 21 | B25: Premier Success Plan - Marketing Cloud Account Engagement 30% of Net Price | D25: 1 | E25: =C25*D25*12 -> 0 | G25: 1 | H25: =F25*G25*12 -> 0 | J25: =E25+H25 -> 0 | M25: 1 | N25: =L25*M25*12 -> 0 | P25: 1 | Q25: =O25*P25*12 -> 0
A26: 22 | B26: Super Messages - Excluding SMS/MMS (1,000) | D26: 15000 | E26: =C26*D26*12 -> 0 | G26: 15000 | H26: =F26*G26*12 -> 0 | J26: =E26+H26 -> 0 | M26: 15000 | N26: =L26*M26*12 -> 0 | P26: 15000 | Q26: =O26*P26*12 -> 0
A27: 23 | B27: SMS/MMS Short Code One Time Setup - (AR, EC, ES, FR, JP, MY, MX, SE, US) | C27: 0 | D27: 1 | E27: =C27*D27*12 -> 0 | F27: 0 | G27: 1 | H27: =F27*G27*12 -> 0 | J27: =E27+H27 -> 0 | M27: 1 | N27: =L27*M27*12 -> 0 | P27: 1 | Q27: =O27*P27*12 -> 0
A28: 24 | B28: SMS/MMS Mobile Messages (1,000) | D28: 20000 | E28: =C28*D28*12 -> 0 | G28: 20000 | H28: =F28*G28*12 -> 0 | J28: =E28+H28 -> 0 | M28: 20000 | N28: =L28*M28*12 -> 0 | P28: 20000 | Q28: =O28*P28*12 -> 0
A29: 25 | B29: SMS/MMS Code Lease - No Charge with Edition | C29: 0 | D29: 1 | E29: =C29*D29*12 -> 0 | F29: 0 | G29: 1 | H29: =F29*G29*12 -> 0 | J29: =E29+H29 -> 0 | M29: 1 | N29: =L29*M29*12 -> 0 | P29: 1 | Q29: =O29*P29*12 -> 0
A30: 26 | B30: Additional Contacts - Corporate Edition (1,000) | D30: 7455 | E30: =C30*D30*12 -> 0 | G30: 7455 | H30: =F30*G30*12 -> 0 | J30: =E30+H30 -> 0 | M30: 7455 | N30: =L30*M30*12 -> 0 | P30: 7455 | Q30: =O30*P30*12 -> 0
A31: 27 | B31: SSL Certificate | D31: 4 | E31: =C31*D31*12 -> 0 | G31: 4 | H31: =F31*G31*12 -> 0 | J31: =E31+H31 -> 0 | M31: 4 | N31: =L31*M31*12 -> 0 | P31: 4 | Q31: =O31*P31*12 -> 0
A32: 28 | B32: Marketing Cloud Engagement - Corporate Edition | D32: 1 | E32: =C32*D32*12 -> 0 | G32: 1 | H32: =F32*G32*12 -> 0 | J32: =E32+H32 -> 0 | M32: 1 | N32: =L32*M32*12 -> 0 | P32: 1 | Q32: =O32*P32*12 -> 0
A33: 29 | B33: Private Domain | D33: 1 | E33: =C33*D33*12 -> 0 | G33: 1 | H33: =F33*G33*12 -> 0 | J33: =E33+H33 -> 0 | M33: 1 | N33: =L33*M33*12 -> 0 | P33: 1 | Q33: =O33*P33*12 -> 0
A34: 30 | B34: Sender Authentication Package | C34: 0 | D34: 1 | E34: =C34*D34*12 -> 0 | F34: 0 | G34: 1 | H34: =F34*G34*12 -> 0 | J34: =E34+H34 -> 0 | M34: 1 | N34: =L34*M34*12 -> 0 | P34: 1 | Q34: =O34*P34*12 -> 0
A35: 31 | B35: Additional Business Unit (+1) | D35: 2 | E35: =C35*D35*12 -> 0 | G35: 2 | H35: =F35*G35*12 -> 0 | J35: =E35+H35 -> 0 | M35: 2 | N35: =L35*M35*12 -> 0 | P35: 2 | Q35: =O35*P35*12 -> 0
A36: 32 | B36: Premier Success Plan - Marketing Cloud Account Engagement 30% of Net Price | D36: 1 | E36: =C36*D36*12 -> 0 | G36: 1 | H36: =F36*G36*12 -> 0 | J36: =E36+H36 -> 0 | M36: 1 | N36: =L36*M36*12 -> 0 | P36: 1 | Q36: =O36*P36*12 -> 0
A37: 33 | B37: Super Messages - Excluding SMS/MMS (1,000) | D37: 15000 | E37: =C37*D37*12 -> 0 | G37: 15000 | H37: =F37*G37*12 -> 0 | J37: =E37+H37 -> 0 | M37: 15000 | N37: =L37*M37*12 -> 0 | P37: 15000 | Q37: =O37*P37*12 -> 0
A38: 34 | B38: SMS/MMS Short Code One Time Setup - (AR, EC, ES, FR, JP, MY, MX, SE, US) | C38: 0 | D38: 1 | E38: =C38*D38*12 -> 0 | F38: 0 | G38: 1 | H38: =F38*G38*12 -> 0 | J38: =E38+H38 -> 0 | M38: 1 | N38: =L38*M38*12 -> 0 | P38: 1 | Q38: =O38*P38*12 -> 0
A39: 35 | B39: SMS/MMS Mobile Messages (1,000) | D39: 20000 | E39: =C39*D39*12 -> 0 | G39: 20000 | H39: =F39*G39*12 -> 0 | J39: =E39+H39 -> 0 | M39: 20000 | N39: =L39*M39*12 -> 0 | P39: 20000 | Q39: =O39*P39*12 -> 0
A40: 36 | B40: SMS/MMS Code Lease - No Charge with Edition | C40: 0 | D40: 1 | E40: =C40*D40*12 -> 0 | F40: 0 | G40: 1 | H40: =F40*G40*12 -> 0 | J40: =E40+H40 -> 0 | M40: 1 | N40: =L40*M40*12 -> 0 | P40: 1 | Q40: =O40*P40*12 -> 0
A41: 37 | B41: Additional Contacts - Corporate Edition (1,000) | D41: 7455 | E41: =C41*D41*12 -> 0 | G41: 7455 | H41: =F41*G41*12 -> 0 | J41: =E41+H41 -> 0 | M41: 7455 | N41: =L41*M41*12 -> 0 | P41: 7455 | Q41: =O41*P41*12 -> 0
A42: 38 | B42: SSL Certificate | D42: 4 | E42: =C42*D42*12 -> 0 | G42: 4 | H42: =F42*G42*12 -> 0 | J42: =E42+H42 -> 0 | M42: 4 | N42: =L42*M42*12 -> 0 | P42: 4 | Q42: =O42*P42*12 -> 0
A43: 39 | B43: Marketing Cloud Engagement - Corporate Edition | D43: 1 | E43: =C43*D43*12 -> 0 | G43: 1 | H43: =F43*G43*12 -> 0 | J43: =E43+H43 -> 0 | M43: 1 | N43: =L43*M43*12 -> 0 | P43: 1 | Q43: =O43*P43*12 -> 0
A44: 40 | B44: Private Domain | D44: 1 | E44: =C44*D44*12 -> 0 | G44: 1 | H44: =F44*G44*12 -> 0 | J44: =E44+H44 -> 0 | M44: 1 | N44: =L44*M44*12 -> 0 | P44: 1 | Q44: =O44*P44*12 -> 0
A46: Subscription Total Cost | E46: =SUM(E5:E44) -> 0 | H46: =SUM(H5:H44) -> 0 | J46: =SUM(J5:J44) -> 0 | N46: =SUM(N5:N44) -> 0 | Q46: =SUM(Q5:Q44) -> 0

Sheet D. Expanded SF License Count
A1: Bidder Name
A2: Worksheet : Expanded Salesforce Licenses
A3: Item # | B3: Description | C3: Year 1 | F3: Year 2 | J3: Total Cost Per Line Item | L3: Optional Year 1 | O3: Optional Year 2 | S3: Proposed Equivalent Software (optional) | T3: Notes (optional)
C4: Monthly Cost Per User/Item | D4: Qty. | E4: Extended Cost | F4: Monthly Cost Per User/Item | G4: Qty. | H4: Extended Cost | L4: Monthly Cost Per User/Item | M4: Qty. | N4: Extended Cost | O4: Monthly Cost Per User/Item | P4: Qty. | Q4: Extended Cost
B5: Option #1
A6: 1 | B6: EDD UI Claims Org - Salesforce Service Cloud- Unlimited Edition | D6: 9545 | E6: =C6*D6*12 -> 0 | G6: 9545 | H6: =F6*G6*12 -> 0 | J6: =E6+H6 -> 0 | M6: 9545 | N6: =L6*M6*12 -> 0 | P6: 9545 | Q6: =O6*P6*12 -> 0
A7: 2 | B7: EDD UI Claims Org - Customer Community Plus- Unlimited Edition - Logins (Per Month) | D7: 5315000 | E7: =C7*D7*12 -> 0 | G7: 5315000 | H7: =F7*G7*12 -> 0 | J7: =E7+H7 -> 0 | M7: 5315000 | N7: =L7*M7*12 -> 0 | P7: 5315000 | Q7: =O7*P7*12 -> 0
A8: 3 | B8: EDD UI Claims Org - Salesforce Shield | D8: 1 | E8: =C8*D8*12 -> 0 | G8: 1 | H8: =F8*G8*12 -> 0 | J8: =E8+H8 -> 0 | M8: 1 | N8: =L8*M8*12 -> 0 | P8: 1 | Q8: =O8*P8*12 -> 0
A9: 4 | B9: EDD UI Claims Org - Government Cloud Plus | D9: 1 | E9: =C9*D9*12 -> 0 | G9: 1 | H9: =F9*G9*12 -> 0 | J9: =E9+H9 -> 0 | M9: 1 | N9: =L9*M9*12 -> 0 | P9: 1 | Q9: =O9*P9*12 -> 0
A10: 5 | B10: EDD UI Claims Org - Sandbox (Full Copy) | D10: 1 | E10: =C10*D10*12 -> 0 | G10: 1 | H10: =F10*G10*12 -> 0 | J10: =E10+H10 -> 0 | M10: 1 | N10: =L10*M10*12 -> 0 | P10: 1 | Q10: =O10*P10*12 -> 0
A11: 6 | B11: EDD UI Claims Org - Service Cloud - Unlimited Edition (Restricted Use) | C11: 0 | D11: 2455 | E11: =C11*D11*12 -> 0 | F11: 0 | G11: 2455 | H11: =F11*G11*12 -> 0 | J11: =E11+H11 -> 0 | L11: 0 | M11: 2455 | N11: =L11*M11*12 -> 0 | O11: 0 | P11: 2455 | Q11: =O11*P11*12 -> 0
A12: 7 | B12: CA-EDD Org - Service Cloud - Unlimited Edition (Restricted Use) | C12: 0 | D12: 11645 | E12: =C12*D12*12 -> 0 | F12: 0 | G12: 11645 | H12: =F12*G12*12 -> 0 | J12: =E12+H12 -> 0 | L12: 0 | M12: 11645 | N12: =L12*M12*12 -> 0 | O12: 0 | P12: 11645 | Q12: =O12*P12*12 -> 0
A13: 8 | B13: Contact Center Org - Service Cloud - Unlimited Edition (Restricted Use) | C13: 0 | D13: 9900 | E13: =C13*D13*12 -> 0 | F13: 0 | G13: 9900 | H13: =F13*G13*12 -> 0 | J13: =E13+H13 -> 0 | L13: 0 | M13: 9900 | N13: =L13*M13*12 -> 0 | O13: 0 | P13: 9900 | Q13: =O13*P13*12 -> 0
A14: Option #1 Subscription Total Cost | E14: =SUM(E6:E13) -> 0 | H14: =SUM(H6:H13) -> 0 | J14: =SUM(J6:J13) -> 0 | N14: =SUM(N6:N13) -> 0 | Q14: =SUM(Q6:Q13) -> 0
B16: Option #2
A17: 1 | B17: EDD UI Claims Org - Salesforce Service Cloud- Unlimited Edition | D17: 11045 | E17: =C17*D17*12 -> 0 | G17: 11045 | H17: =F17*G17*12 -> 0 | J17: =E17+H17 -> 0 | M17: 11045 | N17: =L17*M17*12 -> 0 | P17: 11045 | Q17: =O17*P17*12 -> 0
A18: 2 | B18: EDD UI Claims Org - Customer Community Plus- Unlimited Edition - Logins (Per Month) | D18: 5994000 | E18: =C18*D18*12 -> 0 | G18: 5994000 | H18: =F18*G18*12 -> 0 | J18: =E18+H18 -> 0 | M18: 5994000 | N18: =L18*M18*12 -> 0 | P18: 5994000 | Q18: =O18*P18*12 -> 0
A19: 3 | B19: EDD UI Claims Org - Salesforce Shield | D19: 1 | E19: =C19*D19*12 -> 0 | G19: 1 | H19: =F19*G19*12 -> 0 | J19: =E19+H19 -> 0 | M19: 1 | N19: =L19*M19*12 -> 0 | P19: 1 | Q19: =O19*P19*12 -> 0
A20: 4 | B20: EDD UI Claims Org - Government Cloud Plus | D20: 1 | E20: =C20*D20*12 -> 0 | G20: 1 | H20: =F20*G20*12 -> 0 | J20: =E20+H20 -> 0 | M20: 1 | N20: =L20*M20*12 -> 0 | P20: 1 | Q20: =O20*P20*12 -> 0
A21: 5 | B21: EDD UI Claims Org - Sandbox (Full Copy) | D21: 1 | E21: =C21*D21*12 -> 0 | G21: 1 | H21: =F21*G21*12 -> 0 | J21: =E21+H21 -> 0 | M21: 1 | N21: =L21*M21*12 -> 0 | P21: 1 | Q21: =O21*P21*12 -> 0
A22: 6 | B22: EDD UI Claims Org - Service Cloud - Unlimited Edition (Restricted Use) | C22: 0 | D22: 2455 | E22: =C22*D22*12 -> 0 | F22: 0 | G22: 2455 | H22: =F22*G22*12 -> 0 | J22: =E22+H22 -> 0 | L22: 0 | M22: 2455 | N22: =L22*M22*12 -> 0 | O22: 0 | P22: 2455 | Q22: =O22*P22*12 -> 0
A23: 7 | B23: CA-EDD Org - Service Cloud - Unlimited Edition (Restricted Use) | C23: 0 | D23: 13145 | E23: =C23*D23*12 -> 0 | F23: 0 | G23: 13145 | H23: =F23*G23*12 -> 0 | J23: =E23+H23 -> 0 | L23: 0 | M23: 13145 | N23: =L23*M23*12 -> 0 | O23: 0 | P23: 13145 | Q23: =O23*P23*12 -> 0
A24: 8 | B24: Contact Center Org - Service Cloud - Unlimited Edition (Restricted Use) | C24: 0 | D24: 11400 | E24: =C24*D24*12 -> 0 | F24: 0 | G24: 11400 | H24: =F24*G24*12 -> 0 | J24: =E24+H24 -> 0 | L24: 0 | M24: 11400 | N24: =L24*M24*12 -> 0 | O24: 0 | P24: 11400 | Q24: =O24*P24*12 -> 0
A25: Option #2 Subscription Total Cost | E25: =SUM(E17:E24) -> 0 | H25: =SUM(H17:H24) -> 0 | J25: =SUM(J17:J24) -> 0 | N25: =SUM(N17:N24) -> 0 | Q25: =SUM(Q17:Q24) -> 0
B27: Option #3
A28: 1 | B28: EDD UI Claims Org - Salesforce Service Cloud- Unlimited Edition | D28: 12545 | E28: =C28*D28*12 -> 0 | G28: 12545 | H28: =F28*G28*12 -> 0 | J28: =E28+H28 -> 0 | M28: 12545 | N28: =L28*M28*12 -> 0 | P28: 12545 | Q28: =O28*P28*12 -> 0
A29: 2 | B29: EDD UI Claims Org - Customer Community Plus- Unlimited Edition - Logins (Per Month) | D29: 6380000 | E29: =C29*D29*12 -> 0 | G29: 6380000 | H29: =F29*G29*12 -> 0 | J29: =E29+H29 -> 0 | M29: 6380000 | N29: =L29*M29*12 -> 0 | P29: 6380000 | Q29: =O29*P29*12 -> 0
A30: 3 | B30: EDD UI Claims Org - Salesforce Shield | D30: 1 | E30: =C30*D30*12 -> 0 | G30: 1 | H30: =F30*G30*12 -> 0 | J30: =E30+H30 -> 0 | M30: 1 | N30: =L30*M30*12 -> 0 | P30: 1 | Q30: =O30*P30*12 -> 0
A31: 4 | B31: EDD UI Claims Org - Government Cloud Plus | D31: 1 | E31: =C31*D31*12 -> 0 | G31: 1 | H31: =F31*G31*12 -> 0 | J31: =E31+H31 -> 0 | M31: 1 | N31: =L31*M31*12 -> 0 | P31: 1 | Q31: =O31*P31*12 -> 0
A32: 5 | B32: EDD UI Claims Org - Sandbox (Full Copy) | D32: 1 | E32: =C32*D32*12 -> 0 | G32: 1 | H32: =F32*G32*12 -> 0 | J32: =E32+H32 -> 0 | M32: 1 | N32: =L32*M32*12 -> 0 | P32: 1 | Q32: =O32*P32*12 -> 0
A33: 6 | B33: EDD UI Claims Org - Service Cloud - Unlimited Edition (Restricted Use) | C33: 0 | D33: 2455 | E33: =C33*D33*12 -> 0 | F33: 0 | G33: 2455 | H33: =F33*G33*12 -> 0 | J33: =E33+H33 -> 0 | L33: 0 | M33: 2455 | N33: =L33*M33*12 -> 0 | O33: 0 | P33: 2455 | Q33: =O33*P33*12 -> 0
A34: 7 | B34: CA-EDD Org - Service Cloud - Unlimited Edition (Restricted Use) | C34: 0 | D34: 14645 | E34: =C34*D34*12 -> 0 | F34: 0 | G34: 14645 | H34: =F34*G34*12 -> 0 | J34: =E34+H34 -> 0 | L34: 0 | M34: 14645 | N34: =L34*M34*12 -> 0 | O34: 0 | P34: 14645 | Q34: =O34*P34*12 -> 0
A35: 8 | B35: Contact Center Org - Service Cloud - Unlimited Edition (Restricted Use) | C35: 0 | D35: 12900 | E35: =C35*D35*12 -> 0 | F35: 0 | G35: 12900 | H35: =F35*G35*12 -> 0 | J35: =E35+H35 -> 0 | L35: 0 | M35: 12900 | N35: =L35*M35*12 -> 0 | O35: 0 | P35: 12900 | Q35: =O35*P35*12 -> 0
A36: Option #3 Subscription Total Cost | E36: =SUM(E28:E35) -> 0 | H36: =SUM(H28:H35) -> 0 | J36: =SUM(J28:J35) -> 0 | N36: =SUM(N28:N35) -> 0 | Q36: =SUM(Q28:Q35) -> 0

Sheet E. Reduced SF License Count
A1: Bidder Name
A2: Worksheet : Reduced Salesforce Licenses
A3: Item # | B3: Description | C3: Year 1 | F3: Year 2 | J3: Total Cost Per Line Item | L3: Optional Year 1 | O3: Optional Year 2 | S3: Proposed Equivalent Software (optional) | T3: Notes (optional)
C4: Monthly Cost Per User/Item | D4: Qty. | E4: Extended Cost | F4: Monthly Cost Per User/Item | G4: Qty. | H4: Extended Cost | L4: Monthly Cost Per User/Item | M4: Qty. | N4: Extended Cost | O4: Monthly Cost Per User/Item | P4: Qty. | Q4: Extended Cost
B5: Option #1
A6: 1 | B6: EDD UI Claims Org - Salesforce Service Cloud- Unlimited Edition | D6: 6545 | E6: =C6*D6*12 -> 0 | G6: 6545 | H6: =F6*G6*12 -> 0 | J6: =E6+H6 -> 0 | M6: 6545 | N6: =L6*M6*12 -> 0 | P6: 6545 | Q6: =O6*P6*12 -> 0
A7: 2 | B7: EDD UI Claims Org - Customer Community Plus- Unlimited Edition - Logins (Per Month) | D7: 3900000 | E7: =C7*D7*12 -> 0 | G7: 3900000 | H7: =F7*G7*12 -> 0 | J7: =E7+H7 -> 0 | M7: 3900000 | N7: =L7*M7*12 -> 0 | P7: 3900000 | Q7: =O7*P7*12 -> 0
A8: 3 | B8: EDD UI Claims Org - Salesforce Shield | D8: 1 | E8: =C8*D8*12 -> 0 | G8: 1 | H8: =F8*G8*12 -> 0 | J8: =E8+H8 -> 0 | M8: 1 | N8: =L8*M8*12 -> 0 | P8: 1 | Q8: =O8*P8*12 -> 0
A9: 4 | B9: EDD UI Claims Org - Government Cloud Plus | D9: 1 | E9: =C9*D9*12 -> 0 | G9: 1 | H9: =F9*G9*12 -> 0 | J9: =E9+H9 -> 0 | M9: 1 | N9: =L9*M9*12 -> 0 | P9: 1 | Q9: =O9*P9*12 -> 0
A10: 5 | B10: EDD UI Claims Org - Sandbox (Full Copy) | D10: 1 | E10: =C10*D10*12 -> 0 | G10: 1 | H10: =F10*G10*12 -> 0 | J10: =E10+H10 -> 0 | M10: 1 | N10: =L10*M10*12 -> 0 | P10: 1 | Q10: =O10*P10*12 -> 0
A11: 6 | B11: EDD UI Claims Org - Service Cloud - Unlimited Edition (Restricted Use) | C11: 0 | D11: 2455 | E11: =C11*D11*12 -> 0 | F11: 0 | G11: 2455 | H11: =F11*G11*12 -> 0 | J11: =E11+H11 -> 0 | L11: 0 | M11: 2455 | N11: =L11*M11*12 -> 0 | O11: 0 | P11: 2455 | Q11: =O11*P11*12 -> 0
A12: 7 | B12: CA-EDD Org - Service Cloud - Unlimited Edition (Restricted Use) | C12: 0 | D12: 8645 | E12: =C12*D12*12 -> 0 | F12: 0 | G12: 8645 | H12: =F12*G12*12 -> 0 | J12: =E12+H12 -> 0 | L12: 0 | M12: 8645 | N12: =L12*M12*12 -> 0 | O12: 0 | P12: 8645 | Q12: =O12*P12*12 -> 0
A13: 8 | B13: Contact Center Org - Service Cloud - Unlimited Edition (Restricted Use) | C13: 0 | D13: 6900 | E13: =C13*D13*12 -> 0 | F13: 0 | G13: 6900 | H13: =F13*G13*12 -> 0 | J13: =E13+H13 -> 0 | L13: 0 | M13: 6900 | N13: =L13*M13*12 -> 0 | O13: 0 | P13: 6900 | Q13: =O13*P13*12 -> 0
A14: Option #1 Subscription Total Cost | E14: =SUM(E6:E13) -> 0 | H14: =SUM(H6:H13) -> 0 | J14: =SUM(J6:J13) -> 0 | N14: =SUM(N6:N13) -> 0 | Q14: =SUM(Q6:Q13) -> 0
B16: Option #2
A17: 1 | B17: EDD UI Claims Org - Salesforce Service Cloud- Unlimited Edition | D17: 5545 | E17: =C17*D17*12 -> 0 | G17: 5545 | H17: =F17*G17*12 -> 0 | J17: =E17+H17 -> 0 | M17: 5545 | N17: =L17*M17*12 -> 0 | P17: 5545 | Q17: =O17*P17*12 -> 0
A18: 2 | B18: EDD UI Claims Org - Customer Community Plus- Unlimited Edition - Logins (Per Month) | D18: 2500000 | E18: =C18*D18*12 -> 0 | G18: 2500000 | H18: =F18*G18*12 -> 0 | J18: =E18+H18 -> 0 | M18: 2500000 | N18: =L18*M18*12 -> 0 | P18: 2500000 | Q18: =O18*P18*12 -> 0
A19: 3 | B19: EDD UI Claims Org - Salesforce Shield | D19: 1 | E19: =C19*D19*12 -> 0 | G19: 1 | H19: =F19*G19*12 -> 0 | J19: =E19+H19 -> 0 | M19: 1 | N19: =L19*M19*12 -> 0 | P19: 1 | Q19: =O19*P19*12 -> 0
A20: 4 | B20: EDD UI Claims Org - Government Cloud Plus | D20: 1 | E20: =C20*D20*12 -> 0 | G20: 1 | H20: =F20*G20*12 -> 0 | J20: =E20+H20 -> 0 | M20: 1 | N20: =L20*M20*12 -> 0 | P20: 1 | Q20: =O20*P20*12 -> 0
A21: 5 | B21: EDD UI Claims Org - Sandbox (Full Copy) | D21: 1 | E21: =C21*D21*12 -> 0 | G21: 1 | H21: =F21*G21*12 -> 0 | J21: =E21+H21 -> 0 | M21: 1 | N21: =L21*M21*12 -> 0 | P21: 1 | Q21: =O21*P21*12 -> 0
A22: 6 | B22: EDD UI Claims Org - Service Cloud - Unlimited Edition (Restricted Use) | C22: 0 | D22: 2455 | E22: =C22*D22*12 -> 0 | F22: 0 | G22: 2455 | H22: =F22*G22*12 -> 0 | J22: =E22+H22 -> 0 | L22: 0 | M22: 2455 | N22: =L22*M22*12 -> 0 | O22: 0 | P22: 2455 | Q22: =O22*P22*12 -> 0
A23: 7 | B23: CA-EDD Org - Service Cloud - Unlimited Edition (Restricted Use) | C23: 0 | D23: 7645 | E23: =C23*D23*12 -> 0 | F23: 0 | G23: 7645 | H23: =F23*G23*12 -> 0 | J23: =E23+H23 -> 0 | L23: 0 | M23: 7645 | N23: =L23*M23*12 -> 0 | O23: 0 | P23: 7645 | Q23: =O23*P23*12 -> 0
A24: 8 | B24: Contact Center Org - Service Cloud - Unlimited Edition (Restricted Use) | C24: 0 | D24: 5900 | E24: =C24*D24*12 -> 0 | F24: 0 | G24: 5900 | H24: =F24*G24*12 -> 0 | J24: =E24+H24 -> 0 | L24: 0 | M24: 5900 | N24: =L24*M24*12 -> 0 | O24: 0 | P24: 5900 | Q24: =O24*P24*12 -> 0
A25: Option #2 Subscription Total Cost | E25: =SUM(E17:E24) -> 0 | H25: =SUM(H17:H24) -> 0 | J25: =SUM(J17:J24) -> 0 | N25: =SUM(N17:N24) -> 0 | Q25: =SUM(Q17:Q24) -> 0
B27: Option #3
A28: 1 | B28: EDD UI Claims Org - Salesforce Service Cloud- Unlimited Edition | D28: 4295 | E28: =C28*D28*12 -> 0 | G28: 4295 | H28: =F28*G28*12 -> 0 | J28: =E28+H28 -> 0 | M28: 4295 | N28: =L28*M28*12 -> 0 | P28: 4295 | Q28: =O28*P28*12 -> 0
A29: 2 | B29: EDD UI Claims Org - Customer Community Plus- Unlimited Edition - Logins (Per Month) | D29: 1000000 | E29: =C29*D29*12 -> 0 | G29: 1000000 | H29: =F29*G29*12 -> 0 | J29: =E29+H29 -> 0 | M29: 1000000 | N29: =L29*M29*12 -> 0 | P29: 1000000 | Q29: =O29*P29*12 -> 0
A30: 3 | B30: EDD UI Claims Org - Salesforce Shield | D30: 1 | E30: =C30*D30*12 -> 0 | G30: 1 | H30: =F30*G30*12 -> 0 | J30: =E30+H30 -> 0 | M30: 1 | N30: =L30*M30*12 -> 0 | P30: 1 | Q30: =O30*P30*12 -> 0
A31: 4 | B31: EDD UI Claims Org - Government Cloud Plus | D31: 1 | E31: =C31*D31*12 -> 0 | G31: 1 | H31: =F31*G31*12 -> 0 | J31: =E31+H31 -> 0 | M31: 1 | N31: =L31*M31*12 -> 0 | P31: 1 | Q31: =O31*P31*12 -> 0
A32: 5 | B32: EDD UI Claims Org - Sandbox (Full Copy) | D32: 1 | E32: =C32*D32*12 -> 0 | G32: 1 | H32: =F32*G32*12 -> 0 | J32: =E32+H32 -> 0 | M32: 1 | N32: =L32*M32*12 -> 0 | P32: 1 | Q32: =O32*P32*12 -> 0
A33: 6 | B33: EDD UI Claims Org - Service Cloud - Unlimited Edition (Restricted Use) | C33: 0 | D33: 2455 | E33: =C33*D33*12 -> 0 | F33: 0 | G33: 2455 | H33: =F33*G33*12 -> 0 | J33: =E33+H33 -> 0 | L33: 0 | M33: 2455 | N33: =L33*M33*12 -> 0 | O33: 0 | P33: 2455 | Q33: =O33*P33*12 -> 0
A34: 7 | B34: CA-EDD Org - Service Cloud - Unlimited Edition (Restricted Use) | C34: 0 | D34: 6395 | E34: =C34*D34*12 -> 0 | F34: 0 | G34: 6395 | H34: =F34*G34*12 -> 0 | J34: =E34+H34 -> 0 | L34: 0 | M34: 6395 | N34: =L34*M34*12 -> 0 | O34: 0 | P34: 6395 | Q34: =O34*P34*12 -> 0
A35: 8 | B35: Contact Center Org - Service Cloud - Unlimited Edition (Restricted Use) | C35: 0 | D35: 4650 | E35: =C35*D35*12 -> 0 | F35: 0 | G35: 4650 | H35: =F35*G35*12 -> 0 | J35: =E35+H35 -> 0 | L35: 0 | M35: 4650 | N35: =L35*M35*12 -> 0 | O35: 0 | P35: 4650 | Q35: =O35*P35*12 -> 0
A36: Option #3 Subscription Total Cost | E36: =SUM(E28:E35) -> 0 | H36: =SUM(H28:H35) -> 0 | J36: =SUM(J28:J35) -> 0 | N36: =SUM(N28:N35) -> 0 | Q36: =SUM(Q28:Q35) -> 0

Sheet F. SystemImprovementActivities
A1: Bidder Name | C1: <Insert Bidder Name in Instructions worksheet>
A2: Worksheet F: System Improvement Activities
A3: Current Backlog | F3: Future Backlog
A4: UI Claims Org
A5: Item # | B5: Epic ID (Please refer Exhibit B Backlog) | C5: Total Cost ($) | F5: Item # | G5: Size | H5: Description | I5: Price Range
A6: 1 | B6: UI_CLAIMS-1 | F6: 41 | G6: Small | H6: Minor enhancements, low complexity
A7: 2 | B7: UI_CLAIMS-2 | F7: 42 | G7: Medium | H7: Moderate development effort
A8: 3 | B8: UI_CLAIMS-3 | F8: 43 | G8: Large | H8: Major changes or new components
A9: 4 | B9: UI_CLAIMS-4
A10: 5 | B10: UI_CLAIMS-5
A11: 6 | B11: UI_CLAIMS-6
A12: 7 | B12: UI_CLAIMS-7
A13: 8 | B13: UI_CLAIMS-8
A14: 9 | B14: UI_CLAIMS-9
A15: 10 | B15: UI_CLAIMS-10
A16: 11 | B16: UI_CLAIMS-11
A17: 12 | B17: UI_CLAIMS-12
A18: 13 | B18: UI_CLAIMS-13
A19: A | B19: Sub Total | C19: =SUM(C6:C18) -> 0
B20: CA EDD Org
A21: 14 | B21: CA_EDD-1
A22: 15 | B22: CA_EDD-2
A23: 16 | B23: CA_EDD-3
A24: 17 | B24: CA_EDD-4
A25: 18 | B25: CA_EDD-5
A26: 19 | B26: CA_EDD-6
A27: 20 | B27: CA_EDD-7
A28: 21 | B28: CA_EDD-8
A29: 22 | B29: CA_EDD-9
A30: 23 | B30: CA_EDD-10
A31: 24 | B31: CA_EDD-11
A32: 25 | B32: CA_EDD-12
A33: 26 | B33: CA_EDD-13
A34: B | B34: Sub Total | C34: =SUM(C21:C33) -> 0
B35: CC Org
A36: 27 | B36: CC_ORG-1
A37: 28 | B37: CC_ORG-2
A38: 29 | B38: CC_ORG-3
A39: 30 | B39: CC_ORG-4
A40: 31 | B40: CC_ORG-5
A41: 32 | B41: CC_ORG-6
A42: 33 | B42: CC_ORG-7
A43: 34 | B43: CC_ORG-8
A44: 35 | B44: CC_ORG-9
A45: 36 | B45: CC_ORG-10
A46: 37 | B46: CC_ORG-11
A47: 38 | B47: CC_ORG-12
... A49: 40 | B49: CC_ORG-14
A50: C | B50: Sub Total | C50: =SUM(C36:C49) -> 0
A51: Grand Total (A + B + C) | C51: =SUM(C50,C34,C19) -> 0
